BEGIN:VCALENDAR
VERSION:2.0
PRODID:-//West Columbia Gorge Chamber of Commerce - ECPv6.15.20//NONSGML v1.0//EN
CALSCALE:GREGORIAN
METHOD:PUBLISH
X-WR-CALNAME:West Columbia Gorge Chamber of Commerce
X-ORIGINAL-URL:https://westcolumbiagorgechamber.com
X-WR-CALDESC:Events for West Columbia Gorge Chamber of Commerce
REFRESH-INTERVAL;VALUE=DURATION:PT1H
X-Robots-Tag:noindex
X-PUBLISHED-TTL:PT1H
BEGIN:VTIMEZONE
TZID:America/Los_Angeles
BEGIN:DAYLIGHT
TZOFFSETFROM:-0800
TZOFFSETTO:-0700
TZNAME:PDT
DTSTART:20170312T100000
END:DAYLIGHT
BEGIN:STANDARD
TZOFFSETFROM:-0700
TZOFFSETTO:-0800
TZNAME:PST
DTSTART:20171105T090000
END:STANDARD
BEGIN:DAYLIGHT
TZOFFSETFROM:-0800
TZOFFSETTO:-0700
TZNAME:PDT
DTSTART:20180311T100000
END:DAYLIGHT
BEGIN:STANDARD
TZOFFSETFROM:-0700
TZOFFSETTO:-0800
TZNAME:PST
DTSTART:20181104T090000
END:STANDARD
BEGIN:DAYLIGHT
TZOFFSETFROM:-0800
TZOFFSETTO:-0700
TZNAME:PDT
DTSTART:20190310T100000
END:DAYLIGHT
BEGIN:STANDARD
TZOFFSETFROM:-0700
TZOFFSETTO:-0800
TZNAME:PST
DTSTART:20191103T090000
END:STANDARD
BEGIN:DAYLIGHT
TZOFFSETFROM:-0800
TZOFFSETTO:-0700
TZNAME:PDT
DTSTART:20200308T100000
END:DAYLIGHT
BEGIN:STANDARD
TZOFFSETFROM:-0700
TZOFFSETTO:-0800
TZNAME:PST
DTSTART:20201101T090000
END:STANDARD
END:VTIMEZONE
BEGIN:VEVENT
DTSTART;TZID=America/Los_Angeles:20181003T120000
DTEND;TZID=America/Los_Angeles:20181003T133000
DTSTAMP:20260425T061050
CREATED:20171011T214721Z
LAST-MODIFIED:20171011T214721Z
UID:8746-1538568000-1538573400@westcolumbiagorgechamber.com
SUMMARY:LOL: Learn Over Lunch with Cornerstone Studio
DESCRIPTION:Cornerstone Web Studio  \nwill be our guest speaker at Learn Over Lunch for  \nWednesday\, October 3rd \nNoon to 1:30 PM \nThe Rock Wood Fired Pizza\, 22401 NE Glisan St.\, Wood Village \nCome and learn from the experts in marketing! \n  \n  \n  \n~ Join us for a fun and educational networking opportunity while you enjoy a delicious meal ~ \n\nBring a guest ~ Bring your business cards!
URL:https://westcolumbiagorgechamber.com/event/lol-learn-over-lunch-22-2/
LOCATION:OR
CATEGORIES:Events - Chamber,Learn Over Lunchs
END:VEVENT
BEGIN:VEVENT
DTSTART;TZID=America/Los_Angeles:20181003T120000
DTEND;TZID=America/Los_Angeles:20181003T133000
DTSTAMP:20260425T061050
CREATED:20171011T214721Z
LAST-MODIFIED:20171011T214721Z
UID:5184-1538568000-1538573400@westcolumbiagorgechamber.com
SUMMARY:LOL: Learn Over Lunch with Cornerstone Studio
DESCRIPTION:Cornerstone Web Studio  \nwill be our guest speaker at Learn Over Lunch for  \nWednesday\, October 3rd \nNoon to 1:30 PM \nThe Rock Wood Fired Pizza\, 22401 NE Glisan St.\, Wood Village \nCome and learn from the experts in marketing! \n  \n  \n  \n~ Join us for a fun and educational networking opportunity while you enjoy a delicious meal ~ \n\nBring a guest ~ Bring your business cards!
URL:https://westcolumbiagorgechamber.com/event/lol-learn-over-lunch-22/
LOCATION:OR
CATEGORIES:Events - Chamber,Learn Over Lunchs
END:VEVENT
BEGIN:VEVENT
DTSTART;TZID=America/Los_Angeles:20181003T120000
DTEND;TZID=America/Los_Angeles:20181003T133000
DTSTAMP:20260425T061050
CREATED:20171011T214721Z
LAST-MODIFIED:20171011T214721Z
UID:9545-1538568000-1538573400@westcolumbiagorgechamber.com
SUMMARY:LOL: Learn Over Lunch with Cornerstone Studio
DESCRIPTION:Cornerstone Web Studio  \nwill be our guest speaker at Learn Over Lunch for  \nWednesday\, October 3rd \nNoon to 1:30 PM \nThe Rock Wood Fired Pizza\, 22401 NE Glisan St.\, Wood Village \nCome and learn from the experts in marketing! \n  \n  \n  \n~ Join us for a fun and educational networking opportunity while you enjoy a delicious meal ~ \n\nBring a guest ~ Bring your business cards!
URL:https://westcolumbiagorgechamber.com/event/lol-learn-over-lunch-22-4/
LOCATION:OR
CATEGORIES:Events - Chamber,Learn Over Lunchs
END:VEVENT
BEGIN:VEVENT
DTSTART;TZID=America/Los_Angeles:20181003T120000
DTEND;TZID=America/Los_Angeles:20181003T133000
DTSTAMP:20260425T061050
CREATED:20171011T214721Z
LAST-MODIFIED:20171011T214721Z
UID:8770-1538568000-1538573400@westcolumbiagorgechamber.com
SUMMARY:LOL: Learn Over Lunch with Cornerstone Studio
DESCRIPTION:Cornerstone Web Studio  \nwill be our guest speaker at Learn Over Lunch for  \nWednesday\, October 3rd \nNoon to 1:30 PM \nThe Rock Wood Fired Pizza\, 22401 NE Glisan St.\, Wood Village \nCome and learn from the experts in marketing! \n  \n  \n  \n~ Join us for a fun and educational networking opportunity while you enjoy a delicious meal ~ \n\nBring a guest ~ Bring your business cards!
URL:https://westcolumbiagorgechamber.com/event/lol-learn-over-lunch-22-3/
LOCATION:OR
CATEGORIES:Events - Chamber,Learn Over Lunchs
END:VEVENT
BEGIN:VEVENT
DTSTART;TZID=America/Los_Angeles:20190102T080000
DTEND;TZID=America/Los_Angeles:20190102T170000
DTSTAMP:20260425T061050
CREATED:20190102T191314Z
LAST-MODIFIED:20190102T191314Z
UID:8985-1546416000-1546448400@westcolumbiagorgechamber.com
SUMMARY:Learn Over Lunch
DESCRIPTION:Noon to 1:30 \nGuest speaker and location TBA
URL:https://westcolumbiagorgechamber.com/event/learn-over-lunch-6/
LOCATION:OR
CATEGORIES:Events - Chamber,Learn Over Lunchs
END:VEVENT
BEGIN:VEVENT
DTSTART;TZID=America/Los_Angeles:20190102T080000
DTEND;TZID=America/Los_Angeles:20190102T170000
DTSTAMP:20260425T061050
CREATED:20190102T191314Z
LAST-MODIFIED:20190102T191314Z
UID:6027-1546416000-1546448400@westcolumbiagorgechamber.com
SUMMARY:Learn Over Lunch
DESCRIPTION:Noon to 1:30 \nGuest speaker and location TBA
URL:https://westcolumbiagorgechamber.com/event/learn-over-lunch/
LOCATION:OR
CATEGORIES:Events - Chamber,Learn Over Lunchs
END:VEVENT
BEGIN:VEVENT
DTSTART;TZID=America/Los_Angeles:20190102T080000
DTEND;TZID=America/Los_Angeles:20190102T170000
DTSTAMP:20260425T061050
CREATED:20190102T191314Z
LAST-MODIFIED:20190102T191314Z
UID:9699-1546416000-1546448400@westcolumbiagorgechamber.com
SUMMARY:Learn Over Lunch
DESCRIPTION:Noon to 1:30 \nGuest speaker and location TBA
URL:https://westcolumbiagorgechamber.com/event/learn-over-lunch-9/
LOCATION:OR
CATEGORIES:Events - Chamber,Learn Over Lunchs
END:VEVENT
BEGIN:VEVENT
DTSTART;TZID=America/Los_Angeles:20190102T080000
DTEND;TZID=America/Los_Angeles:20190102T170000
DTSTAMP:20260425T061050
CREATED:20190102T191314Z
LAST-MODIFIED:20190102T191314Z
UID:9026-1546416000-1546448400@westcolumbiagorgechamber.com
SUMMARY:Learn Over Lunch
DESCRIPTION:Noon to 1:30 \nGuest speaker and location TBA
URL:https://westcolumbiagorgechamber.com/event/learn-over-lunch-8/
LOCATION:OR
CATEGORIES:Events - Chamber,Learn Over Lunchs
END:VEVENT
BEGIN:VEVENT
DTSTART;TZID=America/Los_Angeles:20190109T120000
DTEND;TZID=America/Los_Angeles:20190109T133000
DTSTAMP:20260425T061050
CREATED:20181012T000410Z
LAST-MODIFIED:20181012T000410Z
UID:8937-1547035200-1547040600@westcolumbiagorgechamber.com
SUMMARY:Learn Over Lunch with Oregon Saves
DESCRIPTION:  \nA representative from the Oregon State Treasury\, Ted Bender\, will be there to explain all about the Oregon Saves program. \nThis will be a great opportunity to ask questions and learn about this retirement savings program.  \n  \nWednesday\, January 9th \nNoon to 1:30pm \nat  \nBumper’s Grill & Bar \n21935 NE Halsey St #100 \nFairview\, OR 97024 \n  \nBring your business cards and bring a friend. \nIntroduce yourself and your business.  \nNetworking\, Food and Learning\, it’s a great combination! \nSee you there! \n  \n  \n 
URL:https://westcolumbiagorgechamber.com/event/learn-over-lunch-with-oregon-saves-2/
LOCATION:OR
CATEGORIES:Events - Chamber,Learn Over Lunchs
END:VEVENT
BEGIN:VEVENT
DTSTART;TZID=America/Los_Angeles:20190109T120000
DTEND;TZID=America/Los_Angeles:20190109T133000
DTSTAMP:20260425T061050
CREATED:20181012T000410Z
LAST-MODIFIED:20181012T000410Z
UID:8977-1547035200-1547040600@westcolumbiagorgechamber.com
SUMMARY:Learn Over Lunch with Oregon Saves
DESCRIPTION:  \nA representative from the Oregon State Treasury\, Ted Bender\, will be there to explain all about the Oregon Saves program. \nThis will be a great opportunity to ask questions and learn about this retirement savings program.  \n  \nWednesday\, January 9th \nNoon to 1:30pm \nat  \nBumper’s Grill & Bar \n21935 NE Halsey St #100 \nFairview\, OR 97024 \n  \nBring your business cards and bring a friend. \nIntroduce yourself and your business.  \nNetworking\, Food and Learning\, it’s a great combination! \nSee you there! \n  \n  \n 
URL:https://westcolumbiagorgechamber.com/event/learn-over-lunch-with-oregon-saves-3/
LOCATION:OR
CATEGORIES:Events - Chamber,Learn Over Lunchs
END:VEVENT
BEGIN:VEVENT
DTSTART;TZID=America/Los_Angeles:20190109T120000
DTEND;TZID=America/Los_Angeles:20190109T133000
DTSTAMP:20260425T061050
CREATED:20181012T000410Z
LAST-MODIFIED:20181012T000410Z
UID:5918-1547035200-1547040600@westcolumbiagorgechamber.com
SUMMARY:Learn Over Lunch with Oregon Saves
DESCRIPTION:  \nA representative from the Oregon State Treasury\, Ted Bender\, will be there to explain all about the Oregon Saves program. \nThis will be a great opportunity to ask questions and learn about this retirement savings program.  \n  \nWednesday\, January 9th \nNoon to 1:30pm \nat  \nBumper’s Grill & Bar \n21935 NE Halsey St #100 \nFairview\, OR 97024 \n  \nBring your business cards and bring a friend. \nIntroduce yourself and your business.  \nNetworking\, Food and Learning\, it’s a great combination! \nSee you there! \n  \n  \n 
URL:https://westcolumbiagorgechamber.com/event/learn-over-lunch-with-oregon-saves/
LOCATION:OR
CATEGORIES:Events - Chamber,Learn Over Lunchs
END:VEVENT
BEGIN:VEVENT
DTSTART;TZID=America/Los_Angeles:20190109T120000
DTEND;TZID=America/Los_Angeles:20190109T133000
DTSTAMP:20260425T061050
CREATED:20181012T000410Z
LAST-MODIFIED:20181012T000410Z
UID:9683-1547035200-1547040600@westcolumbiagorgechamber.com
SUMMARY:Learn Over Lunch with Oregon Saves
DESCRIPTION:  \nA representative from the Oregon State Treasury\, Ted Bender\, will be there to explain all about the Oregon Saves program. \nThis will be a great opportunity to ask questions and learn about this retirement savings program.  \n  \nWednesday\, January 9th \nNoon to 1:30pm \nat  \nBumper’s Grill & Bar \n21935 NE Halsey St #100 \nFairview\, OR 97024 \n  \nBring your business cards and bring a friend. \nIntroduce yourself and your business.  \nNetworking\, Food and Learning\, it’s a great combination! \nSee you there! \n  \n  \n 
URL:https://westcolumbiagorgechamber.com/event/learn-over-lunch-with-oregon-saves-4/
LOCATION:OR
CATEGORIES:Events - Chamber,Learn Over Lunchs
END:VEVENT
BEGIN:VEVENT
DTSTART;TZID=America/Los_Angeles:20190206T120000
DTEND;TZID=America/Los_Angeles:20190206T120000
DTSTAMP:20260425T061050
CREATED:20181019T160108Z
LAST-MODIFIED:20181019T160108Z
UID:9685-1549454400-1549454400@westcolumbiagorgechamber.com
SUMMARY:Learn Over Lunch with Deb Hart of Pink Sistas
DESCRIPTION:Come hear from inspirational speaker and founder of Pink Sistas Inc \nDeb Hart \n at  \nLearn Over Lunch \nWednesday\, February 6th\, 2019 \n Noon to 1:30 \nBumpers Grill & Bar \n21935 NE Halsey\, Fairview \n  \n                    \n  \nLearn a little about Deb:  \n“Hi\, I’m Deb Collins Hart\, Inspirational Speaker. My message is intended to generate meaningful change and offers hopeful transformation to people going through life’s challenges. \nI live in a floating home on the Columbia River in Fairview\, Oregon. \nOn August 2\, 2006\, when he was just 22 years old\, we lost my son Kasey. He was a tugboat captain in Alaska and was living his dream. \nSeven months after losing Kasey\, I was diagnosed with stage 3 breast cancer. Now as a breast cancer survivor\, these two life events changed my life forever. They made me the strong\, inspirational person I am today. \nI keep myself busy with two part-time jobs\, but my passion is volunteer work. As a breast cancer survivor I am busy raising donations for other breast cancer survivors by organizing a variety of events throughout the year with my non-profit\, “PINK SISTAS\, INC.”  \nI am also a Providence Hospital Hospice Volunteer.  \nToday I enjoy a zest for life and love spending time with my friends and family.  Other activities I enjoy are crafting\, shopping\, boating\, ATV riding and camping – all the better with special friends and loved family. \nAs a motivational speaker\, I live to help those who are going through difficult stages of life. There is hope…“ \n  \n 
URL:https://westcolumbiagorgechamber.com/event/learn-over-lunch-with-deb-hart-of-pink-sistas-4/
LOCATION:OR
CATEGORIES:Events - Chamber,Learn Over Lunchs
END:VEVENT
BEGIN:VEVENT
DTSTART;TZID=America/Los_Angeles:20190206T120000
DTEND;TZID=America/Los_Angeles:20190206T120000
DTSTAMP:20260425T061050
CREATED:20181019T160108Z
LAST-MODIFIED:20181019T160108Z
UID:8942-1549454400-1549454400@westcolumbiagorgechamber.com
SUMMARY:Learn Over Lunch with Deb Hart of Pink Sistas
DESCRIPTION:Come hear from inspirational speaker and founder of Pink Sistas Inc \nDeb Hart \n at  \nLearn Over Lunch \nWednesday\, February 6th\, 2019 \n Noon to 1:30 \nBumpers Grill & Bar \n21935 NE Halsey\, Fairview \n  \n                    \n  \nLearn a little about Deb:  \n“Hi\, I’m Deb Collins Hart\, Inspirational Speaker. My message is intended to generate meaningful change and offers hopeful transformation to people going through life’s challenges. \nI live in a floating home on the Columbia River in Fairview\, Oregon. \nOn August 2\, 2006\, when he was just 22 years old\, we lost my son Kasey. He was a tugboat captain in Alaska and was living his dream. \nSeven months after losing Kasey\, I was diagnosed with stage 3 breast cancer. Now as a breast cancer survivor\, these two life events changed my life forever. They made me the strong\, inspirational person I am today. \nI keep myself busy with two part-time jobs\, but my passion is volunteer work. As a breast cancer survivor I am busy raising donations for other breast cancer survivors by organizing a variety of events throughout the year with my non-profit\, “PINK SISTAS\, INC.”  \nI am also a Providence Hospital Hospice Volunteer.  \nToday I enjoy a zest for life and love spending time with my friends and family.  Other activities I enjoy are crafting\, shopping\, boating\, ATV riding and camping – all the better with special friends and loved family. \nAs a motivational speaker\, I live to help those who are going through difficult stages of life. There is hope…“ \n  \n 
URL:https://westcolumbiagorgechamber.com/event/learn-over-lunch-with-deb-hart-of-pink-sistas-2/
LOCATION:OR
CATEGORIES:Events - Chamber,Learn Over Lunchs
END:VEVENT
BEGIN:VEVENT
DTSTART;TZID=America/Los_Angeles:20190206T120000
DTEND;TZID=America/Los_Angeles:20190206T120000
DTSTAMP:20260425T061050
CREATED:20181019T160108Z
LAST-MODIFIED:20181019T160108Z
UID:5926-1549454400-1549454400@westcolumbiagorgechamber.com
SUMMARY:Learn Over Lunch with Deb Hart of Pink Sistas
DESCRIPTION:Come hear from inspirational speaker and founder of Pink Sistas Inc \nDeb Hart \n at  \nLearn Over Lunch \nWednesday\, February 6th\, 2019 \n Noon to 1:30 \nBumpers Grill & Bar \n21935 NE Halsey\, Fairview \n  \n                    \n  \nLearn a little about Deb:  \n“Hi\, I’m Deb Collins Hart\, Inspirational Speaker. My message is intended to generate meaningful change and offers hopeful transformation to people going through life’s challenges. \nI live in a floating home on the Columbia River in Fairview\, Oregon. \nOn August 2\, 2006\, when he was just 22 years old\, we lost my son Kasey. He was a tugboat captain in Alaska and was living his dream. \nSeven months after losing Kasey\, I was diagnosed with stage 3 breast cancer. Now as a breast cancer survivor\, these two life events changed my life forever. They made me the strong\, inspirational person I am today. \nI keep myself busy with two part-time jobs\, but my passion is volunteer work. As a breast cancer survivor I am busy raising donations for other breast cancer survivors by organizing a variety of events throughout the year with my non-profit\, “PINK SISTAS\, INC.”  \nI am also a Providence Hospital Hospice Volunteer.  \nToday I enjoy a zest for life and love spending time with my friends and family.  Other activities I enjoy are crafting\, shopping\, boating\, ATV riding and camping – all the better with special friends and loved family. \nAs a motivational speaker\, I live to help those who are going through difficult stages of life. There is hope…“ \n  \n 
URL:https://westcolumbiagorgechamber.com/event/learn-over-lunch-with-deb-hart-of-pink-sistas/
LOCATION:OR
CATEGORIES:Events - Chamber,Learn Over Lunchs
END:VEVENT
BEGIN:VEVENT
DTSTART;TZID=America/Los_Angeles:20190206T120000
DTEND;TZID=America/Los_Angeles:20190206T120000
DTSTAMP:20260425T061050
CREATED:20181019T160108Z
LAST-MODIFIED:20181019T160108Z
UID:8983-1549454400-1549454400@westcolumbiagorgechamber.com
SUMMARY:Learn Over Lunch with Deb Hart of Pink Sistas
DESCRIPTION:Come hear from inspirational speaker and founder of Pink Sistas Inc \nDeb Hart \n at  \nLearn Over Lunch \nWednesday\, February 6th\, 2019 \n Noon to 1:30 \nBumpers Grill & Bar \n21935 NE Halsey\, Fairview \n  \n                    \n  \nLearn a little about Deb:  \n“Hi\, I’m Deb Collins Hart\, Inspirational Speaker. My message is intended to generate meaningful change and offers hopeful transformation to people going through life’s challenges. \nI live in a floating home on the Columbia River in Fairview\, Oregon. \nOn August 2\, 2006\, when he was just 22 years old\, we lost my son Kasey. He was a tugboat captain in Alaska and was living his dream. \nSeven months after losing Kasey\, I was diagnosed with stage 3 breast cancer. Now as a breast cancer survivor\, these two life events changed my life forever. They made me the strong\, inspirational person I am today. \nI keep myself busy with two part-time jobs\, but my passion is volunteer work. As a breast cancer survivor I am busy raising donations for other breast cancer survivors by organizing a variety of events throughout the year with my non-profit\, “PINK SISTAS\, INC.”  \nI am also a Providence Hospital Hospice Volunteer.  \nToday I enjoy a zest for life and love spending time with my friends and family.  Other activities I enjoy are crafting\, shopping\, boating\, ATV riding and camping – all the better with special friends and loved family. \nAs a motivational speaker\, I live to help those who are going through difficult stages of life. There is hope…“ \n  \n 
URL:https://westcolumbiagorgechamber.com/event/learn-over-lunch-with-deb-hart-of-pink-sistas-3/
LOCATION:OR
CATEGORIES:Events - Chamber,Learn Over Lunchs
END:VEVENT
BEGIN:VEVENT
DTSTART;TZID=America/Los_Angeles:20190306T120000
DTEND;TZID=America/Los_Angeles:20190306T133000
DTSTAMP:20260425T061050
CREATED:20181207T180846Z
LAST-MODIFIED:20181207T180846Z
UID:9020-1551873600-1551879000@westcolumbiagorgechamber.com
SUMMARY:Learn Over Lunch with ASPIRE (The state of Oregon's mentoring program to help students access education and training beyond high school)
DESCRIPTION:  \n \nLearn Over Lunch \nWednesday\, March 6\, 2018 \nNoon to 1:30pm \nwith special guest \n \nThe state of Oregon’s mentoring program to help students  \naccess education and training beyond high school. \n  \nPlease join us for this opportunity to learn about this great program which helps students find mentors  \nand help them meet future career and education goals.   \nCurrently recruiting for Reynolds High School. \n \n  \nLocation: \nRistorante Di Pompello \n177 E. Historic Columbia River Hwy. \nTroutdale\, OR 97060 \n(503) 667-5730
URL:https://westcolumbiagorgechamber.com/event/learn-over-lunch-with-aspire-the-state-of-oregons-mentoring-program-to-help-students-access-education-and-training-beyond-high-school-3/
LOCATION:OR
CATEGORIES:Events - Chamber,Learn Over Lunchs
END:VEVENT
BEGIN:VEVENT
DTSTART;TZID=America/Los_Angeles:20190306T120000
DTEND;TZID=America/Los_Angeles:20190306T133000
DTSTAMP:20260425T061050
CREATED:20181207T180846Z
LAST-MODIFIED:20181207T180846Z
UID:9697-1551873600-1551879000@westcolumbiagorgechamber.com
SUMMARY:Learn Over Lunch with ASPIRE (The state of Oregon's mentoring program to help students access education and training beyond high school)
DESCRIPTION:  \n \nLearn Over Lunch \nWednesday\, March 6\, 2018 \nNoon to 1:30pm \nwith special guest \n \nThe state of Oregon’s mentoring program to help students  \naccess education and training beyond high school. \n  \nPlease join us for this opportunity to learn about this great program which helps students find mentors  \nand help them meet future career and education goals.   \nCurrently recruiting for Reynolds High School. \n \n  \nLocation: \nRistorante Di Pompello \n177 E. Historic Columbia River Hwy. \nTroutdale\, OR 97060 \n(503) 667-5730
URL:https://westcolumbiagorgechamber.com/event/learn-over-lunch-with-aspire-the-state-of-oregons-mentoring-program-to-help-students-access-education-and-training-beyond-high-school-4/
LOCATION:OR
CATEGORIES:Events - Chamber,Learn Over Lunchs
END:VEVENT
BEGIN:VEVENT
DTSTART;TZID=America/Los_Angeles:20190306T120000
DTEND;TZID=America/Los_Angeles:20190306T133000
DTSTAMP:20260425T061050
CREATED:20181207T180846Z
LAST-MODIFIED:20181207T180846Z
UID:8979-1551873600-1551879000@westcolumbiagorgechamber.com
SUMMARY:Learn Over Lunch with ASPIRE (The state of Oregon's mentoring program to help students access education and training beyond high school)
DESCRIPTION:  \n \nLearn Over Lunch \nWednesday\, March 6\, 2018 \nNoon to 1:30pm \nwith special guest \n \nThe state of Oregon’s mentoring program to help students  \naccess education and training beyond high school. \n  \nPlease join us for this opportunity to learn about this great program which helps students find mentors  \nand help them meet future career and education goals.   \nCurrently recruiting for Reynolds High School. \n \n  \nLocation: \nRistorante Di Pompello \n177 E. Historic Columbia River Hwy. \nTroutdale\, OR 97060 \n(503) 667-5730
URL:https://westcolumbiagorgechamber.com/event/learn-over-lunch-with-aspire-the-state-of-oregons-mentoring-program-to-help-students-access-education-and-training-beyond-high-school-2/
LOCATION:OR
CATEGORIES:Events - Chamber,Learn Over Lunchs
END:VEVENT
BEGIN:VEVENT
DTSTART;TZID=America/Los_Angeles:20190306T120000
DTEND;TZID=America/Los_Angeles:20190306T133000
DTSTAMP:20260425T061050
CREATED:20181207T180846Z
LAST-MODIFIED:20181207T180846Z
UID:6007-1551873600-1551879000@westcolumbiagorgechamber.com
SUMMARY:Learn Over Lunch with ASPIRE (The state of Oregon's mentoring program to help students access education and training beyond high school)
DESCRIPTION:  \n \nLearn Over Lunch \nWednesday\, March 6\, 2018 \nNoon to 1:30pm \nwith special guest \n \nThe state of Oregon’s mentoring program to help students  \naccess education and training beyond high school. \n  \nPlease join us for this opportunity to learn about this great program which helps students find mentors  \nand help them meet future career and education goals.   \nCurrently recruiting for Reynolds High School. \n \n  \nLocation: \nRistorante Di Pompello \n177 E. Historic Columbia River Hwy. \nTroutdale\, OR 97060 \n(503) 667-5730
URL:https://westcolumbiagorgechamber.com/event/learn-over-lunch-with-aspire-the-state-of-oregons-mentoring-program-to-help-students-access-education-and-training-beyond-high-school/
LOCATION:OR
CATEGORIES:Events - Chamber,Learn Over Lunchs
END:VEVENT
BEGIN:VEVENT
DTSTART;TZID=America/Los_Angeles:20190403T120000
DTEND;TZID=America/Los_Angeles:20190403T133000
DTSTAMP:20260425T061050
CREATED:20190208T002237Z
LAST-MODIFIED:20190208T002237Z
UID:9084-1554292800-1554298200@westcolumbiagorgechamber.com
SUMMARY:Learn Over Lunch
DESCRIPTION:Wednesday April 3rd  \nLOCATION:  Ye Olde Pub  \nTIME: 12 noon \n202 W. Historic Columbia Highway \nTroutdale\, OR \nPRESENTER:  Boot Barn \n  \n  \n 
URL:https://westcolumbiagorgechamber.com/event/learn-over-lunch-2-3/
LOCATION:OR
CATEGORIES:Events - Chamber,Learn Over Lunchs
END:VEVENT
BEGIN:VEVENT
DTSTART;TZID=America/Los_Angeles:20190403T120000
DTEND;TZID=America/Los_Angeles:20190403T133000
DTSTAMP:20260425T061050
CREATED:20190208T002237Z
LAST-MODIFIED:20190208T002237Z
UID:6059-1554292800-1554298200@westcolumbiagorgechamber.com
SUMMARY:Learn Over Lunch
DESCRIPTION:Wednesday April 3rd  \nLOCATION:  Ye Olde Pub  \nTIME: 12 noon \n202 W. Historic Columbia Highway \nTroutdale\, OR \nPRESENTER:  Boot Barn \n  \n  \n 
URL:https://westcolumbiagorgechamber.com/event/learn-over-lunch-2/
LOCATION:OR
CATEGORIES:Events - Chamber,Learn Over Lunchs
END:VEVENT
BEGIN:VEVENT
DTSTART;TZID=America/Los_Angeles:20190403T120000
DTEND;TZID=America/Los_Angeles:20190403T133000
DTSTAMP:20260425T061050
CREATED:20190208T002237Z
LAST-MODIFIED:20190208T002237Z
UID:9041-1554292800-1554298200@westcolumbiagorgechamber.com
SUMMARY:Learn Over Lunch
DESCRIPTION:Wednesday April 3rd  \nLOCATION:  Ye Olde Pub  \nTIME: 12 noon \n202 W. Historic Columbia Highway \nTroutdale\, OR \nPRESENTER:  Boot Barn \n  \n  \n 
URL:https://westcolumbiagorgechamber.com/event/learn-over-lunch-2-2/
LOCATION:OR
CATEGORIES:Events - Chamber,Learn Over Lunchs
END:VEVENT
BEGIN:VEVENT
DTSTART;TZID=America/Los_Angeles:20190403T120000
DTEND;TZID=America/Los_Angeles:20190403T133000
DTSTAMP:20260425T061050
CREATED:20190208T002237Z
LAST-MODIFIED:20190208T002237Z
UID:9717-1554292800-1554298200@westcolumbiagorgechamber.com
SUMMARY:Learn Over Lunch
DESCRIPTION:Wednesday April 3rd  \nLOCATION:  Ye Olde Pub  \nTIME: 12 noon \n202 W. Historic Columbia Highway \nTroutdale\, OR \nPRESENTER:  Boot Barn \n  \n  \n 
URL:https://westcolumbiagorgechamber.com/event/learn-over-lunch-2-4/
LOCATION:OR
CATEGORIES:Events - Chamber,Learn Over Lunchs
END:VEVENT
BEGIN:VEVENT
DTSTART;TZID=America/Los_Angeles:20190501T120000
DTEND;TZID=America/Los_Angeles:20190501T133000
DTSTAMP:20260425T061050
CREATED:20190108T002558Z
LAST-MODIFIED:20190108T002558Z
UID:9025-1556712000-1556717400@westcolumbiagorgechamber.com
SUMMARY:Learn Over Lunch
DESCRIPTION:Location and Guest Speaker TBA
URL:https://westcolumbiagorgechamber.com/event/learn-over-lunch-3-2/
LOCATION:OR
CATEGORIES:Events - Chamber,Learn Over Lunchs
END:VEVENT
BEGIN:VEVENT
DTSTART;TZID=America/Los_Angeles:20190501T120000
DTEND;TZID=America/Los_Angeles:20190501T133000
DTSTAMP:20260425T061050
CREATED:20190108T002558Z
LAST-MODIFIED:20190108T002558Z
UID:6061-1556712000-1556717400@westcolumbiagorgechamber.com
SUMMARY:Learn Over Lunch
DESCRIPTION:Location and Guest Speaker TBA
URL:https://westcolumbiagorgechamber.com/event/learn-over-lunch-3/
LOCATION:OR
CATEGORIES:Events - Chamber,Learn Over Lunchs
END:VEVENT
BEGIN:VEVENT
DTSTART;TZID=America/Los_Angeles:20190501T120000
DTEND;TZID=America/Los_Angeles:20190501T133000
DTSTAMP:20260425T061050
CREATED:20190108T002558Z
LAST-MODIFIED:20190108T002558Z
UID:9067-1556712000-1556717400@westcolumbiagorgechamber.com
SUMMARY:Learn Over Lunch
DESCRIPTION:Location and Guest Speaker TBA
URL:https://westcolumbiagorgechamber.com/event/learn-over-lunch-3-3/
LOCATION:OR
CATEGORIES:Events - Chamber,Learn Over Lunchs
END:VEVENT
BEGIN:VEVENT
DTSTART;TZID=America/Los_Angeles:20190501T120000
DTEND;TZID=America/Los_Angeles:20190501T133000
DTSTAMP:20260425T061050
CREATED:20190108T002558Z
LAST-MODIFIED:20190108T002558Z
UID:9712-1556712000-1556717400@westcolumbiagorgechamber.com
SUMMARY:Learn Over Lunch
DESCRIPTION:Location and Guest Speaker TBA
URL:https://westcolumbiagorgechamber.com/event/learn-over-lunch-3-4/
LOCATION:OR
CATEGORIES:Events - Chamber,Learn Over Lunchs
END:VEVENT
BEGIN:VEVENT
DTSTART;TZID=America/Los_Angeles:20190703T120000
DTEND;TZID=America/Los_Angeles:20190703T133000
DTSTAMP:20260425T061050
CREATED:20190108T010243Z
LAST-MODIFIED:20190108T010243Z
UID:6072-1562155200-1562160600@westcolumbiagorgechamber.com
SUMMARY:Learn Over Lunch
DESCRIPTION:Location and Guest Speaker TBA
URL:https://westcolumbiagorgechamber.com/event/learn-over-lunch-5/
LOCATION:OR
CATEGORIES:Events - Chamber,Learn Over Lunchs
END:VEVENT
BEGIN:VEVENT
DTSTART;TZID=America/Los_Angeles:20190703T120000
DTEND;TZID=America/Los_Angeles:20190703T133000
DTSTAMP:20260425T061050
CREATED:20190108T010243Z
LAST-MODIFIED:20190108T010243Z
UID:9073-1562155200-1562160600@westcolumbiagorgechamber.com
SUMMARY:Learn Over Lunch
DESCRIPTION:Location and Guest Speaker TBA
URL:https://westcolumbiagorgechamber.com/event/learn-over-lunch-5-3/
LOCATION:OR
CATEGORIES:Events - Chamber,Learn Over Lunchs
END:VEVENT
END:VCALENDAR