BEGIN:VCALENDAR
VERSION:2.0
PRODID:-//West Columbia Gorge Chamber of Commerce - ECPv6.15.20//NONSGML v1.0//EN
CALSCALE:GREGORIAN
METHOD:PUBLISH
X-ORIGINAL-URL:https://westcolumbiagorgechamber.com
X-WR-CALDESC:Events for West Columbia Gorge Chamber of Commerce
REFRESH-INTERVAL;VALUE=DURATION:PT1H
X-Robots-Tag:noindex
X-PUBLISHED-TTL:PT1H
BEGIN:VTIMEZONE
TZID:America/Los_Angeles
BEGIN:DAYLIGHT
TZOFFSETFROM:-0800
TZOFFSETTO:-0700
TZNAME:PDT
DTSTART:20220313T100000
END:DAYLIGHT
BEGIN:STANDARD
TZOFFSETFROM:-0700
TZOFFSETTO:-0800
TZNAME:PST
DTSTART:20221106T090000
END:STANDARD
BEGIN:DAYLIGHT
TZOFFSETFROM:-0800
TZOFFSETTO:-0700
TZNAME:PDT
DTSTART:20230312T100000
END:DAYLIGHT
BEGIN:STANDARD
TZOFFSETFROM:-0700
TZOFFSETTO:-0800
TZNAME:PST
DTSTART:20231105T090000
END:STANDARD
BEGIN:DAYLIGHT
TZOFFSETFROM:-0800
TZOFFSETTO:-0700
TZNAME:PDT
DTSTART:20240310T100000
END:DAYLIGHT
BEGIN:STANDARD
TZOFFSETFROM:-0700
TZOFFSETTO:-0800
TZNAME:PST
DTSTART:20241103T090000
END:STANDARD
END:VTIMEZONE
BEGIN:VEVENT
DTSTART;TZID=America/Los_Angeles:20230301T033000
DTEND;TZID=America/Los_Angeles:20230301T050000
DTSTAMP:20260419T235828
CREATED:20230214T035452Z
LAST-MODIFIED:20230214T035840Z
UID:10180-1677641400-1677646800@westcolumbiagorgechamber.com
SUMMARY:Learn over lunch with Mount Hood Community College President Lisa Skari.
DESCRIPTION:Mt. Hood Community College (MHCC) recently unveiled a new strategic plan and core values in Fall 2022. Come out to the West Columbia Gorge Chamber of Commerce and listen to MHCC Board member(s) Diane Noriega\, Annette Mattson\, and President Dr. Lisa Skari as they share the core tenets of this strategic new plan\, the impact it will have on the community\, and how the college will define success and more. Through the plan\, MHCC is implementing the community’s vision for the future. Join us and learn more about your local community college.
URL:https://westcolumbiagorgechamber.com/event/learn-over-lunch-with-mount-hood-community-college-president-lisa-skari/
LOCATION:Ghioni Tax and Accounting LLC\, 958 NE Kelly Ave Ste B\, Gresham\, OR\, 97030
CATEGORIES:Learn Over Lunchs
ORGANIZER;CN="West Columbia Gorge Chamber of Commerce":MAILTO:info@westcolumbiagorgechamber.com
END:VEVENT
END:VCALENDAR