BEGIN:VCALENDAR
VERSION:2.0
PRODID:-//West Columbia Gorge Chamber of Commerce - ECPv6.15.20//NONSGML v1.0//EN
CALSCALE:GREGORIAN
METHOD:PUBLISH
X-WR-CALNAME:West Columbia Gorge Chamber of Commerce
X-ORIGINAL-URL:https://westcolumbiagorgechamber.com
X-WR-CALDESC:Events for West Columbia Gorge Chamber of Commerce
REFRESH-INTERVAL;VALUE=DURATION:PT1H
X-Robots-Tag:noindex
X-PUBLISHED-TTL:PT1H
BEGIN:VTIMEZONE
TZID:America/Los_Angeles
BEGIN:DAYLIGHT
TZOFFSETFROM:-0800
TZOFFSETTO:-0700
TZNAME:PDT
DTSTART:20190310T100000
END:DAYLIGHT
BEGIN:STANDARD
TZOFFSETFROM:-0700
TZOFFSETTO:-0800
TZNAME:PST
DTSTART:20191103T090000
END:STANDARD
BEGIN:DAYLIGHT
TZOFFSETFROM:-0800
TZOFFSETTO:-0700
TZNAME:PDT
DTSTART:20200308T100000
END:DAYLIGHT
BEGIN:STANDARD
TZOFFSETFROM:-0700
TZOFFSETTO:-0800
TZNAME:PST
DTSTART:20201101T090000
END:STANDARD
BEGIN:DAYLIGHT
TZOFFSETFROM:-0800
TZOFFSETTO:-0700
TZNAME:PDT
DTSTART:20210314T100000
END:DAYLIGHT
BEGIN:STANDARD
TZOFFSETFROM:-0700
TZOFFSETTO:-0800
TZNAME:PST
DTSTART:20211107T090000
END:STANDARD
END:VTIMEZONE
BEGIN:VEVENT
DTSTART;TZID=America/Los_Angeles:20200304T120000
DTEND;TZID=America/Los_Angeles:20200304T133000
DTSTAMP:20260422T160132
CREATED:20191231T220051Z
LAST-MODIFIED:20191231T220051Z
UID:9775-1583323200-1583328600@westcolumbiagorgechamber.com
SUMMARY:"Learn Over Lunch" (LOL) @ Smith Memorial Presbyterian Church
DESCRIPTION:Smith Memorial Presbyterian Church \nPastor Brad  \nwill be talking about “Skills for having difficult conversations” \nBox lunch provided and donations gladly accepted.
URL:https://westcolumbiagorgechamber.com/event/lol-learn-over-lunch-19-4/
LOCATION:Smith Memorial Prsbytarian Church\, 2420 NE Fairview Ave\, Fairview Ave\, Fairview\, OR\, 97024
CATEGORIES:Chamber Meetings,Learn Over Lunchs
END:VEVENT
BEGIN:VEVENT
DTSTART;TZID=America/Los_Angeles:20200304T120000
DTEND;TZID=America/Los_Angeles:20200304T133000
DTSTAMP:20260422T160132
CREATED:20191231T220051Z
LAST-MODIFIED:20191231T220051Z
UID:6650-1583323200-1583328600@westcolumbiagorgechamber.com
SUMMARY:"Learn Over Lunch" (LOL) @ Smith Memorial Presbyterian Church
DESCRIPTION:Smith Memorial Presbyterian Church \nPastor Brad  \nwill be talking about “Skills for having difficult conversations” \nBox lunch provided and donations gladly accepted.
URL:https://westcolumbiagorgechamber.com/event/lol-learn-over-lunch-19/
LOCATION:Smith Memorial Prsbytarian Church\, 2420 NE Fairview Ave\, Fairview Ave\, Fairview\, OR\, 97024
CATEGORIES:Chamber Meetings,Learn Over Lunchs
END:VEVENT
BEGIN:VEVENT
DTSTART;TZID=America/Los_Angeles:20200304T120000
DTEND;TZID=America/Los_Angeles:20200304T133000
DTSTAMP:20260422T160132
CREATED:20191231T220051Z
LAST-MODIFIED:20191231T220051Z
UID:9214-1583323200-1583328600@westcolumbiagorgechamber.com
SUMMARY:"Learn Over Lunch" (LOL) @ Smith Memorial Presbyterian Church
DESCRIPTION:Smith Memorial Presbyterian Church \nPastor Brad  \nwill be talking about “Skills for having difficult conversations” \nBox lunch provided and donations gladly accepted.
URL:https://westcolumbiagorgechamber.com/event/lol-learn-over-lunch-19-2/
LOCATION:Smith Memorial Prsbytarian Church\, 2420 NE Fairview Ave\, Fairview Ave\, Fairview\, OR\, 97024
CATEGORIES:Chamber Meetings,Learn Over Lunchs
END:VEVENT
BEGIN:VEVENT
DTSTART;TZID=America/Los_Angeles:20200304T120000
DTEND;TZID=America/Los_Angeles:20200304T133000
DTSTAMP:20260422T160132
CREATED:20191231T220051Z
LAST-MODIFIED:20191231T220051Z
UID:9250-1583323200-1583328600@westcolumbiagorgechamber.com
SUMMARY:"Learn Over Lunch" (LOL) @ Smith Memorial Presbyterian Church
DESCRIPTION:Smith Memorial Presbyterian Church \nPastor Brad  \nwill be talking about “Skills for having difficult conversations” \nBox lunch provided and donations gladly accepted.
URL:https://westcolumbiagorgechamber.com/event/lol-learn-over-lunch-19-3/
LOCATION:Smith Memorial Prsbytarian Church\, 2420 NE Fairview Ave\, Fairview Ave\, Fairview\, OR\, 97024
CATEGORIES:Chamber Meetings,Learn Over Lunchs
END:VEVENT
END:VCALENDAR