BEGIN:VCALENDAR
VERSION:2.0
PRODID:-//West Columbia Gorge Chamber of Commerce - ECPv6.15.20//NONSGML v1.0//EN
CALSCALE:GREGORIAN
METHOD:PUBLISH
X-ORIGINAL-URL:https://westcolumbiagorgechamber.com
X-WR-CALDESC:Events for West Columbia Gorge Chamber of Commerce
REFRESH-INTERVAL;VALUE=DURATION:PT1H
X-Robots-Tag:noindex
X-PUBLISHED-TTL:PT1H
BEGIN:VTIMEZONE
TZID:America/Los_Angeles
BEGIN:DAYLIGHT
TZOFFSETFROM:-0800
TZOFFSETTO:-0700
TZNAME:PDT
DTSTART:20180311T100000
END:DAYLIGHT
BEGIN:STANDARD
TZOFFSETFROM:-0700
TZOFFSETTO:-0800
TZNAME:PST
DTSTART:20181104T090000
END:STANDARD
BEGIN:DAYLIGHT
TZOFFSETFROM:-0800
TZOFFSETTO:-0700
TZNAME:PDT
DTSTART:20190310T100000
END:DAYLIGHT
BEGIN:STANDARD
TZOFFSETFROM:-0700
TZOFFSETTO:-0800
TZNAME:PST
DTSTART:20191103T090000
END:STANDARD
BEGIN:DAYLIGHT
TZOFFSETFROM:-0800
TZOFFSETTO:-0700
TZNAME:PDT
DTSTART:20200308T100000
END:DAYLIGHT
BEGIN:STANDARD
TZOFFSETFROM:-0700
TZOFFSETTO:-0800
TZNAME:PST
DTSTART:20201101T090000
END:STANDARD
END:VTIMEZONE
BEGIN:VEVENT
DTSTART;TZID=America/Los_Angeles:20190904T120000
DTEND;TZID=America/Los_Angeles:20190904T133000
DTSTAMP:20260423T121729
CREATED:20190108T010833Z
LAST-MODIFIED:20190108T010833Z
UID:9076-1567598400-1567603800@westcolumbiagorgechamber.com
SUMMARY:Learn Over Lunch (LOL): Apollo Drain and Rooter
DESCRIPTION:Learn Over Lunch \nWednesday\, September 4th\, 2019\nNoon to 1:30pm \nPresented by: Apollo Drain and Rooter\nLocation: The Rock Firewood Pizza in Wood Village
URL:https://westcolumbiagorgechamber.com/event/learn-over-lunch-7-3/
LOCATION:The Rock Wood Fired Pizza\, 22401 NE Glisan St\,\, Wood Vilage\, OR\, 97060
CATEGORIES:Events - Chamber,Learn Over Lunchs
END:VEVENT
BEGIN:VEVENT
DTSTART;TZID=America/Los_Angeles:20190904T120000
DTEND;TZID=America/Los_Angeles:20190904T133000
DTSTAMP:20260423T121729
CREATED:20190108T010833Z
LAST-MODIFIED:20190108T010833Z
UID:9715-1567598400-1567603800@westcolumbiagorgechamber.com
SUMMARY:Learn Over Lunch (LOL): Apollo Drain and Rooter
DESCRIPTION:Learn Over Lunch \nWednesday\, September 4th\, 2019\nNoon to 1:30pm \nPresented by: Apollo Drain and Rooter\nLocation: The Rock Firewood Pizza in Wood Village
URL:https://westcolumbiagorgechamber.com/event/learn-over-lunch-7-4/
LOCATION:The Rock Wood Fired Pizza\, 22401 NE Glisan St\,\, Wood Vilage\, OR\, 97060
CATEGORIES:Events - Chamber,Learn Over Lunchs
END:VEVENT
BEGIN:VEVENT
DTSTART;TZID=America/Los_Angeles:20190904T120000
DTEND;TZID=America/Los_Angeles:20190904T133000
DTSTAMP:20260423T121729
CREATED:20190108T010833Z
LAST-MODIFIED:20190108T010833Z
UID:6080-1567598400-1567603800@westcolumbiagorgechamber.com
SUMMARY:Learn Over Lunch (LOL): Apollo Drain and Rooter
DESCRIPTION:Learn Over Lunch \nWednesday\, September 4th\, 2019\nNoon to 1:30pm \nPresented by: Apollo Drain and Rooter\nLocation: The Rock Firewood Pizza in Wood Village
URL:https://westcolumbiagorgechamber.com/event/learn-over-lunch-7/
LOCATION:The Rock Wood Fired Pizza\, 22401 NE Glisan St\,\, Wood Vilage\, OR\, 97060
CATEGORIES:Events - Chamber,Learn Over Lunchs
END:VEVENT
BEGIN:VEVENT
DTSTART;TZID=America/Los_Angeles:20190904T120000
DTEND;TZID=America/Los_Angeles:20190904T133000
DTSTAMP:20260423T121729
CREATED:20190108T010833Z
LAST-MODIFIED:20190108T010833Z
UID:9035-1567598400-1567603800@westcolumbiagorgechamber.com
SUMMARY:Learn Over Lunch (LOL): Apollo Drain and Rooter
DESCRIPTION:Learn Over Lunch \nWednesday\, September 4th\, 2019\nNoon to 1:30pm \nPresented by: Apollo Drain and Rooter\nLocation: The Rock Firewood Pizza in Wood Village
URL:https://westcolumbiagorgechamber.com/event/learn-over-lunch-7-2/
LOCATION:The Rock Wood Fired Pizza\, 22401 NE Glisan St\,\, Wood Vilage\, OR\, 97060
CATEGORIES:Events - Chamber,Learn Over Lunchs
END:VEVENT
END:VCALENDAR