BEGIN:VCALENDAR
VERSION:2.0
PRODID:-//West Columbia Gorge Chamber of Commerce - ECPv6.15.20//NONSGML v1.0//EN
CALSCALE:GREGORIAN
METHOD:PUBLISH
X-ORIGINAL-URL:https://westcolumbiagorgechamber.com
X-WR-CALDESC:Events for West Columbia Gorge Chamber of Commerce
REFRESH-INTERVAL;VALUE=DURATION:PT1H
X-Robots-Tag:noindex
X-PUBLISHED-TTL:PT1H
BEGIN:VTIMEZONE
TZID:America/Los_Angeles
BEGIN:DAYLIGHT
TZOFFSETFROM:-0800
TZOFFSETTO:-0700
TZNAME:PDT
DTSTART:20220313T100000
END:DAYLIGHT
BEGIN:STANDARD
TZOFFSETFROM:-0700
TZOFFSETTO:-0800
TZNAME:PST
DTSTART:20221106T090000
END:STANDARD
BEGIN:DAYLIGHT
TZOFFSETFROM:-0800
TZOFFSETTO:-0700
TZNAME:PDT
DTSTART:20230312T100000
END:DAYLIGHT
BEGIN:STANDARD
TZOFFSETFROM:-0700
TZOFFSETTO:-0800
TZNAME:PST
DTSTART:20231105T090000
END:STANDARD
BEGIN:DAYLIGHT
TZOFFSETFROM:-0800
TZOFFSETTO:-0700
TZNAME:PDT
DTSTART:20240310T100000
END:DAYLIGHT
BEGIN:STANDARD
TZOFFSETFROM:-0700
TZOFFSETTO:-0800
TZNAME:PST
DTSTART:20241103T090000
END:STANDARD
END:VTIMEZONE
BEGIN:VEVENT
DTSTART;TZID=America/Los_Angeles:20230405T043000
DTEND;TZID=America/Los_Angeles:20230405T060000
DTSTAMP:20260419T212154
CREATED:20230322T082837Z
LAST-MODIFIED:20230325T085422Z
UID:10202-1680669000-1680674400@westcolumbiagorgechamber.com
SUMMARY:Learn over Lunch with YTP of Reynolds and Corbett School Districts on April 5th!
DESCRIPTION:Come hear about Corbett and Reynolds School Districts Summer Works Program. Cathy and Kathi will be presenting on an amazing opportunity for your business. The employer supplies the summer internship\, the districts Summer Works grant pays the wage!  This will be held at Ye Old Pub in downtown Troutdale. \n  \n 
URL:https://westcolumbiagorgechamber.com/event/learn-over-lunch-with-ytp-of-reynolds-and-corbett-school-districts-on-april-5th/
LOCATION:Ye Olde Pub\, 202 W Historic Columbia River\, Troutdale\, 97060\, United States
CATEGORIES:Learn Over Lunchs
ORGANIZER;CN="West Columbia Gorge Chamber of Commerce":MAILTO:info@westcolumbiagorgechamber.com
END:VEVENT
END:VCALENDAR