BEGIN:VCALENDAR
VERSION:2.0
PRODID:-//West Columbia Gorge Chamber of Commerce - ECPv6.15.20//NONSGML v1.0//EN
CALSCALE:GREGORIAN
METHOD:PUBLISH
X-ORIGINAL-URL:https://westcolumbiagorgechamber.com
X-WR-CALDESC:Events for West Columbia Gorge Chamber of Commerce
REFRESH-INTERVAL;VALUE=DURATION:PT1H
X-Robots-Tag:noindex
X-PUBLISHED-TTL:PT1H
BEGIN:VTIMEZONE
TZID:America/Los_Angeles
BEGIN:DAYLIGHT
TZOFFSETFROM:-0800
TZOFFSETTO:-0700
TZNAME:PDT
DTSTART:20220313T100000
END:DAYLIGHT
BEGIN:STANDARD
TZOFFSETFROM:-0700
TZOFFSETTO:-0800
TZNAME:PST
DTSTART:20221106T090000
END:STANDARD
BEGIN:DAYLIGHT
TZOFFSETFROM:-0800
TZOFFSETTO:-0700
TZNAME:PDT
DTSTART:20230312T100000
END:DAYLIGHT
BEGIN:STANDARD
TZOFFSETFROM:-0700
TZOFFSETTO:-0800
TZNAME:PST
DTSTART:20231105T090000
END:STANDARD
BEGIN:DAYLIGHT
TZOFFSETFROM:-0800
TZOFFSETTO:-0700
TZNAME:PDT
DTSTART:20240310T100000
END:DAYLIGHT
BEGIN:STANDARD
TZOFFSETFROM:-0700
TZOFFSETTO:-0800
TZNAME:PST
DTSTART:20241103T090000
END:STANDARD
END:VTIMEZONE
BEGIN:VEVENT
DTSTART;TZID=America/Los_Angeles:20230201T033000
DTEND;TZID=America/Los_Angeles:20230201T050000
DTSTAMP:20260419T235733
CREATED:20230131T041613Z
LAST-MODIFIED:20230131T041613Z
UID:10169-1675222200-1675227600@westcolumbiagorgechamber.com
SUMMARY:Midday networking will be this week's Chamber Chat at the Fairview Food Plaza!
DESCRIPTION:This week will be a casual lunch networking event held at the Fairview Food Plaza. You asked for it so we are delivering a midday event. If you haven’t visited the Fork! now is the time. Food choices are amazing and if you like you can get your favorite beverage from the Beer garden located at the west end of the building. Invite a friend and let’s have some fun with our networking event!
URL:https://westcolumbiagorgechamber.com/event/midday-networking-will-be-this-weeks-chamber-chat-at-the-fairview-food-plaza/
LOCATION:Fairview Food Plaza\, 22320 NE Halsey St\, Fairview\, OR\, 97024
CATEGORIES:Learn Over Lunchs
ORGANIZER;CN="West Columbia Gorge Chamber of Commerce":MAILTO:info@westcolumbiagorgechamber.com
END:VEVENT
END:VCALENDAR