BEGIN:VCALENDAR
VERSION:2.0
PRODID:-//West Columbia Gorge Chamber of Commerce - ECPv6.15.20//NONSGML v1.0//EN
CALSCALE:GREGORIAN
METHOD:PUBLISH
X-ORIGINAL-URL:https://westcolumbiagorgechamber.com
X-WR-CALDESC:Events for West Columbia Gorge Chamber of Commerce
REFRESH-INTERVAL;VALUE=DURATION:PT1H
X-Robots-Tag:noindex
X-PUBLISHED-TTL:PT1H
BEGIN:VTIMEZONE
TZID:America/Los_Angeles
BEGIN:DAYLIGHT
TZOFFSETFROM:-0800
TZOFFSETTO:-0700
TZNAME:PDT
DTSTART:20190310T100000
END:DAYLIGHT
BEGIN:STANDARD
TZOFFSETFROM:-0700
TZOFFSETTO:-0800
TZNAME:PST
DTSTART:20191103T090000
END:STANDARD
BEGIN:DAYLIGHT
TZOFFSETFROM:-0800
TZOFFSETTO:-0700
TZNAME:PDT
DTSTART:20200308T100000
END:DAYLIGHT
BEGIN:STANDARD
TZOFFSETFROM:-0700
TZOFFSETTO:-0800
TZNAME:PST
DTSTART:20201101T090000
END:STANDARD
BEGIN:DAYLIGHT
TZOFFSETFROM:-0800
TZOFFSETTO:-0700
TZNAME:PDT
DTSTART:20210314T100000
END:DAYLIGHT
BEGIN:STANDARD
TZOFFSETFROM:-0700
TZOFFSETTO:-0800
TZNAME:PST
DTSTART:20211107T090000
END:STANDARD
END:VTIMEZONE
BEGIN:VEVENT
DTSTART;TZID=America/Los_Angeles:20200219T120000
DTEND;TZID=America/Los_Angeles:20200219T133000
DTSTAMP:20260422T160205
CREATED:20200110T203613Z
LAST-MODIFIED:20200110T203613Z
UID:6685-1582113600-1582119000@westcolumbiagorgechamber.com
SUMMARY:Learn Over Lunch ( LOL ) @ Edgefield Powerstation
DESCRIPTION:Host:  \nPinnacle Computer Solutions \nRandy Cummings \nManaging your Tech Infrastructure \nwww.pinnaclecomputersolutions.com
URL:https://westcolumbiagorgechamber.com/event/learn-over-lunch-lol-edgefield-powerstation/
LOCATION:McMenamin Edgefield\, 2126 SW Halsey St.\, Troutdale\, OR 97060\, OR\, 97060
CATEGORIES:Chamber Meetings,Learn Over Lunchs
END:VEVENT
BEGIN:VEVENT
DTSTART;TZID=America/Los_Angeles:20200219T120000
DTEND;TZID=America/Los_Angeles:20200219T133000
DTSTAMP:20260422T160205
CREATED:20200110T203613Z
LAST-MODIFIED:20200110T203613Z
UID:9779-1582113600-1582119000@westcolumbiagorgechamber.com
SUMMARY:Learn Over Lunch ( LOL ) @ Edgefield Powerstation
DESCRIPTION:Host:  \nPinnacle Computer Solutions \nRandy Cummings \nManaging your Tech Infrastructure \nwww.pinnaclecomputersolutions.com
URL:https://westcolumbiagorgechamber.com/event/learn-over-lunch-lol-edgefield-powerstation-4/
LOCATION:McMenamin Edgefield\, 2126 SW Halsey St.\, Troutdale\, OR 97060\, OR\, 97060
CATEGORIES:Chamber Meetings,Learn Over Lunchs
END:VEVENT
BEGIN:VEVENT
DTSTART;TZID=America/Los_Angeles:20200219T120000
DTEND;TZID=America/Los_Angeles:20200219T133000
DTSTAMP:20260422T160205
CREATED:20200110T203613Z
LAST-MODIFIED:20200110T203613Z
UID:9226-1582113600-1582119000@westcolumbiagorgechamber.com
SUMMARY:Learn Over Lunch ( LOL ) @ Edgefield Powerstation
DESCRIPTION:Host:  \nPinnacle Computer Solutions \nRandy Cummings \nManaging your Tech Infrastructure \nwww.pinnaclecomputersolutions.com
URL:https://westcolumbiagorgechamber.com/event/learn-over-lunch-lol-edgefield-powerstation-2/
LOCATION:McMenamin Edgefield\, 2126 SW Halsey St.\, Troutdale\, OR 97060\, OR\, 97060
CATEGORIES:Chamber Meetings,Learn Over Lunchs
END:VEVENT
BEGIN:VEVENT
DTSTART;TZID=America/Los_Angeles:20200219T120000
DTEND;TZID=America/Los_Angeles:20200219T133000
DTSTAMP:20260422T160205
CREATED:20200110T203613Z
LAST-MODIFIED:20200110T203613Z
UID:9262-1582113600-1582119000@westcolumbiagorgechamber.com
SUMMARY:Learn Over Lunch ( LOL ) @ Edgefield Powerstation
DESCRIPTION:Host:  \nPinnacle Computer Solutions \nRandy Cummings \nManaging your Tech Infrastructure \nwww.pinnaclecomputersolutions.com
URL:https://westcolumbiagorgechamber.com/event/learn-over-lunch-lol-edgefield-powerstation-3/
LOCATION:McMenamin Edgefield\, 2126 SW Halsey St.\, Troutdale\, OR 97060\, OR\, 97060
CATEGORIES:Chamber Meetings,Learn Over Lunchs
END:VEVENT
BEGIN:VEVENT
DTSTART;TZID=America/Los_Angeles:20200226T120000
DTEND;TZID=America/Los_Angeles:20200226T133000
DTSTAMP:20260422T160205
CREATED:20200129T192346Z
LAST-MODIFIED:20200129T192346Z
UID:9292-1582718400-1582723800@westcolumbiagorgechamber.com
SUMMARY:Special  (Learn Over Lunch)   Mayor Harden
DESCRIPTION:Scott Harden \nWood Village Mayor Presentation \nThe cities of Wood Village and Fairview have a joint recreation program called PlayEast. The cities pay for a director\, program infrastructure\, stipends and fees. We have a fundraising dinner and a couple of 5k races to raise funds for scholarships. We want to expand our base of business support for our fundraising. Learn to expose more businesses to the value of supporting youth in the region. \n  \nPlace: The Rock Wood Fired Pizza in Wood Village Upstairs room.
URL:https://westcolumbiagorgechamber.com/event/special-lol-learn-over-lunch-3/
LOCATION:The Rock Wood Fired Pizza\, 22401 NE Glisan St\,\, Wood Vilage\, OR\, 97060
CATEGORIES:Chamber Meetings,Learn Over Lunchs
END:VEVENT
BEGIN:VEVENT
DTSTART;TZID=America/Los_Angeles:20200226T120000
DTEND;TZID=America/Los_Angeles:20200226T133000
DTSTAMP:20260422T160205
CREATED:20200129T192346Z
LAST-MODIFIED:20200129T192346Z
UID:6732-1582718400-1582723800@westcolumbiagorgechamber.com
SUMMARY:Special  (Learn Over Lunch)   Mayor Harden
DESCRIPTION:Scott Harden \nWood Village Mayor Presentation \nThe cities of Wood Village and Fairview have a joint recreation program called PlayEast. The cities pay for a director\, program infrastructure\, stipends and fees. We have a fundraising dinner and a couple of 5k races to raise funds for scholarships. We want to expand our base of business support for our fundraising. Learn to expose more businesses to the value of supporting youth in the region. \n  \nPlace: The Rock Wood Fired Pizza in Wood Village Upstairs room.
URL:https://westcolumbiagorgechamber.com/event/special-lol-learn-over-lunch/
LOCATION:The Rock Wood Fired Pizza\, 22401 NE Glisan St\,\, Wood Vilage\, OR\, 97060
CATEGORIES:Chamber Meetings,Learn Over Lunchs
END:VEVENT
BEGIN:VEVENT
DTSTART;TZID=America/Los_Angeles:20200226T120000
DTEND;TZID=America/Los_Angeles:20200226T133000
DTSTAMP:20260422T160205
CREATED:20200129T192346Z
LAST-MODIFIED:20200129T192346Z
UID:9789-1582718400-1582723800@westcolumbiagorgechamber.com
SUMMARY:Special  (Learn Over Lunch)   Mayor Harden
DESCRIPTION:Scott Harden \nWood Village Mayor Presentation \nThe cities of Wood Village and Fairview have a joint recreation program called PlayEast. The cities pay for a director\, program infrastructure\, stipends and fees. We have a fundraising dinner and a couple of 5k races to raise funds for scholarships. We want to expand our base of business support for our fundraising. Learn to expose more businesses to the value of supporting youth in the region. \n  \nPlace: The Rock Wood Fired Pizza in Wood Village Upstairs room.
URL:https://westcolumbiagorgechamber.com/event/special-lol-learn-over-lunch-4/
LOCATION:The Rock Wood Fired Pizza\, 22401 NE Glisan St\,\, Wood Vilage\, OR\, 97060
CATEGORIES:Chamber Meetings,Learn Over Lunchs
END:VEVENT
BEGIN:VEVENT
DTSTART;TZID=America/Los_Angeles:20200226T120000
DTEND;TZID=America/Los_Angeles:20200226T133000
DTSTAMP:20260422T160205
CREATED:20200129T192346Z
LAST-MODIFIED:20200129T192346Z
UID:9255-1582718400-1582723800@westcolumbiagorgechamber.com
SUMMARY:Special  (Learn Over Lunch)   Mayor Harden
DESCRIPTION:Scott Harden \nWood Village Mayor Presentation \nThe cities of Wood Village and Fairview have a joint recreation program called PlayEast. The cities pay for a director\, program infrastructure\, stipends and fees. We have a fundraising dinner and a couple of 5k races to raise funds for scholarships. We want to expand our base of business support for our fundraising. Learn to expose more businesses to the value of supporting youth in the region. \n  \nPlace: The Rock Wood Fired Pizza in Wood Village Upstairs room.
URL:https://westcolumbiagorgechamber.com/event/special-lol-learn-over-lunch-2/
LOCATION:The Rock Wood Fired Pizza\, 22401 NE Glisan St\,\, Wood Vilage\, OR\, 97060
CATEGORIES:Chamber Meetings,Learn Over Lunchs
END:VEVENT
END:VCALENDAR