BEGIN:VCALENDAR
VERSION:2.0
PRODID:-//West Columbia Gorge Chamber of Commerce - ECPv6.15.20//NONSGML v1.0//EN
CALSCALE:GREGORIAN
METHOD:PUBLISH
X-WR-CALNAME:West Columbia Gorge Chamber of Commerce
X-ORIGINAL-URL:https://westcolumbiagorgechamber.com
X-WR-CALDESC:Events for West Columbia Gorge Chamber of Commerce
REFRESH-INTERVAL;VALUE=DURATION:PT1H
X-Robots-Tag:noindex
X-PUBLISHED-TTL:PT1H
BEGIN:VTIMEZONE
TZID:America/Los_Angeles
BEGIN:DAYLIGHT
TZOFFSETFROM:-0800
TZOFFSETTO:-0700
TZNAME:PDT
DTSTART:20170312T100000
END:DAYLIGHT
BEGIN:STANDARD
TZOFFSETFROM:-0700
TZOFFSETTO:-0800
TZNAME:PST
DTSTART:20171105T090000
END:STANDARD
BEGIN:DAYLIGHT
TZOFFSETFROM:-0800
TZOFFSETTO:-0700
TZNAME:PDT
DTSTART:20180311T100000
END:DAYLIGHT
BEGIN:STANDARD
TZOFFSETFROM:-0700
TZOFFSETTO:-0800
TZNAME:PST
DTSTART:20181104T090000
END:STANDARD
BEGIN:DAYLIGHT
TZOFFSETFROM:-0800
TZOFFSETTO:-0700
TZNAME:PDT
DTSTART:20190310T100000
END:DAYLIGHT
BEGIN:STANDARD
TZOFFSETFROM:-0700
TZOFFSETTO:-0800
TZNAME:PST
DTSTART:20191103T090000
END:STANDARD
END:VTIMEZONE
BEGIN:VEVENT
DTSTART;TZID=America/Los_Angeles:20180905T120000
DTEND;TZID=America/Los_Angeles:20180905T133000
DTSTAMP:20260424T050832
CREATED:20171011T214611Z
LAST-MODIFIED:20171011T214611Z
UID:9542-1536148800-1536154200@westcolumbiagorgechamber.com
SUMMARY:LOL: Learn Over Lunch with Author Bill Weiler
DESCRIPTION:  \n \nAuthor Bill Weiler will be our guest speaker at Learn Over Lunch for  \nWednesday\, September 5th \nNoon to 1:30 \nat  \nRistorante di Pompello \n177 E Historic Columbia River Hwy\, Troutdale\, OR 97060 \n  \nCome and have some fun hearing from Bill\, an enthusiastic wildlife biologist who has served as the habitat restoration coordinator for the Sandy River Basin Watershed Council since 2013. Weiler manages Sandy River Delta restoration and education projects\, and is the author of three books\, including “The Earth Speaks” and “Don’t Run From Bears.” Bill is also a featured author for Fall Festival of the Arts this year.  \nDon’t miss out on this opportunity! It’s going to be great! \n  \n~ Join us for a fun and educational networking opportunity while you enjoy a delicious meal ~ \n\nBring a guest ~ Bring your business cards!
URL:https://westcolumbiagorgechamber.com/event/lol-learn-over-lunch-21-4/
LOCATION:Ristorante di Pompello\, 177 E Historic Columbia River Hwy\, Troutdale\, OR\, 97060\, United States
CATEGORIES:Events - Chamber,Learn Over Lunchs
END:VEVENT
BEGIN:VEVENT
DTSTART;TZID=America/Los_Angeles:20180905T120000
DTEND;TZID=America/Los_Angeles:20180905T133000
DTSTAMP:20260424T050832
CREATED:20171011T214611Z
LAST-MODIFIED:20171011T214611Z
UID:5182-1536148800-1536154200@westcolumbiagorgechamber.com
SUMMARY:LOL: Learn Over Lunch with Author Bill Weiler
DESCRIPTION:  \n \nAuthor Bill Weiler will be our guest speaker at Learn Over Lunch for  \nWednesday\, September 5th \nNoon to 1:30 \nat  \nRistorante di Pompello \n177 E Historic Columbia River Hwy\, Troutdale\, OR 97060 \n  \nCome and have some fun hearing from Bill\, an enthusiastic wildlife biologist who has served as the habitat restoration coordinator for the Sandy River Basin Watershed Council since 2013. Weiler manages Sandy River Delta restoration and education projects\, and is the author of three books\, including “The Earth Speaks” and “Don’t Run From Bears.” Bill is also a featured author for Fall Festival of the Arts this year.  \nDon’t miss out on this opportunity! It’s going to be great! \n  \n~ Join us for a fun and educational networking opportunity while you enjoy a delicious meal ~ \n\nBring a guest ~ Bring your business cards!
URL:https://westcolumbiagorgechamber.com/event/lol-learn-over-lunch-21/
LOCATION:Ristorante di Pompello\, 177 E Historic Columbia River Hwy\, Troutdale\, OR\, 97060\, United States
CATEGORIES:Events - Chamber,Learn Over Lunchs
END:VEVENT
BEGIN:VEVENT
DTSTART;TZID=America/Los_Angeles:20180905T120000
DTEND;TZID=America/Los_Angeles:20180905T133000
DTSTAMP:20260424T050832
CREATED:20171011T214611Z
LAST-MODIFIED:20171011T214611Z
UID:8743-1536148800-1536154200@westcolumbiagorgechamber.com
SUMMARY:LOL: Learn Over Lunch with Author Bill Weiler
DESCRIPTION:  \n \nAuthor Bill Weiler will be our guest speaker at Learn Over Lunch for  \nWednesday\, September 5th \nNoon to 1:30 \nat  \nRistorante di Pompello \n177 E Historic Columbia River Hwy\, Troutdale\, OR 97060 \n  \nCome and have some fun hearing from Bill\, an enthusiastic wildlife biologist who has served as the habitat restoration coordinator for the Sandy River Basin Watershed Council since 2013. Weiler manages Sandy River Delta restoration and education projects\, and is the author of three books\, including “The Earth Speaks” and “Don’t Run From Bears.” Bill is also a featured author for Fall Festival of the Arts this year.  \nDon’t miss out on this opportunity! It’s going to be great! \n  \n~ Join us for a fun and educational networking opportunity while you enjoy a delicious meal ~ \n\nBring a guest ~ Bring your business cards!
URL:https://westcolumbiagorgechamber.com/event/lol-learn-over-lunch-21-2/
LOCATION:Ristorante di Pompello\, 177 E Historic Columbia River Hwy\, Troutdale\, OR\, 97060\, United States
CATEGORIES:Events - Chamber,Learn Over Lunchs
END:VEVENT
BEGIN:VEVENT
DTSTART;TZID=America/Los_Angeles:20180905T120000
DTEND;TZID=America/Los_Angeles:20180905T133000
DTSTAMP:20260424T050832
CREATED:20171011T214611Z
LAST-MODIFIED:20171011T214611Z
UID:8768-1536148800-1536154200@westcolumbiagorgechamber.com
SUMMARY:LOL: Learn Over Lunch with Author Bill Weiler
DESCRIPTION:  \n \nAuthor Bill Weiler will be our guest speaker at Learn Over Lunch for  \nWednesday\, September 5th \nNoon to 1:30 \nat  \nRistorante di Pompello \n177 E Historic Columbia River Hwy\, Troutdale\, OR 97060 \n  \nCome and have some fun hearing from Bill\, an enthusiastic wildlife biologist who has served as the habitat restoration coordinator for the Sandy River Basin Watershed Council since 2013. Weiler manages Sandy River Delta restoration and education projects\, and is the author of three books\, including “The Earth Speaks” and “Don’t Run From Bears.” Bill is also a featured author for Fall Festival of the Arts this year.  \nDon’t miss out on this opportunity! It’s going to be great! \n  \n~ Join us for a fun and educational networking opportunity while you enjoy a delicious meal ~ \n\nBring a guest ~ Bring your business cards!
URL:https://westcolumbiagorgechamber.com/event/lol-learn-over-lunch-21-3/
LOCATION:Ristorante di Pompello\, 177 E Historic Columbia River Hwy\, Troutdale\, OR\, 97060\, United States
CATEGORIES:Events - Chamber,Learn Over Lunchs
END:VEVENT
END:VCALENDAR