BEGIN:VCALENDAR
VERSION:2.0
PRODID:-//West Columbia Gorge Chamber of Commerce - ECPv6.15.20//NONSGML v1.0//EN
CALSCALE:GREGORIAN
METHOD:PUBLISH
X-ORIGINAL-URL:https://westcolumbiagorgechamber.com
X-WR-CALDESC:Events for West Columbia Gorge Chamber of Commerce
REFRESH-INTERVAL;VALUE=DURATION:PT1H
X-Robots-Tag:noindex
X-PUBLISHED-TTL:PT1H
BEGIN:VTIMEZONE
TZID:America/Los_Angeles
BEGIN:DAYLIGHT
TZOFFSETFROM:-0800
TZOFFSETTO:-0700
TZNAME:PDT
DTSTART:20160313T100000
END:DAYLIGHT
BEGIN:STANDARD
TZOFFSETFROM:-0700
TZOFFSETTO:-0800
TZNAME:PST
DTSTART:20161106T090000
END:STANDARD
BEGIN:DAYLIGHT
TZOFFSETFROM:-0800
TZOFFSETTO:-0700
TZNAME:PDT
DTSTART:20170312T100000
END:DAYLIGHT
BEGIN:STANDARD
TZOFFSETFROM:-0700
TZOFFSETTO:-0800
TZNAME:PST
DTSTART:20171105T090000
END:STANDARD
BEGIN:DAYLIGHT
TZOFFSETFROM:-0800
TZOFFSETTO:-0700
TZNAME:PDT
DTSTART:20180311T100000
END:DAYLIGHT
BEGIN:STANDARD
TZOFFSETFROM:-0700
TZOFFSETTO:-0800
TZNAME:PST
DTSTART:20181104T090000
END:STANDARD
END:VTIMEZONE
BEGIN:VEVENT
DTSTART;TZID=America/Los_Angeles:20170301T120000
DTEND;TZID=America/Los_Angeles:20170301T133000
DTSTAMP:20260425T182616
CREATED:20161206T211900Z
LAST-MODIFIED:20161206T211900Z
UID:2712-1488369600-1488375000@westcolumbiagorgechamber.com
SUMMARY:LOL: Learn Over Lunch
DESCRIPTION:Learn Over Lunch with Amy Machesic of Rain Shine Studio \n \n \n  \n  \n  \n  \n  \n\n Amy Machesic is a 2nd generation glass artist\, who grew up in Pennsylvania. Although she enjoys several mediums\, once she finishes a design it feels like a starting point for a stained glass piece.  During a traditional apprenticeship she learned multiple techniques in glasswork\, including the “Tiffany Style” of copper foil and leaded glass\, from design through installation. As a journey level glazier\, Amy spent the past 4 years expanding her knowledge and experience with projects and glass adventures in the Pacific Northwest. Ultimately the best projects for her build relationships and create custom pieces her clients will cherish for a lifetime – preferably with a story and maybe some reclaimed parts.  Amy is very busy but has found it hard to focus on the glass\, with the addition of an important new job title – “Mama.” \n \nLunch at Ristorante Di Pompello\, $15.00 inclusive\, with five entrees from which to choose~\n https://rainshinestudio.com/
URL:https://westcolumbiagorgechamber.com/event/lol-learn-over-lunch-3/
LOCATION:Bumper’s Grill and Bar\, 21935 NE Halsey Ste. 100\, Fairview\, OR\, 97024\, United States
CATEGORIES:AM Networkings,Events - Chamber,Learn Over Lunchs
END:VEVENT
BEGIN:VEVENT
DTSTART;TZID=America/Los_Angeles:20170301T120000
DTEND;TZID=America/Los_Angeles:20170301T133000
DTSTAMP:20260425T182616
CREATED:20161206T211900Z
LAST-MODIFIED:20161206T211900Z
UID:9105-1488369600-1488375000@westcolumbiagorgechamber.com
SUMMARY:LOL: Learn Over Lunch
DESCRIPTION:Learn Over Lunch with Amy Machesic of Rain Shine Studio \n \n \n  \n  \n  \n  \n  \n\n Amy Machesic is a 2nd generation glass artist\, who grew up in Pennsylvania. Although she enjoys several mediums\, once she finishes a design it feels like a starting point for a stained glass piece.  During a traditional apprenticeship she learned multiple techniques in glasswork\, including the “Tiffany Style” of copper foil and leaded glass\, from design through installation. As a journey level glazier\, Amy spent the past 4 years expanding her knowledge and experience with projects and glass adventures in the Pacific Northwest. Ultimately the best projects for her build relationships and create custom pieces her clients will cherish for a lifetime – preferably with a story and maybe some reclaimed parts.  Amy is very busy but has found it hard to focus on the glass\, with the addition of an important new job title – “Mama.” \n \nLunch at Ristorante Di Pompello\, $15.00 inclusive\, with five entrees from which to choose~\n https://rainshinestudio.com/
URL:https://westcolumbiagorgechamber.com/event/lol-learn-over-lunch-3-4/
LOCATION:Bumper’s Grill and Bar\, 21935 NE Halsey Ste. 100\, Fairview\, OR\, 97024\, United States
CATEGORIES:AM Networkings,Events - Chamber,Learn Over Lunchs
END:VEVENT
BEGIN:VEVENT
DTSTART;TZID=America/Los_Angeles:20170301T120000
DTEND;TZID=America/Los_Angeles:20170301T133000
DTSTAMP:20260425T182616
CREATED:20161206T211900Z
LAST-MODIFIED:20161206T211900Z
UID:8446-1488369600-1488375000@westcolumbiagorgechamber.com
SUMMARY:LOL: Learn Over Lunch
DESCRIPTION:Learn Over Lunch with Amy Machesic of Rain Shine Studio \n \n \n  \n  \n  \n  \n  \n\n Amy Machesic is a 2nd generation glass artist\, who grew up in Pennsylvania. Although she enjoys several mediums\, once she finishes a design it feels like a starting point for a stained glass piece.  During a traditional apprenticeship she learned multiple techniques in glasswork\, including the “Tiffany Style” of copper foil and leaded glass\, from design through installation. As a journey level glazier\, Amy spent the past 4 years expanding her knowledge and experience with projects and glass adventures in the Pacific Northwest. Ultimately the best projects for her build relationships and create custom pieces her clients will cherish for a lifetime – preferably with a story and maybe some reclaimed parts.  Amy is very busy but has found it hard to focus on the glass\, with the addition of an important new job title – “Mama.” \n \nLunch at Ristorante Di Pompello\, $15.00 inclusive\, with five entrees from which to choose~\n https://rainshinestudio.com/
URL:https://westcolumbiagorgechamber.com/event/lol-learn-over-lunch-3-2/
LOCATION:Bumper’s Grill and Bar\, 21935 NE Halsey Ste. 100\, Fairview\, OR\, 97024\, United States
CATEGORIES:AM Networkings,Events - Chamber,Learn Over Lunchs
END:VEVENT
BEGIN:VEVENT
DTSTART;TZID=America/Los_Angeles:20170301T120000
DTEND;TZID=America/Los_Angeles:20170301T133000
DTSTAMP:20260425T182616
CREATED:20161206T211900Z
LAST-MODIFIED:20161206T211900Z
UID:8479-1488369600-1488375000@westcolumbiagorgechamber.com
SUMMARY:LOL: Learn Over Lunch
DESCRIPTION:Learn Over Lunch with Amy Machesic of Rain Shine Studio \n \n \n  \n  \n  \n  \n  \n\n Amy Machesic is a 2nd generation glass artist\, who grew up in Pennsylvania. Although she enjoys several mediums\, once she finishes a design it feels like a starting point for a stained glass piece.  During a traditional apprenticeship she learned multiple techniques in glasswork\, including the “Tiffany Style” of copper foil and leaded glass\, from design through installation. As a journey level glazier\, Amy spent the past 4 years expanding her knowledge and experience with projects and glass adventures in the Pacific Northwest. Ultimately the best projects for her build relationships and create custom pieces her clients will cherish for a lifetime – preferably with a story and maybe some reclaimed parts.  Amy is very busy but has found it hard to focus on the glass\, with the addition of an important new job title – “Mama.” \n \nLunch at Ristorante Di Pompello\, $15.00 inclusive\, with five entrees from which to choose~\n https://rainshinestudio.com/
URL:https://westcolumbiagorgechamber.com/event/lol-learn-over-lunch-3-3/
LOCATION:Bumper’s Grill and Bar\, 21935 NE Halsey Ste. 100\, Fairview\, OR\, 97024\, United States
CATEGORIES:AM Networkings,Events - Chamber,Learn Over Lunchs
END:VEVENT
BEGIN:VEVENT
DTSTART;TZID=America/Los_Angeles:20170315T120000
DTEND;TZID=America/Los_Angeles:20170315T133000
DTSTAMP:20260425T182616
CREATED:20170307T184148Z
LAST-MODIFIED:20170307T184148Z
UID:8530-1489579200-1489584600@westcolumbiagorgechamber.com
SUMMARY:Extra LOL: Learn Over Lunch
DESCRIPTION:What’s in your water?  \nLearn about ENAGIC: A New Life In Water \nwith Joyce Bredemeier\n\nBRING YOUR BUSINESS CARDS and come learn about the benefits of Enagic’s alkalized Kangen water.  Kangen Water is the rage in Hawaii and has been used in Japan for many years.  See Joyce’s eye opening water demo as she compares popular drinks\, bottled water and tap water.   Our local water is acidic and can cause a large number of auto immune diseases.  Alkalized Kangen water can actually reverse that course.  After viewing the demonstration\, you will realize why so many people are changing their water to alkaline hydrogen rich antioxidant water for it’s health benefits. \nBring a glass of your own water or favorite drink to test! \nJoin Joyce at Ristorante Di Pompello \n$15.00 inclusive and five entrees from which to choose.\n177 E Historic Columbia River Hwy\, Troutdale
URL:https://westcolumbiagorgechamber.com/event/lol-learn-over-lunch-4-2/
LOCATION:Ristorante Di Pompello\, 177 E. Historic Columbia River Hwy\, Troutdale\, United States
CATEGORIES:AM Networkings,Events - Chamber,Learn Over Lunchs
END:VEVENT
BEGIN:VEVENT
DTSTART;TZID=America/Los_Angeles:20170315T120000
DTEND;TZID=America/Los_Angeles:20170315T133000
DTSTAMP:20260425T182616
CREATED:20170307T184148Z
LAST-MODIFIED:20170307T184148Z
UID:8564-1489579200-1489584600@westcolumbiagorgechamber.com
SUMMARY:Extra LOL: Learn Over Lunch
DESCRIPTION:What’s in your water?  \nLearn about ENAGIC: A New Life In Water \nwith Joyce Bredemeier\n\nBRING YOUR BUSINESS CARDS and come learn about the benefits of Enagic’s alkalized Kangen water.  Kangen Water is the rage in Hawaii and has been used in Japan for many years.  See Joyce’s eye opening water demo as she compares popular drinks\, bottled water and tap water.   Our local water is acidic and can cause a large number of auto immune diseases.  Alkalized Kangen water can actually reverse that course.  After viewing the demonstration\, you will realize why so many people are changing their water to alkaline hydrogen rich antioxidant water for it’s health benefits. \nBring a glass of your own water or favorite drink to test! \nJoin Joyce at Ristorante Di Pompello \n$15.00 inclusive and five entrees from which to choose.\n177 E Historic Columbia River Hwy\, Troutdale
URL:https://westcolumbiagorgechamber.com/event/lol-learn-over-lunch-4-3/
LOCATION:Ristorante Di Pompello\, 177 E. Historic Columbia River Hwy\, Troutdale\, United States
CATEGORIES:AM Networkings,Events - Chamber,Learn Over Lunchs
END:VEVENT
BEGIN:VEVENT
DTSTART;TZID=America/Los_Angeles:20170315T120000
DTEND;TZID=America/Los_Angeles:20170315T133000
DTSTAMP:20260425T182616
CREATED:20170307T184148Z
LAST-MODIFIED:20170307T184148Z
UID:3253-1489579200-1489584600@westcolumbiagorgechamber.com
SUMMARY:Extra LOL: Learn Over Lunch
DESCRIPTION:What’s in your water?  \nLearn about ENAGIC: A New Life In Water \nwith Joyce Bredemeier\n\nBRING YOUR BUSINESS CARDS and come learn about the benefits of Enagic’s alkalized Kangen water.  Kangen Water is the rage in Hawaii and has been used in Japan for many years.  See Joyce’s eye opening water demo as she compares popular drinks\, bottled water and tap water.   Our local water is acidic and can cause a large number of auto immune diseases.  Alkalized Kangen water can actually reverse that course.  After viewing the demonstration\, you will realize why so many people are changing their water to alkaline hydrogen rich antioxidant water for it’s health benefits. \nBring a glass of your own water or favorite drink to test! \nJoin Joyce at Ristorante Di Pompello \n$15.00 inclusive and five entrees from which to choose.\n177 E Historic Columbia River Hwy\, Troutdale
URL:https://westcolumbiagorgechamber.com/event/lol-learn-over-lunch-4/
LOCATION:Ristorante Di Pompello\, 177 E. Historic Columbia River Hwy\, Troutdale\, United States
CATEGORIES:AM Networkings,Events - Chamber,Learn Over Lunchs
END:VEVENT
BEGIN:VEVENT
DTSTART;TZID=America/Los_Angeles:20170315T120000
DTEND;TZID=America/Los_Angeles:20170315T133000
DTSTAMP:20260425T182616
CREATED:20170307T184148Z
LAST-MODIFIED:20170307T184148Z
UID:9237-1489579200-1489584600@westcolumbiagorgechamber.com
SUMMARY:Extra LOL: Learn Over Lunch
DESCRIPTION:What’s in your water?  \nLearn about ENAGIC: A New Life In Water \nwith Joyce Bredemeier\n\nBRING YOUR BUSINESS CARDS and come learn about the benefits of Enagic’s alkalized Kangen water.  Kangen Water is the rage in Hawaii and has been used in Japan for many years.  See Joyce’s eye opening water demo as she compares popular drinks\, bottled water and tap water.   Our local water is acidic and can cause a large number of auto immune diseases.  Alkalized Kangen water can actually reverse that course.  After viewing the demonstration\, you will realize why so many people are changing their water to alkaline hydrogen rich antioxidant water for it’s health benefits. \nBring a glass of your own water or favorite drink to test! \nJoin Joyce at Ristorante Di Pompello \n$15.00 inclusive and five entrees from which to choose.\n177 E Historic Columbia River Hwy\, Troutdale
URL:https://westcolumbiagorgechamber.com/event/lol-learn-over-lunch-4-4/
LOCATION:Ristorante Di Pompello\, 177 E. Historic Columbia River Hwy\, Troutdale\, United States
CATEGORIES:AM Networkings,Events - Chamber,Learn Over Lunchs
END:VEVENT
END:VCALENDAR