BEGIN:VCALENDAR
VERSION:2.0
PRODID:-//West Columbia Gorge Chamber of Commerce - ECPv6.15.20//NONSGML v1.0//EN
CALSCALE:GREGORIAN
METHOD:PUBLISH
X-WR-CALNAME:West Columbia Gorge Chamber of Commerce
X-ORIGINAL-URL:https://westcolumbiagorgechamber.com
X-WR-CALDESC:Events for West Columbia Gorge Chamber of Commerce
REFRESH-INTERVAL;VALUE=DURATION:PT1H
X-Robots-Tag:noindex
X-PUBLISHED-TTL:PT1H
BEGIN:VTIMEZONE
TZID:America/Los_Angeles
BEGIN:DAYLIGHT
TZOFFSETFROM:-0800
TZOFFSETTO:-0700
TZNAME:PDT
DTSTART:20250309T100000
END:DAYLIGHT
BEGIN:STANDARD
TZOFFSETFROM:-0700
TZOFFSETTO:-0800
TZNAME:PST
DTSTART:20251102T090000
END:STANDARD
BEGIN:DAYLIGHT
TZOFFSETFROM:-0800
TZOFFSETTO:-0700
TZNAME:PDT
DTSTART:20260308T100000
END:DAYLIGHT
BEGIN:STANDARD
TZOFFSETFROM:-0700
TZOFFSETTO:-0800
TZNAME:PST
DTSTART:20261101T090000
END:STANDARD
BEGIN:DAYLIGHT
TZOFFSETFROM:-0800
TZOFFSETTO:-0700
TZNAME:PDT
DTSTART:20270314T100000
END:DAYLIGHT
BEGIN:STANDARD
TZOFFSETFROM:-0700
TZOFFSETTO:-0800
TZNAME:PST
DTSTART:20271107T090000
END:STANDARD
END:VTIMEZONE
BEGIN:VEVENT
DTSTART;VALUE=DATE:20260516
DTEND;VALUE=DATE:20260518
DTSTAMP:20260420T213515
CREATED:20260421T000528Z
LAST-MODIFIED:20260421T000528Z
UID:13734-1778889600-1779062399@westcolumbiagorgechamber.com
SUMMARY:Cascadia Fine Arts Festival
DESCRIPTION:The Cascadia Fine Arts Festival (formerly Troutdale Arts Festival) will be taking place on Saturday\, May 16th and Sunday\, May 17th\, 2026 in Downtown Troutdale\, Oregon on East Historic Columbia River Highway. \nThis festival features fine arts and fine artisan crafts from the Pacific Northwest.  While you are here\, you can enjoy local restaurants\, shops\, and pubs.
URL:https://westcolumbiagorgechamber.com/event/cascadia-fine-arts-festival/
LOCATION:Downtown Troutdale\, Troutdale\, OR\, 97060\, United States
CATEGORIES:Events - Community
END:VEVENT
END:VCALENDAR