BEGIN:VCALENDAR
VERSION:2.0
PRODID:-//West Columbia Gorge Chamber of Commerce - ECPv6.15.20//NONSGML v1.0//EN
CALSCALE:GREGORIAN
METHOD:PUBLISH
X-WR-CALNAME:West Columbia Gorge Chamber of Commerce
X-ORIGINAL-URL:https://westcolumbiagorgechamber.com
X-WR-CALDESC:Events for West Columbia Gorge Chamber of Commerce
REFRESH-INTERVAL;VALUE=DURATION:PT1H
X-Robots-Tag:noindex
X-PUBLISHED-TTL:PT1H
BEGIN:VTIMEZONE
TZID:America/Los_Angeles
BEGIN:DAYLIGHT
TZOFFSETFROM:-0800
TZOFFSETTO:-0700
TZNAME:PDT
DTSTART:20220313T100000
END:DAYLIGHT
BEGIN:STANDARD
TZOFFSETFROM:-0700
TZOFFSETTO:-0800
TZNAME:PST
DTSTART:20221106T090000
END:STANDARD
BEGIN:DAYLIGHT
TZOFFSETFROM:-0800
TZOFFSETTO:-0700
TZNAME:PDT
DTSTART:20230312T100000
END:DAYLIGHT
BEGIN:STANDARD
TZOFFSETFROM:-0700
TZOFFSETTO:-0800
TZNAME:PST
DTSTART:20231105T090000
END:STANDARD
BEGIN:DAYLIGHT
TZOFFSETFROM:-0800
TZOFFSETTO:-0700
TZNAME:PDT
DTSTART:20240310T100000
END:DAYLIGHT
BEGIN:STANDARD
TZOFFSETFROM:-0700
TZOFFSETTO:-0800
TZNAME:PST
DTSTART:20241103T090000
END:STANDARD
BEGIN:DAYLIGHT
TZOFFSETFROM:-0800
TZOFFSETTO:-0700
TZNAME:PDT
DTSTART:20250309T100000
END:DAYLIGHT
BEGIN:STANDARD
TZOFFSETFROM:-0700
TZOFFSETTO:-0800
TZNAME:PST
DTSTART:20251102T090000
END:STANDARD
BEGIN:DAYLIGHT
TZOFFSETFROM:-0800
TZOFFSETTO:-0700
TZNAME:PDT
DTSTART:20260308T100000
END:DAYLIGHT
BEGIN:STANDARD
TZOFFSETFROM:-0700
TZOFFSETTO:-0800
TZNAME:PST
DTSTART:20261101T090000
END:STANDARD
BEGIN:DAYLIGHT
TZOFFSETFROM:-0800
TZOFFSETTO:-0700
TZNAME:PDT
DTSTART:20270314T100000
END:DAYLIGHT
BEGIN:STANDARD
TZOFFSETFROM:-0700
TZOFFSETTO:-0800
TZNAME:PST
DTSTART:20271107T090000
END:STANDARD
END:VTIMEZONE
BEGIN:VEVENT
DTSTART;TZID=America/Los_Angeles:20230804T100000
DTEND;TZID=America/Los_Angeles:20230804T140000
DTSTAMP:20260422T145358
CREATED:20230517T075407Z
LAST-MODIFIED:20230517T075407Z
UID:10238-1691143200-1691157600@westcolumbiagorgechamber.com
SUMMARY:Friday Family Fun Night: Friday\, August 4\, 2023 in Wood Village
DESCRIPTION:In partnership with PlayEast! Recreation and Friends of Baseball\, the Friday Family Fun Night is a family-friendly evening of games\, free food\, and an outdoor movie.
URL:https://westcolumbiagorgechamber.com/event/friday-family-fun-night-friday-august-4-2023-in-wood-village/
LOCATION:City of Wood Village City Hall\, 24200 NE Halsey St\, Wood Village\, OR\, 97060\, United States
CATEGORIES:City of Wood Village,Events - Community
END:VEVENT
BEGIN:VEVENT
DTSTART;TZID=America/Los_Angeles:20231028T030000
DTEND;TZID=America/Los_Angeles:20231028T070000
DTSTAMP:20260422T145358
CREATED:20230517T075938Z
LAST-MODIFIED:20231025T115502Z
UID:10241-1698462000-1698476400@westcolumbiagorgechamber.com
SUMMARY:Pumpkin Fest: Saturday\, October 28\, 2023 City of Wood Village
DESCRIPTION:A family-friendly event held each year on the last Saturday before Halloween. This free event has pumpkin carving\, face painting\, games and activities\, food\, and more.
URL:https://westcolumbiagorgechamber.com/event/pumpkin-fest-saturday-october-27-2023-city-of-wood-village/
LOCATION:City of Wood Village City Hall\, 24200 NE Halsey St\, Wood Village\, OR\, 97060\, United States
CATEGORIES:City of Wood Village,Events - Community
END:VEVENT
BEGIN:VEVENT
DTSTART;TZID=America/Los_Angeles:20231117T220000
DTEND;TZID=America/Los_Angeles:20231118T000000
DTSTAMP:20260422T145358
CREATED:20231024T062236Z
LAST-MODIFIED:20231024T062715Z
UID:12492-1700258400-1700265600@westcolumbiagorgechamber.com
SUMMARY:Turkey Drive
DESCRIPTION:The cities of Wood Village and Fairview have partnered with the East County Food Pantry at Smith Memorial Presbyterian Church (2420 NE Fairview Ave\, Fairview\, OR 97024) to offer Thanksgiving Food Boxes to Wood Village and Fairview community members\, plus those who already regularly receive food from the food pantry. \nDue to the limited number of turkeys and pies that the pantry is able to provide\, they ask that you please indicate your interest by signing up online. The turkeys\, pies\, and other fixin’s will be available to pick up at the church parking lot on Saturday\, November 18th from 2pm to 4pm. \nIf transportation is a challenge for you\, the food pantry asks that you arrange for a friend\, family member\, or neighbor to pick it up on your behalf.  Please indicate that person’s name in the comment section of the application.
URL:https://westcolumbiagorgechamber.com/event/turkey-drive/
LOCATION:Smith Memorial Presbyterian Church
CATEGORIES:City of Fairview,Events - Community
ATTACH;FMTTYPE=image/png:https://westcolumbiagorgechamber.com/wp-content/uploads/2023/10/Facebook-Posts-96.png
ORGANIZER;CN="Smith Memorial Presbyterian":MAILTO:eastcountyfp@gmail.com
END:VEVENT
BEGIN:VEVENT
DTSTART;TZID=America/Los_Angeles:20231124T190000
DTEND;TZID=America/Los_Angeles:20231125T000000
DTSTAMP:20260422T145358
CREATED:20231112T121924Z
LAST-MODIFIED:20231112T123322Z
UID:12569-1700852400-1700870400@westcolumbiagorgechamber.com
SUMMARY:Fill the Cruiser Toy Drive\, Saturday November 25th from 10:00 am to 3:00 pm
DESCRIPTION:Wood Village is sponsoring this event and it will be held in 3 locations as follows \n Locations: Fred Meyer 22855 NE Park Ln \n                                     Kohls 22557 NE Park Ln Wood Village \n                                     Walmart 23500 NE Sandy Blvd Wood Village \nCome bring a toy and help make someone’s Christmas a little brighter and better. \n  \n 
URL:https://westcolumbiagorgechamber.com/event/fill-the-cruiser-toy-drive-saturday-november-25th-from-1000-am-to-300-pm/
LOCATION:OR
CATEGORIES:Events - Community
END:VEVENT
BEGIN:VEVENT
DTSTART;TZID=America/Los_Angeles:20231202T090000
DTEND;TZID=America/Los_Angeles:20231202T100000
DTSTAMP:20260422T145358
CREATED:20230517T080230Z
LAST-MODIFIED:20231128T183148Z
UID:10243-1701507600-1701511200@westcolumbiagorgechamber.com
SUMMARY:Holiday Tree Lighting: City of Wood Village will be Saturday Dec 2nd
DESCRIPTION:The annual Tree Lighting event kicks off the holiday season in Wood Village with live music\, free treats and refreshments\, and a visit from Santa and the Grrinch as well\, all leading up to the tree lighting countdown.  This event will be held at Wood Village City Hall.
URL:https://westcolumbiagorgechamber.com/event/holiday-tree-lighting-friday-december-1-2023-city-of-wood-village/
LOCATION:City of Wood Village City Hall\, 24200 NE Halsey St\, Wood Village\, OR\, 97060\, United States
CATEGORIES:City of Wood Village,Events - Community
ATTACH;FMTTYPE=image/png:https://westcolumbiagorgechamber.com/wp-content/uploads/2018/11/Christmas-tree.png
END:VEVENT
BEGIN:VEVENT
DTSTART;TZID=America/Los_Angeles:20240329T190000
DTEND;TZID=America/Los_Angeles:20240329T210000
DTSTAMP:20260422T145358
CREATED:20240102T044409Z
LAST-MODIFIED:20231024T063039Z
UID:12485-1711738800-1711746000@westcolumbiagorgechamber.com
SUMMARY:Easter Event
DESCRIPTION:
URL:https://westcolumbiagorgechamber.com/event/easter-event/
LOCATION:Fairview Community Park\, 21600 NE Park Lane\, Fairview\, OR\, 97024\, United States
CATEGORIES:City of Fairview,Events - Community
ATTACH;FMTTYPE=image/jpeg:https://westcolumbiagorgechamber.com/wp-content/uploads/2023/10/Easter-Egg-Hunt-In-Fairview-Oregon.jpg
ORGANIZER;CN="City of Fairview":MAILTO:leymasterd@ci.fairview.or.us
END:VEVENT
BEGIN:VEVENT
DTSTART;TZID=America/Los_Angeles:20240705T180000
DTEND;TZID=America/Los_Angeles:20240705T210000
DTSTAMP:20260422T145358
CREATED:20240418T210358Z
LAST-MODIFIED:20240418T210358Z
UID:12789-1720202400-1720213200@westcolumbiagorgechamber.com
SUMMARY:First Friday July in downtown Troutdale
DESCRIPTION:
URL:https://westcolumbiagorgechamber.com/event/first-friday-july-in-downtown-troutdale/
LOCATION:OR
CATEGORIES:City of Troutdale,Events - Community
END:VEVENT
BEGIN:VEVENT
DTSTART;TZID=America/Los_Angeles:20240803T180000
DTEND;TZID=America/Los_Angeles:20240803T210000
DTSTAMP:20260422T145358
CREATED:20240418T210517Z
LAST-MODIFIED:20240418T210517Z
UID:12791-1722708000-1722718800@westcolumbiagorgechamber.com
SUMMARY:First Friday for August
DESCRIPTION:
URL:https://westcolumbiagorgechamber.com/event/first-friday-for-august/
LOCATION:OR
CATEGORIES:City of Troutdale,Events - Community
END:VEVENT
BEGIN:VEVENT
DTSTART;TZID=America/Los_Angeles:20240906T180000
DTEND;TZID=America/Los_Angeles:20240906T210000
DTSTAMP:20260422T145358
CREATED:20240418T210629Z
LAST-MODIFIED:20240906T220748Z
UID:12793-1725645600-1725656400@westcolumbiagorgechamber.com
SUMMARY:Final First Friday of the Summer in Downtown Troutdale
DESCRIPTION:
URL:https://westcolumbiagorgechamber.com/event/final-first-friday-of-the-summer-in-downtown-troutdale/
LOCATION:OR
CATEGORIES:City of Troutdale,Events - Community
END:VEVENT
BEGIN:VEVENT
DTSTART;TZID=America/Los_Angeles:20241207T163000
DTEND;TZID=America/Los_Angeles:20241207T190000
DTSTAMP:20260422T145358
CREATED:20241108T183224Z
LAST-MODIFIED:20241108T183224Z
UID:13128-1733589000-1733598000@westcolumbiagorgechamber.com
SUMMARY:2024 Wood Village Tree lighting at City Hall!
DESCRIPTION:This years Tree Lighting in Wood Village will be\, once again\, at City Hall. Santa is making an appearance to see children and make their Santa requests.\nSpecial guest will be the Grinch to encourage children to remember the reason for the season and it is not only about the presents.  Children’s activities start\nat 4:30 with Santa arriving at 5pm.  The tree lighting will happen shortly after that.  Volunteers are needed so if you want to help contact the Chamber or Caroline Hinders of Wood Village.  See you there!!
URL:https://westcolumbiagorgechamber.com/event/2024-wood-village-tree-lighting-at-city-hall/
LOCATION:City of Wood Village City Hall\, 24200 NE Halsey St\, Wood Village\, OR\, 97060\, United States
CATEGORIES:City of Wood Village,Events - Chamber,Events - Community
END:VEVENT
BEGIN:VEVENT
DTSTART;TZID=America/Los_Angeles:20250606T160000
DTEND;TZID=America/Los_Angeles:20250606T200000
DTSTAMP:20260422T145358
CREATED:20250424T200452Z
LAST-MODIFIED:20250424T200452Z
UID:13356-1749225600-1749240000@westcolumbiagorgechamber.com
SUMMARY:First Friday in Downtown Troutdale starts June 6th!
DESCRIPTION:The City of Troutdale shuts down the streets and host First Fridays for the Summer.  So plan on coming and seeing all that is happening downtown Troutdale\nfrom 4pm to 8pm.  The Chamber will have a booth so check in with us if you want a seat at our booth.
URL:https://westcolumbiagorgechamber.com/event/first-friday-in-downtown-troutdale-starts-june-6th/
LOCATION:City of Troutdale
CATEGORIES:City of Troutdale,Events - Community
END:VEVENT
BEGIN:VEVENT
DTSTART;TZID=America/Los_Angeles:20250607T080000
DTEND;TZID=America/Los_Angeles:20250608T170000
DTSTAMP:20260422T145358
CREATED:20250508T224753Z
LAST-MODIFIED:20250508T224753Z
UID:13371-1749283200-1749402000@westcolumbiagorgechamber.com
SUMMARY:Troutdale Art Festival in downtown Troutdale Saturday and Sunday
DESCRIPTION:The Troutdale Art Festival will be Saturday and Sunday June 7th and 8th  Come and see the juried Art Show.\nThere will be a shuttle at the Gorge Outlets to ease the parking situation. \nA great time for the entire family.
URL:https://westcolumbiagorgechamber.com/event/troutdale-art-festival-in-downtown-troutdale-saturday-and-sunday/
LOCATION:Troutdale  Highway 30 on the main street thoroughfare
CATEGORIES:City of Troutdale,Events - Community
END:VEVENT
BEGIN:VEVENT
DTSTART;TZID=America/Los_Angeles:20250718T160000
DTEND;TZID=America/Los_Angeles:20250718T193000
DTSTAMP:20260422T145358
CREATED:20250513T162503Z
LAST-MODIFIED:20250513T162520Z
UID:13373-1752854400-1752867000@westcolumbiagorgechamber.com
SUMMARY:Wood Village City Night out July 18th at Wood Village Baptist Church!
DESCRIPTION:Typically this runs from 4pm to 7:30pm Games\, music and fun for the entire family. About 30 orgainziations display and participate in this fun event.\nSave the date and come early. See you there!
URL:https://westcolumbiagorgechamber.com/event/wood-village-city-night-out-july-18th-at-wood-village-baptist-church/
LOCATION:Wood Village Baptist Church\, 23601 NE Arata Rd.\, Wood Village\, OR\, 97060\, United States
CATEGORIES:Events - Community
ORGANIZER;CN="City of Wood Village":MAILTO:gregd@ci.wood-village.or.us 
END:VEVENT
BEGIN:VEVENT
DTSTART;VALUE=DATE:20260516
DTEND;VALUE=DATE:20260518
DTSTAMP:20260422T145358
CREATED:20260421T000528Z
LAST-MODIFIED:20260421T000528Z
UID:13734-1778889600-1779062399@westcolumbiagorgechamber.com
SUMMARY:Cascadia Fine Arts Festival
DESCRIPTION:The Cascadia Fine Arts Festival (formerly Troutdale Arts Festival) will be taking place on Saturday\, May 16th and Sunday\, May 17th\, 2026 in Downtown Troutdale\, Oregon on East Historic Columbia River Highway. \nThis festival features fine arts and fine artisan crafts from the Pacific Northwest.  While you are here\, you can enjoy local restaurants\, shops\, and pubs.
URL:https://westcolumbiagorgechamber.com/event/cascadia-fine-arts-festival/
LOCATION:Downtown Troutdale\, Troutdale\, OR\, 97060\, United States
CATEGORIES:Events - Community
END:VEVENT
END:VCALENDAR