BEGIN:VCALENDAR
VERSION:2.0
PRODID:-//West Columbia Gorge Chamber of Commerce - ECPv6.15.20//NONSGML v1.0//EN
CALSCALE:GREGORIAN
METHOD:PUBLISH
X-WR-CALNAME:West Columbia Gorge Chamber of Commerce
X-ORIGINAL-URL:https://westcolumbiagorgechamber.com
X-WR-CALDESC:Events for West Columbia Gorge Chamber of Commerce
REFRESH-INTERVAL;VALUE=DURATION:PT1H
X-Robots-Tag:noindex
X-PUBLISHED-TTL:PT1H
BEGIN:VTIMEZONE
TZID:America/Los_Angeles
BEGIN:DAYLIGHT
TZOFFSETFROM:-0800
TZOFFSETTO:-0700
TZNAME:PDT
DTSTART:20200308T100000
END:DAYLIGHT
BEGIN:STANDARD
TZOFFSETFROM:-0700
TZOFFSETTO:-0800
TZNAME:PST
DTSTART:20201101T090000
END:STANDARD
BEGIN:DAYLIGHT
TZOFFSETFROM:-0800
TZOFFSETTO:-0700
TZNAME:PDT
DTSTART:20210314T100000
END:DAYLIGHT
BEGIN:STANDARD
TZOFFSETFROM:-0700
TZOFFSETTO:-0800
TZNAME:PST
DTSTART:20211107T090000
END:STANDARD
BEGIN:DAYLIGHT
TZOFFSETFROM:-0800
TZOFFSETTO:-0700
TZNAME:PDT
DTSTART:20220313T100000
END:DAYLIGHT
BEGIN:STANDARD
TZOFFSETFROM:-0700
TZOFFSETTO:-0800
TZNAME:PST
DTSTART:20221106T090000
END:STANDARD
END:VTIMEZONE
BEGIN:VEVENT
DTSTART;TZID=America/Los_Angeles:20210506T180000
DTEND;TZID=America/Los_Angeles:20210506T190000
DTSTAMP:20260423T133806
CREATED:20210429T210825Z
LAST-MODIFIED:20210429T210825Z
UID:7854-1620324000-1620327600@westcolumbiagorgechamber.com
SUMMARY:PlayEast 4th Annual Fundraiser
DESCRIPTION:You are cordially invite to attend our virtual fundraising event on May 6th at 6pm via zoom. To register to the event please click this link here (https://us06web.zoom.us/webinar/register/WN_qZ06XOQKRcCui0PsVvgROw)\, you will receive a confirmation email containing information about joining the webinar. After that please do not forget to also register to be able to bid for our silent auction at fundraiser.playeast.org or to donate. Anything helps and feel free to share this invite. \nWhat a year we have experienced together! 2020 and the Covid-19 pandemic has shown us how important healthy recreation opportunities are for our kids. We’ve also seen the tremendous disparities of options for them. Coupled with the fact that schools Facilities are not available\, kids are locked down do online learning\, and parents are at their wits end\, OUR KIDS NEED TO PLAY!! \nHelp us reach our goal of raising $40\,000. Our premier sponsor\, First Community Credit Union\, has stepped up and will MATCH every donation up to a total of $10\,000. All proceeds go to grow the program and provide scholarships to all who need one. \nAlso register to bid for our silent auction at fundraiser.playeast.org or to donate. \nHELP US by donating and supporting our East County youth.
URL:https://westcolumbiagorgechamber.com/event/playeast-4th-annual-fundraiser/
LOCATION:OR
CATEGORIES:Events - Community
END:VEVENT
BEGIN:VEVENT
DTSTART;TZID=America/Los_Angeles:20210506T180000
DTEND;TZID=America/Los_Angeles:20210506T190000
DTSTAMP:20260423T133806
CREATED:20210429T210825Z
LAST-MODIFIED:20210429T210825Z
UID:9504-1620324000-1620327600@westcolumbiagorgechamber.com
SUMMARY:PlayEast 4th Annual Fundraiser
DESCRIPTION:You are cordially invite to attend our virtual fundraising event on May 6th at 6pm via zoom. To register to the event please click this link here (https://us06web.zoom.us/webinar/register/WN_qZ06XOQKRcCui0PsVvgROw)\, you will receive a confirmation email containing information about joining the webinar. After that please do not forget to also register to be able to bid for our silent auction at fundraiser.playeast.org or to donate. Anything helps and feel free to share this invite. \nWhat a year we have experienced together! 2020 and the Covid-19 pandemic has shown us how important healthy recreation opportunities are for our kids. We’ve also seen the tremendous disparities of options for them. Coupled with the fact that schools Facilities are not available\, kids are locked down do online learning\, and parents are at their wits end\, OUR KIDS NEED TO PLAY!! \nHelp us reach our goal of raising $40\,000. Our premier sponsor\, First Community Credit Union\, has stepped up and will MATCH every donation up to a total of $10\,000. All proceeds go to grow the program and provide scholarships to all who need one. \nAlso register to bid for our silent auction at fundraiser.playeast.org or to donate. \nHELP US by donating and supporting our East County youth.
URL:https://westcolumbiagorgechamber.com/event/playeast-4th-annual-fundraiser-2/
LOCATION:OR
CATEGORIES:Events - Community
END:VEVENT
BEGIN:VEVENT
DTSTART;TZID=America/Los_Angeles:20210506T180000
DTEND;TZID=America/Los_Angeles:20210506T190000
DTSTAMP:20260423T133806
CREATED:20210429T210825Z
LAST-MODIFIED:20210429T210825Z
UID:9538-1620324000-1620327600@westcolumbiagorgechamber.com
SUMMARY:PlayEast 4th Annual Fundraiser
DESCRIPTION:You are cordially invite to attend our virtual fundraising event on May 6th at 6pm via zoom. To register to the event please click this link here (https://us06web.zoom.us/webinar/register/WN_qZ06XOQKRcCui0PsVvgROw)\, you will receive a confirmation email containing information about joining the webinar. After that please do not forget to also register to be able to bid for our silent auction at fundraiser.playeast.org or to donate. Anything helps and feel free to share this invite. \nWhat a year we have experienced together! 2020 and the Covid-19 pandemic has shown us how important healthy recreation opportunities are for our kids. We’ve also seen the tremendous disparities of options for them. Coupled with the fact that schools Facilities are not available\, kids are locked down do online learning\, and parents are at their wits end\, OUR KIDS NEED TO PLAY!! \nHelp us reach our goal of raising $40\,000. Our premier sponsor\, First Community Credit Union\, has stepped up and will MATCH every donation up to a total of $10\,000. All proceeds go to grow the program and provide scholarships to all who need one. \nAlso register to bid for our silent auction at fundraiser.playeast.org or to donate. \nHELP US by donating and supporting our East County youth.
URL:https://westcolumbiagorgechamber.com/event/playeast-4th-annual-fundraiser-3/
LOCATION:OR
CATEGORIES:Events - Community
END:VEVENT
BEGIN:VEVENT
DTSTART;TZID=America/Los_Angeles:20210506T180000
DTEND;TZID=America/Los_Angeles:20210506T190000
DTSTAMP:20260423T133806
CREATED:20210429T210825Z
LAST-MODIFIED:20210429T210825Z
UID:9870-1620324000-1620327600@westcolumbiagorgechamber.com
SUMMARY:PlayEast 4th Annual Fundraiser
DESCRIPTION:You are cordially invite to attend our virtual fundraising event on May 6th at 6pm via zoom. To register to the event please click this link here (https://us06web.zoom.us/webinar/register/WN_qZ06XOQKRcCui0PsVvgROw)\, you will receive a confirmation email containing information about joining the webinar. After that please do not forget to also register to be able to bid for our silent auction at fundraiser.playeast.org or to donate. Anything helps and feel free to share this invite. \nWhat a year we have experienced together! 2020 and the Covid-19 pandemic has shown us how important healthy recreation opportunities are for our kids. We’ve also seen the tremendous disparities of options for them. Coupled with the fact that schools Facilities are not available\, kids are locked down do online learning\, and parents are at their wits end\, OUR KIDS NEED TO PLAY!! \nHelp us reach our goal of raising $40\,000. Our premier sponsor\, First Community Credit Union\, has stepped up and will MATCH every donation up to a total of $10\,000. All proceeds go to grow the program and provide scholarships to all who need one. \nAlso register to bid for our silent auction at fundraiser.playeast.org or to donate. \nHELP US by donating and supporting our East County youth.
URL:https://westcolumbiagorgechamber.com/event/playeast-4th-annual-fundraiser-4/
LOCATION:OR
CATEGORIES:Events - Community
END:VEVENT
END:VCALENDAR