BEGIN:VCALENDAR
VERSION:2.0
PRODID:-//West Columbia Gorge Chamber of Commerce - ECPv6.15.20//NONSGML v1.0//EN
CALSCALE:GREGORIAN
METHOD:PUBLISH
X-ORIGINAL-URL:https://westcolumbiagorgechamber.com
X-WR-CALDESC:Events for West Columbia Gorge Chamber of Commerce
REFRESH-INTERVAL;VALUE=DURATION:PT1H
X-Robots-Tag:noindex
X-PUBLISHED-TTL:PT1H
BEGIN:VTIMEZONE
TZID:America/Los_Angeles
BEGIN:DAYLIGHT
TZOFFSETFROM:-0800
TZOFFSETTO:-0700
TZNAME:PDT
DTSTART:20180311T100000
END:DAYLIGHT
BEGIN:STANDARD
TZOFFSETFROM:-0700
TZOFFSETTO:-0800
TZNAME:PST
DTSTART:20181104T090000
END:STANDARD
BEGIN:DAYLIGHT
TZOFFSETFROM:-0800
TZOFFSETTO:-0700
TZNAME:PDT
DTSTART:20190310T100000
END:DAYLIGHT
BEGIN:STANDARD
TZOFFSETFROM:-0700
TZOFFSETTO:-0800
TZNAME:PST
DTSTART:20191103T090000
END:STANDARD
BEGIN:DAYLIGHT
TZOFFSETFROM:-0800
TZOFFSETTO:-0700
TZNAME:PDT
DTSTART:20200308T100000
END:DAYLIGHT
BEGIN:STANDARD
TZOFFSETFROM:-0700
TZOFFSETTO:-0800
TZNAME:PST
DTSTART:20201101T090000
END:STANDARD
END:VTIMEZONE
BEGIN:VEVENT
DTSTART;TZID=America/Los_Angeles:20190922T100000
DTEND;TZID=America/Los_Angeles:20190922T160000
DTSTAMP:20260425T050659
CREATED:20190110T213957Z
LAST-MODIFIED:20190110T213957Z
UID:9100-1569146400-1569168000@westcolumbiagorgechamber.com
SUMMARY:Fall Festival of the Arts
DESCRIPTION:2019 Fall Festival of the Arts \nSaturday September 21st  \n10:00am to 6:00pm \nand \nSunday September 22nd \n10:00am to 4:00pm \nGlenn Otto Park \n1102 E Historic Columbia River Hwy \n Troutdale  OR  97060 \nCome and enjoy a weekend of art in the Northwest! \nArtists of every variety will have their unique works on display for purchase.  \nThere will also be live music\, food\, wine\, authors\, and a silent auction. \nMark your calendars and save the dates!
URL:https://westcolumbiagorgechamber.com/event/fall-festival-of-the-arts-5-3/
LOCATION:Glenn Otto Park\, 1102 E Historic Columbia River Hwy\, Troutdale\, OR\, 97060\, United States
CATEGORIES:Events - Community
END:VEVENT
BEGIN:VEVENT
DTSTART;TZID=America/Los_Angeles:20190922T100000
DTEND;TZID=America/Los_Angeles:20190922T160000
DTSTAMP:20260425T050659
CREATED:20190110T213957Z
LAST-MODIFIED:20190110T213957Z
UID:9722-1569146400-1569168000@westcolumbiagorgechamber.com
SUMMARY:Fall Festival of the Arts
DESCRIPTION:2019 Fall Festival of the Arts \nSaturday September 21st  \n10:00am to 6:00pm \nand \nSunday September 22nd \n10:00am to 4:00pm \nGlenn Otto Park \n1102 E Historic Columbia River Hwy \n Troutdale  OR  97060 \nCome and enjoy a weekend of art in the Northwest! \nArtists of every variety will have their unique works on display for purchase.  \nThere will also be live music\, food\, wine\, authors\, and a silent auction. \nMark your calendars and save the dates!
URL:https://westcolumbiagorgechamber.com/event/fall-festival-of-the-arts-5-4/
LOCATION:Glenn Otto Park\, 1102 E Historic Columbia River Hwy\, Troutdale\, OR\, 97060\, United States
CATEGORIES:Events - Community
END:VEVENT
BEGIN:VEVENT
DTSTART;TZID=America/Los_Angeles:20190922T100000
DTEND;TZID=America/Los_Angeles:20190922T160000
DTSTAMP:20260425T050659
CREATED:20190110T213957Z
LAST-MODIFIED:20190110T213957Z
UID:6124-1569146400-1569168000@westcolumbiagorgechamber.com
SUMMARY:Fall Festival of the Arts
DESCRIPTION:2019 Fall Festival of the Arts \nSaturday September 21st  \n10:00am to 6:00pm \nand \nSunday September 22nd \n10:00am to 4:00pm \nGlenn Otto Park \n1102 E Historic Columbia River Hwy \n Troutdale  OR  97060 \nCome and enjoy a weekend of art in the Northwest! \nArtists of every variety will have their unique works on display for purchase.  \nThere will also be live music\, food\, wine\, authors\, and a silent auction. \nMark your calendars and save the dates!
URL:https://westcolumbiagorgechamber.com/event/fall-festival-of-the-arts-5/
LOCATION:Glenn Otto Park\, 1102 E Historic Columbia River Hwy\, Troutdale\, OR\, 97060\, United States
CATEGORIES:Events - Community
END:VEVENT
BEGIN:VEVENT
DTSTART;TZID=America/Los_Angeles:20190922T100000
DTEND;TZID=America/Los_Angeles:20190922T160000
DTSTAMP:20260425T050659
CREATED:20190110T213957Z
LAST-MODIFIED:20190110T213957Z
UID:9057-1569146400-1569168000@westcolumbiagorgechamber.com
SUMMARY:Fall Festival of the Arts
DESCRIPTION:2019 Fall Festival of the Arts \nSaturday September 21st  \n10:00am to 6:00pm \nand \nSunday September 22nd \n10:00am to 4:00pm \nGlenn Otto Park \n1102 E Historic Columbia River Hwy \n Troutdale  OR  97060 \nCome and enjoy a weekend of art in the Northwest! \nArtists of every variety will have their unique works on display for purchase.  \nThere will also be live music\, food\, wine\, authors\, and a silent auction. \nMark your calendars and save the dates!
URL:https://westcolumbiagorgechamber.com/event/fall-festival-of-the-arts-5-2/
LOCATION:Glenn Otto Park\, 1102 E Historic Columbia River Hwy\, Troutdale\, OR\, 97060\, United States
CATEGORIES:Events - Community
END:VEVENT
END:VCALENDAR