BEGIN:VCALENDAR
VERSION:2.0
PRODID:-//West Columbia Gorge Chamber of Commerce - ECPv6.15.20//NONSGML v1.0//EN
CALSCALE:GREGORIAN
METHOD:PUBLISH
X-WR-CALNAME:West Columbia Gorge Chamber of Commerce
X-ORIGINAL-URL:https://westcolumbiagorgechamber.com
X-WR-CALDESC:Events for West Columbia Gorge Chamber of Commerce
REFRESH-INTERVAL;VALUE=DURATION:PT1H
X-Robots-Tag:noindex
X-PUBLISHED-TTL:PT1H
BEGIN:VTIMEZONE
TZID:America/Los_Angeles
BEGIN:DAYLIGHT
TZOFFSETFROM:-0800
TZOFFSETTO:-0700
TZNAME:PDT
DTSTART:20180311T100000
END:DAYLIGHT
BEGIN:STANDARD
TZOFFSETFROM:-0700
TZOFFSETTO:-0800
TZNAME:PST
DTSTART:20181104T090000
END:STANDARD
BEGIN:DAYLIGHT
TZOFFSETFROM:-0800
TZOFFSETTO:-0700
TZNAME:PDT
DTSTART:20190310T100000
END:DAYLIGHT
BEGIN:STANDARD
TZOFFSETFROM:-0700
TZOFFSETTO:-0800
TZNAME:PST
DTSTART:20191103T090000
END:STANDARD
BEGIN:DAYLIGHT
TZOFFSETFROM:-0800
TZOFFSETTO:-0700
TZNAME:PDT
DTSTART:20200308T100000
END:DAYLIGHT
BEGIN:STANDARD
TZOFFSETFROM:-0700
TZOFFSETTO:-0800
TZNAME:PST
DTSTART:20201101T090000
END:STANDARD
END:VTIMEZONE
BEGIN:VEVENT
DTSTART;TZID=America/Los_Angeles:20190720T073000
DTEND;TZID=America/Los_Angeles:20190720T160000
DTSTAMP:20260425T050619
CREATED:20190110T222302Z
LAST-MODIFIED:20190110T222302Z
UID:6126-1563607800-1563638400@westcolumbiagorgechamber.com
SUMMARY:Troutdale SummerFest
DESCRIPTION:Troutdale SummerFest \nSaturday July 20th \nIn Downtown Troutdale and Glenn Otto Park  \n(1102 E Historic Columbia River Hwy\, Troutdale\, OR 97060) \n7:30am Pancake Breakfast at Mason’s Lodge \n10:00am Chalk It Up (on the E Columbia River Highway in front of Mayor’s Square between Buxton and Dora) \n11:00am Parade \nNoon to 4:00pm Activities\, Awards and Vendors and Glenn Otto Park \n$5.00 Kid’s Activity bracelets available which will grant them access to all kid’s activities\,  \nsuch as Balloon Sculpting\, Face Painting\, Bounce Houses\, Mini Golf\, etc.   \nSave the date!
URL:https://westcolumbiagorgechamber.com/event/troutdale-summerfest-2/
LOCATION:OR
CATEGORIES:Events - Community
END:VEVENT
BEGIN:VEVENT
DTSTART;TZID=America/Los_Angeles:20190720T073000
DTEND;TZID=America/Los_Angeles:20190720T160000
DTSTAMP:20260425T050619
CREATED:20190110T222302Z
LAST-MODIFIED:20190110T222302Z
UID:9060-1563607800-1563638400@westcolumbiagorgechamber.com
SUMMARY:Troutdale SummerFest
DESCRIPTION:Troutdale SummerFest \nSaturday July 20th \nIn Downtown Troutdale and Glenn Otto Park  \n(1102 E Historic Columbia River Hwy\, Troutdale\, OR 97060) \n7:30am Pancake Breakfast at Mason’s Lodge \n10:00am Chalk It Up (on the E Columbia River Highway in front of Mayor’s Square between Buxton and Dora) \n11:00am Parade \nNoon to 4:00pm Activities\, Awards and Vendors and Glenn Otto Park \n$5.00 Kid’s Activity bracelets available which will grant them access to all kid’s activities\,  \nsuch as Balloon Sculpting\, Face Painting\, Bounce Houses\, Mini Golf\, etc.   \nSave the date!
URL:https://westcolumbiagorgechamber.com/event/troutdale-summerfest-2-2/
LOCATION:OR
CATEGORIES:Events - Community
END:VEVENT
BEGIN:VEVENT
DTSTART;TZID=America/Los_Angeles:20190720T073000
DTEND;TZID=America/Los_Angeles:20190720T160000
DTSTAMP:20260425T050619
CREATED:20190110T222302Z
LAST-MODIFIED:20190110T222302Z
UID:9103-1563607800-1563638400@westcolumbiagorgechamber.com
SUMMARY:Troutdale SummerFest
DESCRIPTION:Troutdale SummerFest \nSaturday July 20th \nIn Downtown Troutdale and Glenn Otto Park  \n(1102 E Historic Columbia River Hwy\, Troutdale\, OR 97060) \n7:30am Pancake Breakfast at Mason’s Lodge \n10:00am Chalk It Up (on the E Columbia River Highway in front of Mayor’s Square between Buxton and Dora) \n11:00am Parade \nNoon to 4:00pm Activities\, Awards and Vendors and Glenn Otto Park \n$5.00 Kid’s Activity bracelets available which will grant them access to all kid’s activities\,  \nsuch as Balloon Sculpting\, Face Painting\, Bounce Houses\, Mini Golf\, etc.   \nSave the date!
URL:https://westcolumbiagorgechamber.com/event/troutdale-summerfest-2-3/
LOCATION:OR
CATEGORIES:Events - Community
END:VEVENT
BEGIN:VEVENT
DTSTART;TZID=America/Los_Angeles:20190720T073000
DTEND;TZID=America/Los_Angeles:20190720T160000
DTSTAMP:20260425T050619
CREATED:20190110T222302Z
LAST-MODIFIED:20190110T222302Z
UID:9723-1563607800-1563638400@westcolumbiagorgechamber.com
SUMMARY:Troutdale SummerFest
DESCRIPTION:Troutdale SummerFest \nSaturday July 20th \nIn Downtown Troutdale and Glenn Otto Park  \n(1102 E Historic Columbia River Hwy\, Troutdale\, OR 97060) \n7:30am Pancake Breakfast at Mason’s Lodge \n10:00am Chalk It Up (on the E Columbia River Highway in front of Mayor’s Square between Buxton and Dora) \n11:00am Parade \nNoon to 4:00pm Activities\, Awards and Vendors and Glenn Otto Park \n$5.00 Kid’s Activity bracelets available which will grant them access to all kid’s activities\,  \nsuch as Balloon Sculpting\, Face Painting\, Bounce Houses\, Mini Golf\, etc.   \nSave the date!
URL:https://westcolumbiagorgechamber.com/event/troutdale-summerfest-2-4/
LOCATION:OR
CATEGORIES:Events - Community
END:VEVENT
END:VCALENDAR