BEGIN:VCALENDAR
VERSION:2.0
PRODID:-//West Columbia Gorge Chamber of Commerce - ECPv6.15.20//NONSGML v1.0//EN
CALSCALE:GREGORIAN
METHOD:PUBLISH
X-ORIGINAL-URL:https://westcolumbiagorgechamber.com
X-WR-CALDESC:Events for West Columbia Gorge Chamber of Commerce
REFRESH-INTERVAL;VALUE=DURATION:PT1H
X-Robots-Tag:noindex
X-PUBLISHED-TTL:PT1H
BEGIN:VTIMEZONE
TZID:America/Los_Angeles
BEGIN:DAYLIGHT
TZOFFSETFROM:-0800
TZOFFSETTO:-0700
TZNAME:PDT
DTSTART:20170312T100000
END:DAYLIGHT
BEGIN:STANDARD
TZOFFSETFROM:-0700
TZOFFSETTO:-0800
TZNAME:PST
DTSTART:20171105T090000
END:STANDARD
BEGIN:DAYLIGHT
TZOFFSETFROM:-0800
TZOFFSETTO:-0700
TZNAME:PDT
DTSTART:20180311T100000
END:DAYLIGHT
BEGIN:STANDARD
TZOFFSETFROM:-0700
TZOFFSETTO:-0800
TZNAME:PST
DTSTART:20181104T090000
END:STANDARD
BEGIN:DAYLIGHT
TZOFFSETFROM:-0800
TZOFFSETTO:-0700
TZNAME:PDT
DTSTART:20190310T100000
END:DAYLIGHT
BEGIN:STANDARD
TZOFFSETFROM:-0700
TZOFFSETTO:-0800
TZNAME:PST
DTSTART:20191103T090000
END:STANDARD
END:VTIMEZONE
BEGIN:VEVENT
DTSTART;TZID=America/Los_Angeles:20181208T140000
DTEND;TZID=America/Los_Angeles:20181208T160000
DTSTAMP:20260425T165701
CREATED:20181107T225301Z
LAST-MODIFIED:20181107T225301Z
UID:8955-1544277600-1544284800@westcolumbiagorgechamber.com
SUMMARY:CCA Children's Theatre: A Charlie Brown Christmas
DESCRIPTION:  \nColumbia Center for the Arts \n215 Cascade Ave\, Hood River\, OR\, 97031 \n  \nDirected by Sullivan Mackintosh\nA CHARLIE BROWN CHRISTMAS by Charles M. Schulz\nBased on the television special by Bill Melendez and Lee Mendelson\nStage Adaptation by Eric Schaeffer\nBy Special Arrangement with Arthur Whitelaw and Ruby Persson \nJoin all your favorites from the Peanuts gang as they dance\, sing\, and ice skate through the holiday season. A Charlie Brown Christmas brings to life the heart-warming and fun 1965 holiday cartoon classic. Charlie Brown is finding it hard to appreciate the Christmas season — it’s too commercial! When Lucy invites Charlie Brown to direct their Christmas play\, it seems that Charlie Brown may finally have an opportunity to connect with the season. When rehearsal goes awry\, Charlie Brown comes up with the perfect solution: A Christmas tree! While one sad little tree may not have been what his friends expected\, it gives them all an opportunity to discover and share the true spirit of Christmas: Peace on Earth and good will to all. \nAll youths need to be accompanied by an adult.
URL:https://westcolumbiagorgechamber.com/event/cca-childrens-theatre-a-charlie-brown-christmas-2/
LOCATION:OR
CATEGORIES:Events - Community
END:VEVENT
BEGIN:VEVENT
DTSTART;TZID=America/Los_Angeles:20181208T140000
DTEND;TZID=America/Los_Angeles:20181208T160000
DTSTAMP:20260425T165701
CREATED:20181107T225301Z
LAST-MODIFIED:20181107T225301Z
UID:8996-1544277600-1544284800@westcolumbiagorgechamber.com
SUMMARY:CCA Children's Theatre: A Charlie Brown Christmas
DESCRIPTION:  \nColumbia Center for the Arts \n215 Cascade Ave\, Hood River\, OR\, 97031 \n  \nDirected by Sullivan Mackintosh\nA CHARLIE BROWN CHRISTMAS by Charles M. Schulz\nBased on the television special by Bill Melendez and Lee Mendelson\nStage Adaptation by Eric Schaeffer\nBy Special Arrangement with Arthur Whitelaw and Ruby Persson \nJoin all your favorites from the Peanuts gang as they dance\, sing\, and ice skate through the holiday season. A Charlie Brown Christmas brings to life the heart-warming and fun 1965 holiday cartoon classic. Charlie Brown is finding it hard to appreciate the Christmas season — it’s too commercial! When Lucy invites Charlie Brown to direct their Christmas play\, it seems that Charlie Brown may finally have an opportunity to connect with the season. When rehearsal goes awry\, Charlie Brown comes up with the perfect solution: A Christmas tree! While one sad little tree may not have been what his friends expected\, it gives them all an opportunity to discover and share the true spirit of Christmas: Peace on Earth and good will to all. \nAll youths need to be accompanied by an adult.
URL:https://westcolumbiagorgechamber.com/event/cca-childrens-theatre-a-charlie-brown-christmas-3/
LOCATION:OR
CATEGORIES:Events - Community
END:VEVENT
BEGIN:VEVENT
DTSTART;TZID=America/Los_Angeles:20181208T140000
DTEND;TZID=America/Los_Angeles:20181208T160000
DTSTAMP:20260425T165701
CREATED:20181107T225301Z
LAST-MODIFIED:20181107T225301Z
UID:9689-1544277600-1544284800@westcolumbiagorgechamber.com
SUMMARY:CCA Children's Theatre: A Charlie Brown Christmas
DESCRIPTION:  \nColumbia Center for the Arts \n215 Cascade Ave\, Hood River\, OR\, 97031 \n  \nDirected by Sullivan Mackintosh\nA CHARLIE BROWN CHRISTMAS by Charles M. Schulz\nBased on the television special by Bill Melendez and Lee Mendelson\nStage Adaptation by Eric Schaeffer\nBy Special Arrangement with Arthur Whitelaw and Ruby Persson \nJoin all your favorites from the Peanuts gang as they dance\, sing\, and ice skate through the holiday season. A Charlie Brown Christmas brings to life the heart-warming and fun 1965 holiday cartoon classic. Charlie Brown is finding it hard to appreciate the Christmas season — it’s too commercial! When Lucy invites Charlie Brown to direct their Christmas play\, it seems that Charlie Brown may finally have an opportunity to connect with the season. When rehearsal goes awry\, Charlie Brown comes up with the perfect solution: A Christmas tree! While one sad little tree may not have been what his friends expected\, it gives them all an opportunity to discover and share the true spirit of Christmas: Peace on Earth and good will to all. \nAll youths need to be accompanied by an adult.
URL:https://westcolumbiagorgechamber.com/event/cca-childrens-theatre-a-charlie-brown-christmas-4/
LOCATION:OR
CATEGORIES:Events - Community
END:VEVENT
BEGIN:VEVENT
DTSTART;TZID=America/Los_Angeles:20181208T140000
DTEND;TZID=America/Los_Angeles:20181208T160000
DTSTAMP:20260425T165701
CREATED:20181107T225301Z
LAST-MODIFIED:20181107T225301Z
UID:5954-1544277600-1544284800@westcolumbiagorgechamber.com
SUMMARY:CCA Children's Theatre: A Charlie Brown Christmas
DESCRIPTION:  \nColumbia Center for the Arts \n215 Cascade Ave\, Hood River\, OR\, 97031 \n  \nDirected by Sullivan Mackintosh\nA CHARLIE BROWN CHRISTMAS by Charles M. Schulz\nBased on the television special by Bill Melendez and Lee Mendelson\nStage Adaptation by Eric Schaeffer\nBy Special Arrangement with Arthur Whitelaw and Ruby Persson \nJoin all your favorites from the Peanuts gang as they dance\, sing\, and ice skate through the holiday season. A Charlie Brown Christmas brings to life the heart-warming and fun 1965 holiday cartoon classic. Charlie Brown is finding it hard to appreciate the Christmas season — it’s too commercial! When Lucy invites Charlie Brown to direct their Christmas play\, it seems that Charlie Brown may finally have an opportunity to connect with the season. When rehearsal goes awry\, Charlie Brown comes up with the perfect solution: A Christmas tree! While one sad little tree may not have been what his friends expected\, it gives them all an opportunity to discover and share the true spirit of Christmas: Peace on Earth and good will to all. \nAll youths need to be accompanied by an adult.
URL:https://westcolumbiagorgechamber.com/event/cca-childrens-theatre-a-charlie-brown-christmas/
LOCATION:OR
CATEGORIES:Events - Community
END:VEVENT
END:VCALENDAR