BEGIN:VCALENDAR
VERSION:2.0
PRODID:-//West Columbia Gorge Chamber of Commerce - ECPv6.15.20//NONSGML v1.0//EN
CALSCALE:GREGORIAN
METHOD:PUBLISH
X-WR-CALNAME:West Columbia Gorge Chamber of Commerce
X-ORIGINAL-URL:https://westcolumbiagorgechamber.com
X-WR-CALDESC:Events for West Columbia Gorge Chamber of Commerce
REFRESH-INTERVAL;VALUE=DURATION:PT1H
X-Robots-Tag:noindex
X-PUBLISHED-TTL:PT1H
BEGIN:VTIMEZONE
TZID:America/Los_Angeles
BEGIN:DAYLIGHT
TZOFFSETFROM:-0800
TZOFFSETTO:-0700
TZNAME:PDT
DTSTART:20170312T100000
END:DAYLIGHT
BEGIN:STANDARD
TZOFFSETFROM:-0700
TZOFFSETTO:-0800
TZNAME:PST
DTSTART:20171105T090000
END:STANDARD
BEGIN:DAYLIGHT
TZOFFSETFROM:-0800
TZOFFSETTO:-0700
TZNAME:PDT
DTSTART:20180311T100000
END:DAYLIGHT
BEGIN:STANDARD
TZOFFSETFROM:-0700
TZOFFSETTO:-0800
TZNAME:PST
DTSTART:20181104T090000
END:STANDARD
BEGIN:DAYLIGHT
TZOFFSETFROM:-0800
TZOFFSETTO:-0700
TZNAME:PDT
DTSTART:20190310T100000
END:DAYLIGHT
BEGIN:STANDARD
TZOFFSETFROM:-0700
TZOFFSETTO:-0800
TZNAME:PST
DTSTART:20191103T090000
END:STANDARD
END:VTIMEZONE
BEGIN:VEVENT
DTSTART;TZID=America/Los_Angeles:20181206T180000
DTEND;TZID=America/Los_Angeles:20181206T210000
DTSTAMP:20260425T182631
CREATED:20181024T164508Z
LAST-MODIFIED:20181024T164508Z
UID:9686-1544119200-1544130000@westcolumbiagorgechamber.com
SUMMARY:Pink Sistas Presents: Sparkle On The Columbia
DESCRIPTION:
URL:https://westcolumbiagorgechamber.com/event/pink-sistas-presents-sparkle-on-the-columbia-4/
LOCATION:The Sextant\, 4035 NE Marine Drive\, Portland\, 97211\, United States
CATEGORIES:Events - Community
END:VEVENT
BEGIN:VEVENT
DTSTART;TZID=America/Los_Angeles:20181206T180000
DTEND;TZID=America/Los_Angeles:20181206T210000
DTSTAMP:20260425T182631
CREATED:20181024T164508Z
LAST-MODIFIED:20181024T164508Z
UID:5938-1544119200-1544130000@westcolumbiagorgechamber.com
SUMMARY:Pink Sistas Presents: Sparkle On The Columbia
DESCRIPTION:
URL:https://westcolumbiagorgechamber.com/event/pink-sistas-presents-sparkle-on-the-columbia/
LOCATION:The Sextant\, 4035 NE Marine Drive\, Portland\, 97211\, United States
CATEGORIES:Events - Community
END:VEVENT
BEGIN:VEVENT
DTSTART;TZID=America/Los_Angeles:20181206T180000
DTEND;TZID=America/Los_Angeles:20181206T210000
DTSTAMP:20260425T182631
CREATED:20181024T164508Z
LAST-MODIFIED:20181024T164508Z
UID:8945-1544119200-1544130000@westcolumbiagorgechamber.com
SUMMARY:Pink Sistas Presents: Sparkle On The Columbia
DESCRIPTION:
URL:https://westcolumbiagorgechamber.com/event/pink-sistas-presents-sparkle-on-the-columbia-2/
LOCATION:The Sextant\, 4035 NE Marine Drive\, Portland\, 97211\, United States
CATEGORIES:Events - Community
END:VEVENT
BEGIN:VEVENT
DTSTART;TZID=America/Los_Angeles:20181206T180000
DTEND;TZID=America/Los_Angeles:20181206T210000
DTSTAMP:20260425T182631
CREATED:20181024T164508Z
LAST-MODIFIED:20181024T164508Z
UID:8986-1544119200-1544130000@westcolumbiagorgechamber.com
SUMMARY:Pink Sistas Presents: Sparkle On The Columbia
DESCRIPTION:
URL:https://westcolumbiagorgechamber.com/event/pink-sistas-presents-sparkle-on-the-columbia-3/
LOCATION:The Sextant\, 4035 NE Marine Drive\, Portland\, 97211\, United States
CATEGORIES:Events - Community
END:VEVENT
END:VCALENDAR