BEGIN:VCALENDAR
VERSION:2.0
PRODID:-//West Columbia Gorge Chamber of Commerce - ECPv6.15.20//NONSGML v1.0//EN
CALSCALE:GREGORIAN
METHOD:PUBLISH
X-WR-CALNAME:West Columbia Gorge Chamber of Commerce
X-ORIGINAL-URL:https://westcolumbiagorgechamber.com
X-WR-CALDESC:Events for West Columbia Gorge Chamber of Commerce
REFRESH-INTERVAL;VALUE=DURATION:PT1H
X-Robots-Tag:noindex
X-PUBLISHED-TTL:PT1H
BEGIN:VTIMEZONE
TZID:America/Los_Angeles
BEGIN:DAYLIGHT
TZOFFSETFROM:-0800
TZOFFSETTO:-0700
TZNAME:PDT
DTSTART:20170312T100000
END:DAYLIGHT
BEGIN:STANDARD
TZOFFSETFROM:-0700
TZOFFSETTO:-0800
TZNAME:PST
DTSTART:20171105T090000
END:STANDARD
BEGIN:DAYLIGHT
TZOFFSETFROM:-0800
TZOFFSETTO:-0700
TZNAME:PDT
DTSTART:20180311T100000
END:DAYLIGHT
BEGIN:STANDARD
TZOFFSETFROM:-0700
TZOFFSETTO:-0800
TZNAME:PST
DTSTART:20181104T090000
END:STANDARD
BEGIN:DAYLIGHT
TZOFFSETFROM:-0800
TZOFFSETTO:-0700
TZNAME:PDT
DTSTART:20190310T100000
END:DAYLIGHT
BEGIN:STANDARD
TZOFFSETFROM:-0700
TZOFFSETTO:-0800
TZNAME:PST
DTSTART:20191103T090000
END:STANDARD
END:VTIMEZONE
BEGIN:VEVENT
DTSTART;TZID=America/Los_Angeles:20181201T160000
DTEND;TZID=America/Los_Angeles:20181201T180000
DTSTAMP:20260425T182631
CREATED:20181109T193509Z
LAST-MODIFIED:20181109T193509Z
UID:9014-1543680000-1543687200@westcolumbiagorgechamber.com
SUMMARY:Fairview Tree Lighting
DESCRIPTION:Fairveiw Tree Lighting \nSaturday\, December 1st \n4:00pm to 6:00pm \nFairview Community Park \n21600 NE Park LaneFairview\, OR 97024
URL:https://westcolumbiagorgechamber.com/event/fairview-tree-lighting-2-3/
LOCATION:OR
CATEGORIES:Events - Community
END:VEVENT
BEGIN:VEVENT
DTSTART;TZID=America/Los_Angeles:20181201T160000
DTEND;TZID=America/Los_Angeles:20181201T180000
DTSTAMP:20260425T182631
CREATED:20181109T193509Z
LAST-MODIFIED:20181109T193509Z
UID:5984-1543680000-1543687200@westcolumbiagorgechamber.com
SUMMARY:Fairview Tree Lighting
DESCRIPTION:Fairveiw Tree Lighting \nSaturday\, December 1st \n4:00pm to 6:00pm \nFairview Community Park \n21600 NE Park LaneFairview\, OR 97024
URL:https://westcolumbiagorgechamber.com/event/fairview-tree-lighting-2/
LOCATION:OR
CATEGORIES:Events - Community
END:VEVENT
BEGIN:VEVENT
DTSTART;TZID=America/Los_Angeles:20181201T160000
DTEND;TZID=America/Los_Angeles:20181201T180000
DTSTAMP:20260425T182631
CREATED:20181109T193509Z
LAST-MODIFIED:20181109T193509Z
UID:9695-1543680000-1543687200@westcolumbiagorgechamber.com
SUMMARY:Fairview Tree Lighting
DESCRIPTION:Fairveiw Tree Lighting \nSaturday\, December 1st \n4:00pm to 6:00pm \nFairview Community Park \n21600 NE Park LaneFairview\, OR 97024
URL:https://westcolumbiagorgechamber.com/event/fairview-tree-lighting-2-4/
LOCATION:OR
CATEGORIES:Events - Community
END:VEVENT
BEGIN:VEVENT
DTSTART;TZID=America/Los_Angeles:20181201T160000
DTEND;TZID=America/Los_Angeles:20181201T180000
DTSTAMP:20260425T182631
CREATED:20181109T193509Z
LAST-MODIFIED:20181109T193509Z
UID:8973-1543680000-1543687200@westcolumbiagorgechamber.com
SUMMARY:Fairview Tree Lighting
DESCRIPTION:Fairveiw Tree Lighting \nSaturday\, December 1st \n4:00pm to 6:00pm \nFairview Community Park \n21600 NE Park LaneFairview\, OR 97024
URL:https://westcolumbiagorgechamber.com/event/fairview-tree-lighting-2-2/
LOCATION:OR
CATEGORIES:Events - Community
END:VEVENT
BEGIN:VEVENT
DTSTART;TZID=America/Los_Angeles:20181201T170000
DTEND;TZID=America/Los_Angeles:20181201T190000
DTSTAMP:20260425T182631
CREATED:20181108T204920Z
LAST-MODIFIED:20181108T204920Z
UID:8999-1543683600-1543690800@westcolumbiagorgechamber.com
SUMMARY:Wood Village Tree Lighting
DESCRIPTION:
URL:https://westcolumbiagorgechamber.com/event/wood-village-tree-lighting-2-3/
LOCATION:OR
CATEGORIES:Events - Community
END:VEVENT
BEGIN:VEVENT
DTSTART;TZID=America/Los_Angeles:20181201T170000
DTEND;TZID=America/Los_Angeles:20181201T190000
DTSTAMP:20260425T182631
CREATED:20181108T204920Z
LAST-MODIFIED:20181108T204920Z
UID:5963-1543683600-1543690800@westcolumbiagorgechamber.com
SUMMARY:Wood Village Tree Lighting
DESCRIPTION:
URL:https://westcolumbiagorgechamber.com/event/wood-village-tree-lighting-2/
LOCATION:OR
CATEGORIES:Events - Community
END:VEVENT
BEGIN:VEVENT
DTSTART;TZID=America/Los_Angeles:20181201T170000
DTEND;TZID=America/Los_Angeles:20181201T190000
DTSTAMP:20260425T182631
CREATED:20181108T204920Z
LAST-MODIFIED:20181108T204920Z
UID:9690-1543683600-1543690800@westcolumbiagorgechamber.com
SUMMARY:Wood Village Tree Lighting
DESCRIPTION:
URL:https://westcolumbiagorgechamber.com/event/wood-village-tree-lighting-2-4/
LOCATION:OR
CATEGORIES:Events - Community
END:VEVENT
BEGIN:VEVENT
DTSTART;TZID=America/Los_Angeles:20181201T170000
DTEND;TZID=America/Los_Angeles:20181201T190000
DTSTAMP:20260425T182631
CREATED:20181108T204920Z
LAST-MODIFIED:20181108T204920Z
UID:8958-1543683600-1543690800@westcolumbiagorgechamber.com
SUMMARY:Wood Village Tree Lighting
DESCRIPTION:
URL:https://westcolumbiagorgechamber.com/event/wood-village-tree-lighting-2-2/
LOCATION:OR
CATEGORIES:Events - Community
END:VEVENT
END:VCALENDAR