BEGIN:VCALENDAR
VERSION:2.0
PRODID:-//West Columbia Gorge Chamber of Commerce - ECPv6.15.20//NONSGML v1.0//EN
CALSCALE:GREGORIAN
METHOD:PUBLISH
X-WR-CALNAME:West Columbia Gorge Chamber of Commerce
X-ORIGINAL-URL:https://westcolumbiagorgechamber.com
X-WR-CALDESC:Events for West Columbia Gorge Chamber of Commerce
REFRESH-INTERVAL;VALUE=DURATION:PT1H
X-Robots-Tag:noindex
X-PUBLISHED-TTL:PT1H
BEGIN:VTIMEZONE
TZID:America/Los_Angeles
BEGIN:DAYLIGHT
TZOFFSETFROM:-0800
TZOFFSETTO:-0700
TZNAME:PDT
DTSTART:20220313T100000
END:DAYLIGHT
BEGIN:STANDARD
TZOFFSETFROM:-0700
TZOFFSETTO:-0800
TZNAME:PST
DTSTART:20221106T090000
END:STANDARD
BEGIN:DAYLIGHT
TZOFFSETFROM:-0800
TZOFFSETTO:-0700
TZNAME:PDT
DTSTART:20230312T100000
END:DAYLIGHT
BEGIN:STANDARD
TZOFFSETFROM:-0700
TZOFFSETTO:-0800
TZNAME:PST
DTSTART:20231105T090000
END:STANDARD
BEGIN:DAYLIGHT
TZOFFSETFROM:-0800
TZOFFSETTO:-0700
TZNAME:PDT
DTSTART:20240310T100000
END:DAYLIGHT
BEGIN:STANDARD
TZOFFSETFROM:-0700
TZOFFSETTO:-0800
TZNAME:PST
DTSTART:20241103T090000
END:STANDARD
END:VTIMEZONE
BEGIN:VEVENT
DTSTART;TZID=America/Los_Angeles:20231117T220000
DTEND;TZID=America/Los_Angeles:20231118T000000
DTSTAMP:20260420T175516
CREATED:20231024T062236Z
LAST-MODIFIED:20231024T062715Z
UID:12492-1700258400-1700265600@westcolumbiagorgechamber.com
SUMMARY:Turkey Drive
DESCRIPTION:The cities of Wood Village and Fairview have partnered with the East County Food Pantry at Smith Memorial Presbyterian Church (2420 NE Fairview Ave\, Fairview\, OR 97024) to offer Thanksgiving Food Boxes to Wood Village and Fairview community members\, plus those who already regularly receive food from the food pantry. \nDue to the limited number of turkeys and pies that the pantry is able to provide\, they ask that you please indicate your interest by signing up online. The turkeys\, pies\, and other fixin’s will be available to pick up at the church parking lot on Saturday\, November 18th from 2pm to 4pm. \nIf transportation is a challenge for you\, the food pantry asks that you arrange for a friend\, family member\, or neighbor to pick it up on your behalf.  Please indicate that person’s name in the comment section of the application.
URL:https://westcolumbiagorgechamber.com/event/turkey-drive/
LOCATION:Smith Memorial Presbyterian Church
CATEGORIES:City of Fairview,Events - Community
ATTACH;FMTTYPE=image/png:https://westcolumbiagorgechamber.com/wp-content/uploads/2023/10/Facebook-Posts-96.png
ORGANIZER;CN="Smith Memorial Presbyterian":MAILTO:eastcountyfp@gmail.com
END:VEVENT
BEGIN:VEVENT
DTSTART;TZID=America/Los_Angeles:20231124T190000
DTEND;TZID=America/Los_Angeles:20231125T000000
DTSTAMP:20260420T175516
CREATED:20231112T121924Z
LAST-MODIFIED:20231112T123322Z
UID:12569-1700852400-1700870400@westcolumbiagorgechamber.com
SUMMARY:Fill the Cruiser Toy Drive\, Saturday November 25th from 10:00 am to 3:00 pm
DESCRIPTION:Wood Village is sponsoring this event and it will be held in 3 locations as follows \n Locations: Fred Meyer 22855 NE Park Ln \n                                     Kohls 22557 NE Park Ln Wood Village \n                                     Walmart 23500 NE Sandy Blvd Wood Village \nCome bring a toy and help make someone’s Christmas a little brighter and better. \n  \n 
URL:https://westcolumbiagorgechamber.com/event/fill-the-cruiser-toy-drive-saturday-november-25th-from-1000-am-to-300-pm/
LOCATION:OR
CATEGORIES:Events - Community
END:VEVENT
END:VCALENDAR