BEGIN:VCALENDAR
VERSION:2.0
PRODID:-//West Columbia Gorge Chamber of Commerce - ECPv6.15.20//NONSGML v1.0//EN
CALSCALE:GREGORIAN
METHOD:PUBLISH
X-WR-CALNAME:West Columbia Gorge Chamber of Commerce
X-ORIGINAL-URL:https://westcolumbiagorgechamber.com
X-WR-CALDESC:Events for West Columbia Gorge Chamber of Commerce
REFRESH-INTERVAL;VALUE=DURATION:PT1H
X-Robots-Tag:noindex
X-PUBLISHED-TTL:PT1H
BEGIN:VTIMEZONE
TZID:America/Los_Angeles
BEGIN:DAYLIGHT
TZOFFSETFROM:-0800
TZOFFSETTO:-0700
TZNAME:PDT
DTSTART:20210314T100000
END:DAYLIGHT
BEGIN:STANDARD
TZOFFSETFROM:-0700
TZOFFSETTO:-0800
TZNAME:PST
DTSTART:20211107T090000
END:STANDARD
BEGIN:DAYLIGHT
TZOFFSETFROM:-0800
TZOFFSETTO:-0700
TZNAME:PDT
DTSTART:20220313T100000
END:DAYLIGHT
BEGIN:STANDARD
TZOFFSETFROM:-0700
TZOFFSETTO:-0800
TZNAME:PST
DTSTART:20221106T090000
END:STANDARD
BEGIN:DAYLIGHT
TZOFFSETFROM:-0800
TZOFFSETTO:-0700
TZNAME:PDT
DTSTART:20230312T100000
END:DAYLIGHT
BEGIN:STANDARD
TZOFFSETFROM:-0700
TZOFFSETTO:-0800
TZNAME:PST
DTSTART:20231105T090000
END:STANDARD
END:VTIMEZONE
BEGIN:VEVENT
DTSTART;TZID=America/Los_Angeles:20220701T110000
DTEND;TZID=America/Los_Angeles:20220701T130000
DTSTAMP:20260421T191648
CREATED:20220611T003013Z
LAST-MODIFIED:20220611T003013Z
UID:10058-1656673200-1656680400@westcolumbiagorgechamber.com
SUMMARY:July 1 – Barnyard Concert sponsored by the Troutdale Historical Society
DESCRIPTION:Time: 6:00 – 8:00pm \nLocation: Barn Exhibit Hall lawn\, 732 E Historic Columbia River Hwy\, Troutdale\, Oregon \nTopic:  Free Concert – Sunny South Blue Grass Band playing bluegrass with an emphasis on traditional style similar to Flatt and Scruggs. Bring a blanket and a picnic dinner and join us on the lawn for this family friendly evening of fun and music.
URL:https://westcolumbiagorgechamber.com/event/july-1-barnyard-concert-sponsored-by-the-troutdale-historical-society/
LOCATION:Troutdale Historical Society\, 732 E. Historic Columbia River Hwy\, Troutdale\, OR 97060
CATEGORIES:City of Troutdale,Events - Community
END:VEVENT
BEGIN:VEVENT
DTSTART;TZID=America/Los_Angeles:20220701T170000
DTEND;TZID=America/Los_Angeles:20220701T200000
DTSTAMP:20260421T191648
CREATED:20211016T062203Z
LAST-MODIFIED:20211016T062203Z
UID:8249-1656694800-1656705600@westcolumbiagorgechamber.com
SUMMARY:First Friday - Troutdale
DESCRIPTION:
URL:https://westcolumbiagorgechamber.com/event/first-friday-troutdale-3/
LOCATION:OR
CATEGORIES:City of Troutdale,Events - Community
END:VEVENT
END:VCALENDAR