BEGIN:VCALENDAR
VERSION:2.0
PRODID:-//West Columbia Gorge Chamber of Commerce - ECPv6.15.20//NONSGML v1.0//EN
CALSCALE:GREGORIAN
METHOD:PUBLISH
X-WR-CALNAME:West Columbia Gorge Chamber of Commerce
X-ORIGINAL-URL:https://westcolumbiagorgechamber.com
X-WR-CALDESC:Events for West Columbia Gorge Chamber of Commerce
REFRESH-INTERVAL;VALUE=DURATION:PT1H
X-Robots-Tag:noindex
X-PUBLISHED-TTL:PT1H
BEGIN:VTIMEZONE
TZID:America/Los_Angeles
BEGIN:DAYLIGHT
TZOFFSETFROM:-0800
TZOFFSETTO:-0700
TZNAME:PDT
DTSTART:20200308T100000
END:DAYLIGHT
BEGIN:STANDARD
TZOFFSETFROM:-0700
TZOFFSETTO:-0800
TZNAME:PST
DTSTART:20201101T090000
END:STANDARD
BEGIN:DAYLIGHT
TZOFFSETFROM:-0800
TZOFFSETTO:-0700
TZNAME:PDT
DTSTART:20210314T100000
END:DAYLIGHT
BEGIN:STANDARD
TZOFFSETFROM:-0700
TZOFFSETTO:-0800
TZNAME:PST
DTSTART:20211107T090000
END:STANDARD
BEGIN:DAYLIGHT
TZOFFSETFROM:-0800
TZOFFSETTO:-0700
TZNAME:PDT
DTSTART:20220313T100000
END:DAYLIGHT
BEGIN:STANDARD
TZOFFSETFROM:-0700
TZOFFSETTO:-0800
TZNAME:PST
DTSTART:20221106T090000
END:STANDARD
END:VTIMEZONE
BEGIN:VEVENT
DTSTART;TZID=America/Los_Angeles:20211001T170000
DTEND;TZID=America/Los_Angeles:20211001T210000
DTSTAMP:20260422T160202
CREATED:20210420T213536Z
LAST-MODIFIED:20210420T213536Z
UID:7814-1633107600-1633122000@westcolumbiagorgechamber.com
SUMMARY:First Friday - Troutdale
DESCRIPTION:
URL:https://westcolumbiagorgechamber.com/event/first-friday-troutdale-5/
LOCATION:Troutdale  Highway 30 on the main street thoroughfare
CATEGORIES:City of Troutdale,Events - Community
END:VEVENT
BEGIN:VEVENT
DTSTART;TZID=America/Los_Angeles:20211001T170000
DTEND;TZID=America/Los_Angeles:20211001T210000
DTSTAMP:20260422T160202
CREATED:20210420T213536Z
LAST-MODIFIED:20210420T213536Z
UID:9862-1633107600-1633122000@westcolumbiagorgechamber.com
SUMMARY:First Friday - Troutdale
DESCRIPTION:
URL:https://westcolumbiagorgechamber.com/event/first-friday-troutdale-5-4/
LOCATION:Troutdale  Highway 30 on the main street thoroughfare
CATEGORIES:City of Troutdale,Events - Community
END:VEVENT
BEGIN:VEVENT
DTSTART;TZID=America/Los_Angeles:20211001T170000
DTEND;TZID=America/Los_Angeles:20211001T210000
DTSTAMP:20260422T160202
CREATED:20210420T213536Z
LAST-MODIFIED:20210420T213536Z
UID:9481-1633107600-1633122000@westcolumbiagorgechamber.com
SUMMARY:First Friday - Troutdale
DESCRIPTION:
URL:https://westcolumbiagorgechamber.com/event/first-friday-troutdale-5-2/
LOCATION:Troutdale  Highway 30 on the main street thoroughfare
CATEGORIES:City of Troutdale,Events - Community
END:VEVENT
BEGIN:VEVENT
DTSTART;TZID=America/Los_Angeles:20211001T170000
DTEND;TZID=America/Los_Angeles:20211001T210000
DTSTAMP:20260422T160202
CREATED:20210420T213536Z
LAST-MODIFIED:20210420T213536Z
UID:9512-1633107600-1633122000@westcolumbiagorgechamber.com
SUMMARY:First Friday - Troutdale
DESCRIPTION:
URL:https://westcolumbiagorgechamber.com/event/first-friday-troutdale-5-3/
LOCATION:Troutdale  Highway 30 on the main street thoroughfare
CATEGORIES:City of Troutdale,Events - Community
END:VEVENT
BEGIN:VEVENT
DTSTART;TZID=America/Los_Angeles:20211030T100000
DTEND;TZID=America/Los_Angeles:20211030T130000
DTSTAMP:20260422T160202
CREATED:20210922T190825Z
LAST-MODIFIED:20210922T190825Z
UID:9555-1635588000-1635598800@westcolumbiagorgechamber.com
SUMMARY:Pumpkin Fest - Wood Village City Hall & Civic Center
DESCRIPTION:Pumpkin Fest \nWood Village City Hall & Civic Center \nSaturday\, October 30th \n10:00am – 1:00pm \nRegister HERE
URL:https://westcolumbiagorgechamber.com/event/pumpkin-fest-wood-village-city-hall-civic-center-2/
LOCATION:OR
CATEGORIES:City of Wood Village,Events - Community
END:VEVENT
BEGIN:VEVENT
DTSTART;TZID=America/Los_Angeles:20211030T100000
DTEND;TZID=America/Los_Angeles:20211030T130000
DTSTAMP:20260422T160202
CREATED:20210922T190825Z
LAST-MODIFIED:20210922T190825Z
UID:9593-1635588000-1635598800@westcolumbiagorgechamber.com
SUMMARY:Pumpkin Fest - Wood Village City Hall & Civic Center
DESCRIPTION:Pumpkin Fest \nWood Village City Hall & Civic Center \nSaturday\, October 30th \n10:00am – 1:00pm \nRegister HERE
URL:https://westcolumbiagorgechamber.com/event/pumpkin-fest-wood-village-city-hall-civic-center-3/
LOCATION:OR
CATEGORIES:City of Wood Village,Events - Community
END:VEVENT
BEGIN:VEVENT
DTSTART;TZID=America/Los_Angeles:20211030T100000
DTEND;TZID=America/Los_Angeles:20211030T130000
DTSTAMP:20260422T160202
CREATED:20210922T190825Z
LAST-MODIFIED:20210922T190825Z
UID:8178-1635588000-1635598800@westcolumbiagorgechamber.com
SUMMARY:Pumpkin Fest - Wood Village City Hall & Civic Center
DESCRIPTION:Pumpkin Fest \nWood Village City Hall & Civic Center \nSaturday\, October 30th \n10:00am – 1:00pm \nRegister HERE
URL:https://westcolumbiagorgechamber.com/event/pumpkin-fest-wood-village-city-hall-civic-center/
LOCATION:OR
CATEGORIES:City of Wood Village,Events - Community
END:VEVENT
BEGIN:VEVENT
DTSTART;TZID=America/Los_Angeles:20211030T100000
DTEND;TZID=America/Los_Angeles:20211030T130000
DTSTAMP:20260422T160202
CREATED:20210922T190825Z
LAST-MODIFIED:20210922T190825Z
UID:9887-1635588000-1635598800@westcolumbiagorgechamber.com
SUMMARY:Pumpkin Fest - Wood Village City Hall & Civic Center
DESCRIPTION:Pumpkin Fest \nWood Village City Hall & Civic Center \nSaturday\, October 30th \n10:00am – 1:00pm \nRegister HERE
URL:https://westcolumbiagorgechamber.com/event/pumpkin-fest-wood-village-city-hall-civic-center-4/
LOCATION:OR
CATEGORIES:City of Wood Village,Events - Community
END:VEVENT
END:VCALENDAR