BEGIN:VCALENDAR
VERSION:2.0
PRODID:-//West Columbia Gorge Chamber of Commerce - ECPv6.15.20//NONSGML v1.0//EN
CALSCALE:GREGORIAN
METHOD:PUBLISH
X-WR-CALNAME:West Columbia Gorge Chamber of Commerce
X-ORIGINAL-URL:https://westcolumbiagorgechamber.com
X-WR-CALDESC:Events for West Columbia Gorge Chamber of Commerce
REFRESH-INTERVAL;VALUE=DURATION:PT1H
X-Robots-Tag:noindex
X-PUBLISHED-TTL:PT1H
BEGIN:VTIMEZONE
TZID:America/Los_Angeles
BEGIN:DAYLIGHT
TZOFFSETFROM:-0800
TZOFFSETTO:-0700
TZNAME:PDT
DTSTART:20220313T100000
END:DAYLIGHT
BEGIN:STANDARD
TZOFFSETFROM:-0700
TZOFFSETTO:-0800
TZNAME:PST
DTSTART:20221106T090000
END:STANDARD
BEGIN:DAYLIGHT
TZOFFSETFROM:-0800
TZOFFSETTO:-0700
TZNAME:PDT
DTSTART:20230312T100000
END:DAYLIGHT
BEGIN:STANDARD
TZOFFSETFROM:-0700
TZOFFSETTO:-0800
TZNAME:PST
DTSTART:20231105T090000
END:STANDARD
BEGIN:DAYLIGHT
TZOFFSETFROM:-0800
TZOFFSETTO:-0700
TZNAME:PDT
DTSTART:20240310T100000
END:DAYLIGHT
BEGIN:STANDARD
TZOFFSETFROM:-0700
TZOFFSETTO:-0800
TZNAME:PST
DTSTART:20241103T090000
END:STANDARD
BEGIN:DAYLIGHT
TZOFFSETFROM:-0800
TZOFFSETTO:-0700
TZNAME:PDT
DTSTART:20250309T100000
END:DAYLIGHT
BEGIN:STANDARD
TZOFFSETFROM:-0700
TZOFFSETTO:-0800
TZNAME:PST
DTSTART:20251102T090000
END:STANDARD
BEGIN:DAYLIGHT
TZOFFSETFROM:-0800
TZOFFSETTO:-0700
TZNAME:PDT
DTSTART:20260308T100000
END:DAYLIGHT
BEGIN:STANDARD
TZOFFSETFROM:-0700
TZOFFSETTO:-0800
TZNAME:PST
DTSTART:20261101T090000
END:STANDARD
END:VTIMEZONE
BEGIN:VEVENT
DTSTART;TZID=America/Los_Angeles:20231202T090000
DTEND;TZID=America/Los_Angeles:20231202T100000
DTSTAMP:20260420T181918
CREATED:20230517T080230Z
LAST-MODIFIED:20231128T183148Z
UID:10243-1701507600-1701511200@westcolumbiagorgechamber.com
SUMMARY:Holiday Tree Lighting: City of Wood Village will be Saturday Dec 2nd
DESCRIPTION:The annual Tree Lighting event kicks off the holiday season in Wood Village with live music\, free treats and refreshments\, and a visit from Santa and the Grrinch as well\, all leading up to the tree lighting countdown.  This event will be held at Wood Village City Hall.
URL:https://westcolumbiagorgechamber.com/event/holiday-tree-lighting-friday-december-1-2023-city-of-wood-village/
LOCATION:City of Wood Village City Hall\, 24200 NE Halsey St\, Wood Village\, OR\, 97060\, United States
CATEGORIES:City of Wood Village,Events - Community
ATTACH;FMTTYPE=image/png:https://westcolumbiagorgechamber.com/wp-content/uploads/2018/11/Christmas-tree.png
END:VEVENT
BEGIN:VEVENT
DTSTART;TZID=America/Los_Angeles:20240124T180000
DTEND;TZID=America/Los_Angeles:20240124T200000
DTSTAMP:20260420T181918
CREATED:20240107T033124Z
LAST-MODIFIED:20240107T033124Z
UID:12656-1706119200-1706126400@westcolumbiagorgechamber.com
SUMMARY:This month's BASH will be held at the Rock Wood Fired Pizza in Wood Village!
DESCRIPTION:Come join us for this month’s BASH\, Business and Social Hour event at The Rock Wood Fired Pizza in Wood Village! Time to hold the first after hours event of the year and what better place than the “Rock”  Great food and beverages to enjoy. Time to relax and mingle with fellow chamber members and their guests.  The fun begins at 5pm with Happy Hour in full swing. We will meet in the main bar and enjoy the fellowship of other members.  Be sure to invite guests to see what we are all about.  See you there!!
URL:https://westcolumbiagorgechamber.com/event/this-months-bash-will-be-held-at-the-rock-wood-fired-pizza-in-wood-village/
LOCATION:The Rock Wood Fired Pizza\, 22401 NE Glisan St\,\, Wood Vilage\, OR\, 97060
CATEGORIES:Business & Social Hours (BASH),City of Wood Village
ORGANIZER;CN="West Columbia Gorge Chamber of Commerce":MAILTO:info@westcolumbiagorgechamber.com
END:VEVENT
BEGIN:VEVENT
DTSTART;TZID=America/Los_Angeles:20240228T180000
DTEND;TZID=America/Los_Angeles:20240228T200000
DTSTAMP:20260420T181918
CREATED:20240107T033733Z
LAST-MODIFIED:20240222T174944Z
UID:12658-1709143200-1709150400@westcolumbiagorgechamber.com
SUMMARY:Monthly BASH at The "Fork" Fairview Food Plaza
DESCRIPTION:This coming week’s Chamber Chat will be held at  “The Fork” Fairview Food Plaza!  A great way to celebrate Leap Year\,sort of!  A day off but who’s counting\,  The fun starts at 5pm and runs to about 7 or so. The Beer garden is under new management and would appreciate our support.  Put this on your calendar and invite a fellow business or friend to enjoy this 2nd BASH  of the year..  See you there!
URL:https://westcolumbiagorgechamber.com/event/tentatively-chamber-chat-at-tanys-cafe-con-pan-in-wood-village-near-city-hall/
LOCATION:Tany’s Coffee Shop and Bakery\, 24173 NE Halsey St\, Wood Village\, OR\, 97060
CATEGORIES:Business & Social Hours (BASH),City of Wood Village
ORGANIZER;CN="West Columbia Gorge Chamber of Commerce":MAILTO:info@westcolumbiagorgechamber.com
END:VEVENT
BEGIN:VEVENT
DTSTART;TZID=America/Los_Angeles:20240330T090000
DTEND;TZID=America/Los_Angeles:20240330T110000
DTSTAMP:20260420T181918
CREATED:20240304T182119Z
LAST-MODIFIED:20240304T182119Z
UID:12730-1711789200-1711796400@westcolumbiagorgechamber.com
SUMMARY:Wood Village Easter Egg Hunt March 30th 2024 at Wood Village City Hall
DESCRIPTION:Easter Egg Hunt\n• Saturday before Easter\n• Annual event since 1988\n• Average Attendance – 3\,000+\n• Over 30\,000 Easter Eggs\n• Features – Refreshments\, face painting\, Easter bunny\, sensory-friendly hunt\, and music \n36th Annual Easter Egg Hunt \nJoin us for a morning of egg hunts\, face painting\, treats\, and more! With 30\,000 eggs\, everyone will leave with a smile on their face and a full basket. \nFor more information and to learn how to volunteer or be a sponsor\, visit www.woodvillageor.gov/easter-egg-hunt
URL:https://westcolumbiagorgechamber.com/event/wood-village-easter-egg-hunt-march-30th-2024-at-wood-village-city-hall/
LOCATION:City of Wood Village City Hall\, 24200 NE Halsey St\, Wood Village\, OR\, 97060\, United States
CATEGORIES:City of Wood Village,Member Event
ORGANIZER;CN="City of Wood Village":MAILTO:gregd@ci.wood-village.or.us 
END:VEVENT
BEGIN:VEVENT
DTSTART;TZID=America/Los_Angeles:20240710T083000
DTEND;TZID=America/Los_Angeles:20240710T220000
DTSTAMP:20260420T181918
CREATED:20240612T142716Z
LAST-MODIFIED:20240706T001736Z
UID:12841-1720600200-1720648800@westcolumbiagorgechamber.com
SUMMARY:Chamber Chat for July 10th will be at Tany's Cafe Con Pan in Wood Village!
DESCRIPTION:Chamber Chat on July 10th will be at Tany’s Cafe Con Pan in Wood Village. Come and enjoy networking with your fellow Chamber members. Tany’s is a great place for meetings and fun foods and beverages. Invite a friend or fellow business to experience this close knit this group! See you there!
URL:https://westcolumbiagorgechamber.com/event/chamber-chat-for-july-10th-will-be-at-tanys-cafe-con-pan-in-wood-village/
LOCATION:Tany;s Cafe Con Pan\, 24173 NE Halsey St\, Wood Village\, OR\, 97060
CATEGORIES:AM Networkings,Chamber Meetings,City of Wood Village
END:VEVENT
BEGIN:VEVENT
DTSTART;TZID=America/Los_Angeles:20240719T180000
DTEND;TZID=America/Los_Angeles:20240719T210000
DTSTAMP:20260420T181918
CREATED:20240705T235638Z
LAST-MODIFIED:20240706T000657Z
UID:12849-1721412000-1721422800@westcolumbiagorgechamber.com
SUMMARY:Wood Village Night Out1 July 19th from 5 to 8pm at the Wood Village Baptist Church!
DESCRIPTION:Wood Village City Night out!  Fun for the whole family.Come and join the fun from 5pm to 8apm at the Wood Village Baptist Church. Great family activities with give aways and food for all.  Celebrate with your community!
URL:https://westcolumbiagorgechamber.com/event/wood-village-night-out1-july-19th-from-5-to-8pm-at-the-wood-village-baptist-church/
LOCATION:Wood Village Baptist Church\, 23601 NE Arata Rd.\, Wood Village\, OR\, 97060\, United States
CATEGORIES:City of Wood Village
ORGANIZER;CN="City of Wood Village":MAILTO:gregd@ci.wood-village.or.us 
END:VEVENT
BEGIN:VEVENT
DTSTART;TZID=America/Los_Angeles:20240918T073000
DTEND;TZID=America/Los_Angeles:20240918T090000
DTSTAMP:20260420T181918
CREATED:20240906T220113Z
LAST-MODIFIED:20240906T220621Z
UID:12996-1726644600-1726650000@westcolumbiagorgechamber.com
SUMMARY:Chamber Chat will be at IHOP of Wood Village on Sept 18th! Another chat that will be great at 7:38am
DESCRIPTION:Come enjoy Chamber Chat at IHOP in Wood Village. Opportunity to network over breakfast at the IHOP in Wood Village. We will get there about 7:20am if you are ordering food. Gives them time to get it prepared when there is a larger than average group.  Hope to see you there!
URL:https://westcolumbiagorgechamber.com/event/chamber-chat-will-be-at-ihop-of-wood-village-on-sept-18th-another-chat-that-will-be-great-at-738am/
LOCATION:IHOP\, 22583 NE Glisan S\, Wod Vilage\, OR\, 97060\, United States
CATEGORIES:AM Networkings,City of Wood Village,Morning Chamber Chat
ORGANIZER;CN="West Columbia Gorge Chamber of Commerce":MAILTO:info@westcolumbiagorgechamber.com
END:VEVENT
BEGIN:VEVENT
DTSTART;TZID=America/Los_Angeles:20240925T170000
DTEND;TZID=America/Los_Angeles:20240925T190000
DTSTAMP:20260420T181918
CREATED:20240906T220523Z
LAST-MODIFIED:20240906T220523Z
UID:12998-1727283600-1727290800@westcolumbiagorgechamber.com
SUMMARY:This month's BASH\, Business and social hour\, at Buffalo Wild Wings in Wood Village!
DESCRIPTION:Come and network with us at Buffalo Wild Wings in Wood Village.  Always something good to eat or drink at this fun sports bar.  Networking here is always a hit so invite another business or friend to join us.  See you there!
URL:https://westcolumbiagorgechamber.com/event/this-months-bash-business-and-social-hour-at-buffalo-wild-wings-in-wood-village/
LOCATION:Buffalo Wild Wings\, 22849 NE Glisan St\, Wood Village\, OR\, 97060
CATEGORIES:Business & Social Hours (BASH),City of Wood Village
ORGANIZER;CN="West Columbia Gorge Chamber of Commerce":MAILTO:info@westcolumbiagorgechamber.com
END:VEVENT
BEGIN:VEVENT
DTSTART;TZID=America/Los_Angeles:20241009T073000
DTEND;TZID=America/Los_Angeles:20241009T090000
DTSTAMP:20260420T181918
CREATED:20240925T194914Z
LAST-MODIFIED:20240925T194914Z
UID:13045-1728459000-1728464400@westcolumbiagorgechamber.com
SUMMARY:It's going to be great at 7:38am at Tany's Cafe Con Pon in Wood Village on Oct 9th
DESCRIPTION:Chamber chat will be at Tany;s Cafe Con Pon.  We get there about 7:20 at but the official time is 7:38am  Come network and check this place out.\nAwesome food and great coffee and/or pastry treats.  Plan you morning around this meeting. Invite a friend or another business. \nSee you there!
URL:https://westcolumbiagorgechamber.com/event/its-going-to-be-great-at-738am-at-tanys-cafe-con-pon-in-wood-village-on-oct-9th/
LOCATION:Tany’s Cafe Con Pan\, 24173 NE Halsey St\, Wood Village\, OR\, 97060
CATEGORIES:AM Networkings,City of Wood Village,Morning Chamber Chat
ORGANIZER;CN="West Columbia Gorge Chamber of Commerce":MAILTO:info@westcolumbiagorgechamber.com
END:VEVENT
BEGIN:VEVENT
DTSTART;TZID=America/Los_Angeles:20241207T163000
DTEND;TZID=America/Los_Angeles:20241207T190000
DTSTAMP:20260420T181918
CREATED:20241108T183224Z
LAST-MODIFIED:20241108T183224Z
UID:13128-1733589000-1733598000@westcolumbiagorgechamber.com
SUMMARY:2024 Wood Village Tree lighting at City Hall!
DESCRIPTION:This years Tree Lighting in Wood Village will be\, once again\, at City Hall. Santa is making an appearance to see children and make their Santa requests.\nSpecial guest will be the Grinch to encourage children to remember the reason for the season and it is not only about the presents.  Children’s activities start\nat 4:30 with Santa arriving at 5pm.  The tree lighting will happen shortly after that.  Volunteers are needed so if you want to help contact the Chamber or Caroline Hinders of Wood Village.  See you there!!
URL:https://westcolumbiagorgechamber.com/event/2024-wood-village-tree-lighting-at-city-hall/
LOCATION:City of Wood Village City Hall\, 24200 NE Halsey St\, Wood Village\, OR\, 97060\, United States
CATEGORIES:City of Wood Village,Events - Chamber,Events - Community
END:VEVENT
BEGIN:VEVENT
DTSTART;TZID=America/Los_Angeles:20241231T080000
DTEND;TZID=America/Los_Angeles:20241231T170000
DTSTAMP:20260420T181918
CREATED:20241231T204403Z
LAST-MODIFIED:20241231T204403Z
UID:13201-1735632000-1735664400@westcolumbiagorgechamber.com
SUMMARY:The first BASH of 2025 will be held at Hell Fire Kitchen in the Wood Village Shopping Center!
DESCRIPTION:The Hell Fire  Kitchen has taken over the space that The Rock Wood Fired Pizza used to occupy. It is similar to the Rock but has added it’s own flare to it’s menu.  Should a fun place for the BASH.  Invite a fiend or another business to celebrate our first BASH of 2025! \nSee you there!
URL:https://westcolumbiagorgechamber.com/event/the-first-bash-of-2025-will-be-held-at-hell-fire-kitchen-in-the-wood-village-shopping-center/
LOCATION:Hell Fired Piza\, 22401 NE Glisan St\, Wood Vilare\, OR\, 97060
CATEGORIES:Business & Social Hours (BASH),City of Wood Village
ORGANIZER;CN="West Columbia Gorge Chamber of Commerce":MAILTO:info@westcolumbiagorgechamber.com
END:VEVENT
BEGIN:VEVENT
DTSTART;TZID=America/Los_Angeles:20250122T173000
DTEND;TZID=America/Los_Angeles:20250122T190000
DTSTAMP:20260420T181918
CREATED:20250108T203537Z
LAST-MODIFIED:20250108T203606Z
UID:13212-1737567000-1737572400@westcolumbiagorgechamber.com
SUMMARY:January BASH (Business and Social Hour) will be held at Hellfired Pizza in Wood Village Jan 22nd
DESCRIPTION:Hellfired Pizza will be our host for the BASH in January.  They took over from The Rock Wood Fired Pizza last year and it’s time to show them some exposure and care from our Chamber.  Hope to have the upper room for our group.  Same basic menu with some new additions to make your evening complete.  Come check this out and invite a friend or another business. We are growing and making support of our area business our priority.  See you there!
URL:https://westcolumbiagorgechamber.com/event/january-bash-business-and-social-hour-will-be-held-at-hellfired-pizza-in-wood-village-jan-22nd/
LOCATION:Hellfired Pizza\, 22401 NE Glisan St\,\, Wood Village\, OR\, 97060
CATEGORIES:Business & Social Hours (BASH),City of Wood Village,Events - Chamber
ORGANIZER;CN="West Columbia Gorge Chamber of Commerce":MAILTO:info@westcolumbiagorgechamber.com
END:VEVENT
BEGIN:VEVENT
DTSTART;TZID=America/Los_Angeles:20250416T073000
DTEND;TZID=America/Los_Angeles:20250416T210000
DTSTAMP:20260420T181918
CREATED:20250324T202219Z
LAST-MODIFIED:20250324T202632Z
UID:13298-1744788600-1744837200@westcolumbiagorgechamber.com
SUMMARY:April 16th Chamber Chat at 7:38am will be with the City of Wood Village City Manager Greg Dirk at Tany's Cafe Con Pan!
DESCRIPTION:Greg Dirk and the City of Wood Village will be doing the City of Wood Village State of the City update at our Chamber Chat. Greg has been City Manager for many years and is anxious to present what’s going on in Wood Village. We have partnered with the City for many of their events.  So Come to Tany’s and hear what Greg has to say. Always a treat to be at Tany’s with the bakery and breakfast menu being so fun and delicious!  Invite a friend and/or another business to network and hear the latest in Wood Village! \nSee you there!
URL:https://westcolumbiagorgechamber.com/event/april-16th-chamber-chat-will-be-with-the-city-of-wood-village-city-manager-greg-dirk-at-tanys-cafe-con-pon/
LOCATION:Tany;s Cafe Con Pan\, 24173 NE Halsey St\, Wood Village\, OR\, 97060
CATEGORIES:AM Networkings,City of Wood Village,Morning Chamber Chat
END:VEVENT
BEGIN:VEVENT
DTSTART;TZID=America/Los_Angeles:20251025T110000
DTEND;TZID=America/Los_Angeles:20251025T130000
DTSTAMP:20260420T181918
CREATED:20251021T173111Z
LAST-MODIFIED:20251021T173239Z
UID:13594-1761390000-1761397200@westcolumbiagorgechamber.com
SUMMARY:Wood Village 10th annual Pumpkin Fest Oct 25th 2025
DESCRIPTION:10th Annual Wood Village Pumpkin Fest\nSaturday\, October 25\, 2025\n11:00 AM – 1:00 PM\nDonald L. Robertson City Park\nPumpkin Fest is an art and cultural event with pumpkins as the main theme. We celebrate the various cultures of our community through songs\, dances\, and art. There are free arts & crafts\, activities\, music\, and more! We are also hosting a Trunk-or-Treat at the event for kids to dress up in their costumes and collect candy.\nPet costume contest as well See the City of Wood Village for details.
URL:https://westcolumbiagorgechamber.com/event/wood-village-10th-annual-pumpkin-fest-oct-25th-2025/
LOCATION:City of Wood Village City Hall\, 24200 NE Halsey St\, Wood Village\, OR\, 97060\, United States
CATEGORIES:City of Wood Village
END:VEVENT
END:VCALENDAR