BEGIN:VCALENDAR
VERSION:2.0
PRODID:-//West Columbia Gorge Chamber of Commerce - ECPv6.15.20//NONSGML v1.0//EN
CALSCALE:GREGORIAN
METHOD:PUBLISH
X-ORIGINAL-URL:https://westcolumbiagorgechamber.com
X-WR-CALDESC:Events for West Columbia Gorge Chamber of Commerce
REFRESH-INTERVAL;VALUE=DURATION:PT1H
X-Robots-Tag:noindex
X-PUBLISHED-TTL:PT1H
BEGIN:VTIMEZONE
TZID:America/Los_Angeles
BEGIN:DAYLIGHT
TZOFFSETFROM:-0800
TZOFFSETTO:-0700
TZNAME:PDT
DTSTART:20210314T100000
END:DAYLIGHT
BEGIN:STANDARD
TZOFFSETFROM:-0700
TZOFFSETTO:-0800
TZNAME:PST
DTSTART:20211107T090000
END:STANDARD
BEGIN:DAYLIGHT
TZOFFSETFROM:-0800
TZOFFSETTO:-0700
TZNAME:PDT
DTSTART:20220313T100000
END:DAYLIGHT
BEGIN:STANDARD
TZOFFSETFROM:-0700
TZOFFSETTO:-0800
TZNAME:PST
DTSTART:20221106T090000
END:STANDARD
BEGIN:DAYLIGHT
TZOFFSETFROM:-0800
TZOFFSETTO:-0700
TZNAME:PDT
DTSTART:20230312T100000
END:DAYLIGHT
BEGIN:STANDARD
TZOFFSETFROM:-0700
TZOFFSETTO:-0800
TZNAME:PST
DTSTART:20231105T090000
END:STANDARD
END:VTIMEZONE
BEGIN:VEVENT
DTSTART;TZID=America/Los_Angeles:20220308T233000
DTEND;TZID=America/Los_Angeles:20220309T123000
DTSTAMP:20260420T160131
CREATED:20220303T033108Z
LAST-MODIFIED:20220303T033108Z
UID:9983-1646782200-1646829000@westcolumbiagorgechamber.com
SUMMARY:Morning AM networking with the City of Wood Village's City Manager Greg Dirks at 7:38am!
DESCRIPTION:This week the City of Wood Village will take center stage as Greg Dirks shares the news in Wood Village. This will be an in person event at Wood Village’s new City Hall in Wood Village 24200 NE Halsey St\, Wood Village\, OR 97060.  This facility is state of the art in every way. Greg will explain and we will hear what is going on in Wood Village.  Come and invite a friend or fellow business to explore this City.  Look forward to seeing you there.
URL:https://westcolumbiagorgechamber.com/event/morning-am-networking-with-the-city-of-wood-villages-city-manager-greg-dirks-at-738am/
LOCATION:City of Wood Village City Hall\, 24200 NE Halsey St\, Wood Village\, OR\, 97060\, United States
CATEGORIES:AM Networkings,Chamber Meetings,City of Wood Village,Events - Chamber
END:VEVENT
END:VCALENDAR