BEGIN:VCALENDAR
VERSION:2.0
PRODID:-//West Columbia Gorge Chamber of Commerce - ECPv6.15.20//NONSGML v1.0//EN
CALSCALE:GREGORIAN
METHOD:PUBLISH
X-WR-CALNAME:West Columbia Gorge Chamber of Commerce
X-ORIGINAL-URL:https://westcolumbiagorgechamber.com
X-WR-CALDESC:Events for West Columbia Gorge Chamber of Commerce
REFRESH-INTERVAL;VALUE=DURATION:PT1H
X-Robots-Tag:noindex
X-PUBLISHED-TTL:PT1H
BEGIN:VTIMEZONE
TZID:America/Los_Angeles
BEGIN:DAYLIGHT
TZOFFSETFROM:-0800
TZOFFSETTO:-0700
TZNAME:PDT
DTSTART:20200308T100000
END:DAYLIGHT
BEGIN:STANDARD
TZOFFSETFROM:-0700
TZOFFSETTO:-0800
TZNAME:PST
DTSTART:20201101T090000
END:STANDARD
BEGIN:DAYLIGHT
TZOFFSETFROM:-0800
TZOFFSETTO:-0700
TZNAME:PDT
DTSTART:20210314T100000
END:DAYLIGHT
BEGIN:STANDARD
TZOFFSETFROM:-0700
TZOFFSETTO:-0800
TZNAME:PST
DTSTART:20211107T090000
END:STANDARD
BEGIN:DAYLIGHT
TZOFFSETFROM:-0800
TZOFFSETTO:-0700
TZNAME:PDT
DTSTART:20220313T100000
END:DAYLIGHT
BEGIN:STANDARD
TZOFFSETFROM:-0700
TZOFFSETTO:-0800
TZNAME:PST
DTSTART:20221106T090000
END:STANDARD
END:VTIMEZONE
BEGIN:VEVENT
DTSTART;TZID=America/Los_Angeles:20211217T100000
DTEND;TZID=America/Los_Angeles:20211217T130000
DTSTAMP:20260420T181921
CREATED:20211009T042457Z
LAST-MODIFIED:20211009T042457Z
UID:9624-1639735200-1639746000@westcolumbiagorgechamber.com
SUMMARY:Holiday Food Drive at Wood Village City Hall & Civic Center
DESCRIPTION:Holiday Food Drive \nWood Village City Hall & Civic Center \nFriday\, December 17th \n10:00am – 1:00pm \nRegister HERE
URL:https://westcolumbiagorgechamber.com/event/holiday-food-drive-at-wood-village-city-hall-civic-center-3/
LOCATION:OR
CATEGORIES:City of Wood Village,Events - Community
END:VEVENT
BEGIN:VEVENT
DTSTART;TZID=America/Los_Angeles:20211217T100000
DTEND;TZID=America/Los_Angeles:20211217T130000
DTSTAMP:20260420T181921
CREATED:20211009T042457Z
LAST-MODIFIED:20211009T042457Z
UID:9898-1639735200-1639746000@westcolumbiagorgechamber.com
SUMMARY:Holiday Food Drive at Wood Village City Hall & Civic Center
DESCRIPTION:Holiday Food Drive \nWood Village City Hall & Civic Center \nFriday\, December 17th \n10:00am – 1:00pm \nRegister HERE
URL:https://westcolumbiagorgechamber.com/event/holiday-food-drive-at-wood-village-city-hall-civic-center-4/
LOCATION:OR
CATEGORIES:City of Wood Village,Events - Community
END:VEVENT
BEGIN:VEVENT
DTSTART;TZID=America/Los_Angeles:20211217T100000
DTEND;TZID=America/Los_Angeles:20211217T130000
DTSTAMP:20260420T181921
CREATED:20211009T042457Z
LAST-MODIFIED:20211009T042457Z
UID:8233-1639735200-1639746000@westcolumbiagorgechamber.com
SUMMARY:Holiday Food Drive at Wood Village City Hall & Civic Center
DESCRIPTION:Holiday Food Drive \nWood Village City Hall & Civic Center \nFriday\, December 17th \n10:00am – 1:00pm \nRegister HERE
URL:https://westcolumbiagorgechamber.com/event/holiday-food-drive-at-wood-village-city-hall-civic-center/
LOCATION:OR
CATEGORIES:City of Wood Village,Events - Community
END:VEVENT
BEGIN:VEVENT
DTSTART;TZID=America/Los_Angeles:20211217T100000
DTEND;TZID=America/Los_Angeles:20211217T130000
DTSTAMP:20260420T181921
CREATED:20211009T042457Z
LAST-MODIFIED:20211009T042457Z
UID:9588-1639735200-1639746000@westcolumbiagorgechamber.com
SUMMARY:Holiday Food Drive at Wood Village City Hall & Civic Center
DESCRIPTION:Holiday Food Drive \nWood Village City Hall & Civic Center \nFriday\, December 17th \n10:00am – 1:00pm \nRegister HERE
URL:https://westcolumbiagorgechamber.com/event/holiday-food-drive-at-wood-village-city-hall-civic-center-2/
LOCATION:OR
CATEGORIES:City of Wood Village,Events - Community
END:VEVENT
END:VCALENDAR