BEGIN:VCALENDAR
VERSION:2.0
PRODID:-//West Columbia Gorge Chamber of Commerce - ECPv6.15.20//NONSGML v1.0//EN
CALSCALE:GREGORIAN
METHOD:PUBLISH
X-WR-CALNAME:West Columbia Gorge Chamber of Commerce
X-ORIGINAL-URL:https://westcolumbiagorgechamber.com
X-WR-CALDESC:Events for West Columbia Gorge Chamber of Commerce
REFRESH-INTERVAL;VALUE=DURATION:PT1H
X-Robots-Tag:noindex
X-PUBLISHED-TTL:PT1H
BEGIN:VTIMEZONE
TZID:America/Los_Angeles
BEGIN:DAYLIGHT
TZOFFSETFROM:-0800
TZOFFSETTO:-0700
TZNAME:PDT
DTSTART:20150308T100000
END:DAYLIGHT
BEGIN:STANDARD
TZOFFSETFROM:-0700
TZOFFSETTO:-0800
TZNAME:PST
DTSTART:20151101T090000
END:STANDARD
BEGIN:DAYLIGHT
TZOFFSETFROM:-0800
TZOFFSETTO:-0700
TZNAME:PDT
DTSTART:20160313T100000
END:DAYLIGHT
BEGIN:STANDARD
TZOFFSETFROM:-0700
TZOFFSETTO:-0800
TZNAME:PST
DTSTART:20161106T090000
END:STANDARD
BEGIN:DAYLIGHT
TZOFFSETFROM:-0800
TZOFFSETTO:-0700
TZNAME:PDT
DTSTART:20170312T100000
END:DAYLIGHT
BEGIN:STANDARD
TZOFFSETFROM:-0700
TZOFFSETTO:-0800
TZNAME:PST
DTSTART:20171105T090000
END:STANDARD
END:VTIMEZONE
BEGIN:VEVENT
DTSTART;TZID=America/Los_Angeles:20160824T190000
DTEND;TZID=America/Los_Angeles:20160824T210000
DTSTAMP:20260419T202151
CREATED:20160422T131434Z
LAST-MODIFIED:20160422T131434Z
UID:1852-1472065200-1472072400@westcolumbiagorgechamber.com
SUMMARY:Chamber PM Networking / Badger Creek Book Keeping
DESCRIPTION:Brenda is inviting all of our Chamber Members and guests to join her at her home for a evening networking event on Wednesday\, August 24th. The fun starts at 7:00 pm and wraps up at 9:00 pm. This is a great event to introduce others to the Chamber!
URL:https://westcolumbiagorgechamber.com/event/chamber-pm-networking-badger-creek-book-keeping/
LOCATION:Unnamed Venue\, 52684 E Terra Fern Drive\, Sandy\, 97055
CATEGORIES:AM Networkings,Events - Chamber
END:VEVENT
BEGIN:VEVENT
DTSTART;TZID=America/Los_Angeles:20160810T091500
DTEND;TZID=America/Los_Angeles:20160810T160000
DTSTAMP:20260419T202151
CREATED:20160722T152315Z
LAST-MODIFIED:20160722T152315Z
UID:8355-1470820500-1470844800@westcolumbiagorgechamber.com
SUMMARY:In This Together Grand Opening and Ribbon Cutting Ceremony
DESCRIPTION:In This Together is pleased to announce the opening of their new location and sponsored program\, “My Brother’s Keeper\,” a community environment which provides a safe place allowing everyone to be the shining individuals they have been created to be: a judgement-free zone that enhances self-confidence\, allows dreams to become goals\, and ensures everyone is accepted and included.
URL:https://westcolumbiagorgechamber.com/event/in-this-together-grand-opening-ribbon-cutting-ceremony-3/
LOCATION:In This Together\, 26938 SE Stark St\, Troutdale\, OR\, 97060\, United States
CATEGORIES:Events - Chamber
END:VEVENT
BEGIN:VEVENT
DTSTART;TZID=America/Los_Angeles:20160810T091500
DTEND;TZID=America/Los_Angeles:20160810T160000
DTSTAMP:20260419T202151
CREATED:20160722T152315Z
LAST-MODIFIED:20160722T152315Z
UID:1994-1470820500-1470844800@westcolumbiagorgechamber.com
SUMMARY:In This Together Grand Opening and Ribbon Cutting Ceremony
DESCRIPTION:In This Together is pleased to announce the opening of their new location and sponsored program\, “My Brother’s Keeper\,” a community environment which provides a safe place allowing everyone to be the shining individuals they have been created to be: a judgement-free zone that enhances self-confidence\, allows dreams to become goals\, and ensures everyone is accepted and included.
URL:https://westcolumbiagorgechamber.com/event/in-this-together-grand-opening-ribbon-cutting-ceremony/
LOCATION:In This Together\, 26938 SE Stark St\, Troutdale\, OR\, 97060\, United States
CATEGORIES:Events - Chamber
END:VEVENT
BEGIN:VEVENT
DTSTART;TZID=America/Los_Angeles:20160810T091500
DTEND;TZID=America/Los_Angeles:20160810T160000
DTSTAMP:20260419T202151
CREATED:20160722T152315Z
LAST-MODIFIED:20160722T152315Z
UID:8923-1470820500-1470844800@westcolumbiagorgechamber.com
SUMMARY:In This Together Grand Opening and Ribbon Cutting Ceremony
DESCRIPTION:In This Together is pleased to announce the opening of their new location and sponsored program\, “My Brother’s Keeper\,” a community environment which provides a safe place allowing everyone to be the shining individuals they have been created to be: a judgement-free zone that enhances self-confidence\, allows dreams to become goals\, and ensures everyone is accepted and included.
URL:https://westcolumbiagorgechamber.com/event/in-this-together-grand-opening-ribbon-cutting-ceremony-4/
LOCATION:In This Together\, 26938 SE Stark St\, Troutdale\, OR\, 97060\, United States
CATEGORIES:Events - Chamber
END:VEVENT
BEGIN:VEVENT
DTSTART;TZID=America/Los_Angeles:20160810T091500
DTEND;TZID=America/Los_Angeles:20160810T160000
DTSTAMP:20260419T202151
CREATED:20160722T152315Z
LAST-MODIFIED:20160722T152315Z
UID:8321-1470820500-1470844800@westcolumbiagorgechamber.com
SUMMARY:In This Together Grand Opening and Ribbon Cutting Ceremony
DESCRIPTION:In This Together is pleased to announce the opening of their new location and sponsored program\, “My Brother’s Keeper\,” a community environment which provides a safe place allowing everyone to be the shining individuals they have been created to be: a judgement-free zone that enhances self-confidence\, allows dreams to become goals\, and ensures everyone is accepted and included.
URL:https://westcolumbiagorgechamber.com/event/in-this-together-grand-opening-ribbon-cutting-ceremony-2/
LOCATION:In This Together\, 26938 SE Stark St\, Troutdale\, OR\, 97060\, United States
CATEGORIES:Events - Chamber
END:VEVENT
BEGIN:VEVENT
DTSTART;TZID=America/Los_Angeles:20160810T073000
DTEND;TZID=America/Los_Angeles:20160810T090000
DTSTAMP:20260419T202151
CREATED:20160706T191135Z
LAST-MODIFIED:20160706T191135Z
UID:8908-1470814200-1470819600@westcolumbiagorgechamber.com
SUMMARY:Chamber AM Networking / Reynolds Learning Academy
DESCRIPTION:Kathy and the Reynolds School District is inviting all of our Chamber Members and guests to join her at the Reynolds Learning Academy ( 20234 NE Halsey St\, Fairview\, OR 97024) on Wednesday\, August 10th. The fun starts at 7:30 am and wraps up at 9:00 am. This is a great event to introduce others to the Chamber!
URL:https://westcolumbiagorgechamber.com/event/1974-4/
CATEGORIES:AM Networkings,Events - Chamber
END:VEVENT
BEGIN:VEVENT
DTSTART;TZID=America/Los_Angeles:20160810T073000
DTEND;TZID=America/Los_Angeles:20160810T090000
DTSTAMP:20260419T202151
CREATED:20160706T191135Z
LAST-MODIFIED:20160706T191135Z
UID:1974-1470814200-1470819600@westcolumbiagorgechamber.com
SUMMARY:Chamber AM Networking / Reynolds Learning Academy
DESCRIPTION:Kathy and the Reynolds School District is inviting all of our Chamber Members and guests to join her at the Reynolds Learning Academy ( 20234 NE Halsey St\, Fairview\, OR 97024) on Wednesday\, August 10th. The fun starts at 7:30 am and wraps up at 9:00 am. This is a great event to introduce others to the Chamber!
URL:https://westcolumbiagorgechamber.com/event/1974/
CATEGORIES:AM Networkings,Events - Chamber
END:VEVENT
BEGIN:VEVENT
DTSTART;TZID=America/Los_Angeles:20160810T073000
DTEND;TZID=America/Los_Angeles:20160810T090000
DTSTAMP:20260419T202151
CREATED:20160706T191135Z
LAST-MODIFIED:20160706T191135Z
UID:8312-1470814200-1470819600@westcolumbiagorgechamber.com
SUMMARY:Chamber AM Networking / Reynolds Learning Academy
DESCRIPTION:Kathy and the Reynolds School District is inviting all of our Chamber Members and guests to join her at the Reynolds Learning Academy ( 20234 NE Halsey St\, Fairview\, OR 97024) on Wednesday\, August 10th. The fun starts at 7:30 am and wraps up at 9:00 am. This is a great event to introduce others to the Chamber!
URL:https://westcolumbiagorgechamber.com/event/1974-2/
CATEGORIES:AM Networkings,Events - Chamber
END:VEVENT
BEGIN:VEVENT
DTSTART;TZID=America/Los_Angeles:20160810T073000
DTEND;TZID=America/Los_Angeles:20160810T090000
DTSTAMP:20260419T202151
CREATED:20160706T191135Z
LAST-MODIFIED:20160706T191135Z
UID:8346-1470814200-1470819600@westcolumbiagorgechamber.com
SUMMARY:Chamber AM Networking / Reynolds Learning Academy
DESCRIPTION:Kathy and the Reynolds School District is inviting all of our Chamber Members and guests to join her at the Reynolds Learning Academy ( 20234 NE Halsey St\, Fairview\, OR 97024) on Wednesday\, August 10th. The fun starts at 7:30 am and wraps up at 9:00 am. This is a great event to introduce others to the Chamber!
URL:https://westcolumbiagorgechamber.com/event/1974-3/
CATEGORIES:AM Networkings,Events - Chamber
END:VEVENT
BEGIN:VEVENT
DTSTART;TZID=America/Los_Angeles:20160809T090000
DTEND;TZID=America/Los_Angeles:20160809T093000
DTSTAMP:20260419T202151
CREATED:20160804T220438Z
LAST-MODIFIED:20160804T220438Z
UID:8327-1470733200-1470735000@westcolumbiagorgechamber.com
SUMMARY:Allay Candle Ribbon Cutting Ceremony & Grand Opening
DESCRIPTION:The West Columbia Gorge Chamber of Commerce is pleased to welcome one of our newest members\, Allay Candle.  This event has been postponed.  
URL:https://westcolumbiagorgechamber.com/event/allay-candle-ribbon-cutting-ceremony-grand-opening-2/
CATEGORIES:Events - Chamber
END:VEVENT
BEGIN:VEVENT
DTSTART;TZID=America/Los_Angeles:20160809T090000
DTEND;TZID=America/Los_Angeles:20160809T093000
DTSTAMP:20260419T202151
CREATED:20160804T220438Z
LAST-MODIFIED:20160804T220438Z
UID:8361-1470733200-1470735000@westcolumbiagorgechamber.com
SUMMARY:Allay Candle Ribbon Cutting Ceremony & Grand Opening
DESCRIPTION:The West Columbia Gorge Chamber of Commerce is pleased to welcome one of our newest members\, Allay Candle.  This event has been postponed.  
URL:https://westcolumbiagorgechamber.com/event/allay-candle-ribbon-cutting-ceremony-grand-opening-3/
CATEGORIES:Events - Chamber
END:VEVENT
BEGIN:VEVENT
DTSTART;TZID=America/Los_Angeles:20160809T090000
DTEND;TZID=America/Los_Angeles:20160809T093000
DTSTAMP:20260419T202151
CREATED:20160804T220438Z
LAST-MODIFIED:20160804T220438Z
UID:2019-1470733200-1470735000@westcolumbiagorgechamber.com
SUMMARY:Allay Candle Ribbon Cutting Ceremony & Grand Opening
DESCRIPTION:The West Columbia Gorge Chamber of Commerce is pleased to welcome one of our newest members\, Allay Candle.  This event has been postponed.  
URL:https://westcolumbiagorgechamber.com/event/allay-candle-ribbon-cutting-ceremony-grand-opening/
CATEGORIES:Events - Chamber
END:VEVENT
BEGIN:VEVENT
DTSTART;TZID=America/Los_Angeles:20160809T090000
DTEND;TZID=America/Los_Angeles:20160809T093000
DTSTAMP:20260419T202151
CREATED:20160804T220438Z
LAST-MODIFIED:20160804T220438Z
UID:8932-1470733200-1470735000@westcolumbiagorgechamber.com
SUMMARY:Allay Candle Ribbon Cutting Ceremony & Grand Opening
DESCRIPTION:The West Columbia Gorge Chamber of Commerce is pleased to welcome one of our newest members\, Allay Candle.  This event has been postponed.  
URL:https://westcolumbiagorgechamber.com/event/allay-candle-ribbon-cutting-ceremony-grand-opening-4/
CATEGORIES:Events - Chamber
END:VEVENT
BEGIN:VEVENT
DTSTART;TZID=America/Los_Angeles:20160803T073000
DTEND;TZID=America/Los_Angeles:20160803T210000
DTSTAMP:20260419T202151
CREATED:20160721T162453Z
LAST-MODIFIED:20160721T162453Z
UID:8354-1470209400-1470258000@westcolumbiagorgechamber.com
SUMMARY:Chamber AM Networking / CP Trips
DESCRIPTION:Cindy is inviting all of our Chamber Members and guests to join her at her home in Damascus (12675 SE Hacienda Dr. Damascus Or 97009) on Wednesday\, August 3rd. The fun starts at 7:30 am and wraps up at 9:00 am. This is a great event to introduce others to the Chamber!
URL:https://westcolumbiagorgechamber.com/event/chamber-am-networking-cp-trips-3/
CATEGORIES:AM Networkings,Events - Chamber
END:VEVENT
BEGIN:VEVENT
DTSTART;TZID=America/Los_Angeles:20160803T073000
DTEND;TZID=America/Los_Angeles:20160803T210000
DTSTAMP:20260419T202151
CREATED:20160721T162453Z
LAST-MODIFIED:20160721T162453Z
UID:1992-1470209400-1470258000@westcolumbiagorgechamber.com
SUMMARY:Chamber AM Networking / CP Trips
DESCRIPTION:Cindy is inviting all of our Chamber Members and guests to join her at her home in Damascus (12675 SE Hacienda Dr. Damascus Or 97009) on Wednesday\, August 3rd. The fun starts at 7:30 am and wraps up at 9:00 am. This is a great event to introduce others to the Chamber!
URL:https://westcolumbiagorgechamber.com/event/chamber-am-networking-cp-trips/
CATEGORIES:AM Networkings,Events - Chamber
END:VEVENT
BEGIN:VEVENT
DTSTART;TZID=America/Los_Angeles:20160803T073000
DTEND;TZID=America/Los_Angeles:20160803T210000
DTSTAMP:20260419T202151
CREATED:20160721T162453Z
LAST-MODIFIED:20160721T162453Z
UID:8920-1470209400-1470258000@westcolumbiagorgechamber.com
SUMMARY:Chamber AM Networking / CP Trips
DESCRIPTION:Cindy is inviting all of our Chamber Members and guests to join her at her home in Damascus (12675 SE Hacienda Dr. Damascus Or 97009) on Wednesday\, August 3rd. The fun starts at 7:30 am and wraps up at 9:00 am. This is a great event to introduce others to the Chamber!
URL:https://westcolumbiagorgechamber.com/event/chamber-am-networking-cp-trips-4/
CATEGORIES:AM Networkings,Events - Chamber
END:VEVENT
BEGIN:VEVENT
DTSTART;TZID=America/Los_Angeles:20160803T073000
DTEND;TZID=America/Los_Angeles:20160803T210000
DTSTAMP:20260419T202151
CREATED:20160721T162453Z
LAST-MODIFIED:20160721T162453Z
UID:8319-1470209400-1470258000@westcolumbiagorgechamber.com
SUMMARY:Chamber AM Networking / CP Trips
DESCRIPTION:Cindy is inviting all of our Chamber Members and guests to join her at her home in Damascus (12675 SE Hacienda Dr. Damascus Or 97009) on Wednesday\, August 3rd. The fun starts at 7:30 am and wraps up at 9:00 am. This is a great event to introduce others to the Chamber!
URL:https://westcolumbiagorgechamber.com/event/chamber-am-networking-cp-trips-2/
CATEGORIES:AM Networkings,Events - Chamber
END:VEVENT
BEGIN:VEVENT
DTSTART;TZID=America/Los_Angeles:20160723T110000
DTEND;TZID=America/Los_Angeles:20160723T170000
DTSTAMP:20260419T202151
CREATED:20160404T061906Z
LAST-MODIFIED:20160404T061906Z
UID:8287-1469271600-1469293200@westcolumbiagorgechamber.com
SUMMARY:Troutdale SummerFest 2016
DESCRIPTION:Troutdale’s 44th Annual SummerFest \nPRESENTED BY \n \n  \nJoin us for Troutdale’s 44th Annual SummerFest on Saturday\, July 23rd. \nThe event kicks off with a pancake breakfast and a display of cars\, from back in the day and how they’ve changed throughout the years. Enjoy a community parade through Troutdale\, chalk it up with your kids\, and spend the day with family and friends in Glenn Otto Park. Also have fun with facepainting\, an egg toss\, water balloon toss\, music\, food from the community\, a dunk tank\, and pony rides! \n  \nJoin in on the 1st Annual Columbia Gorge Cupcake War!The winning team wins $500 plus their display and cupcake featured at the Antique Car Picnic that afternoon/evening. Register your team online or pick up a registration form at the Troutdale Visitors Center or City Hall. \nContact Cindy Passannante (503-658-5646) for any questions. \n \n  \n \n  \nDOWNLOADS: \nSummerFest 2016 – Parade Registration FormSummerFest 2016 – Parade Rules \nSummerFest 2016 – Vendor ApplicationSummerFest 2016 – Vendor Packet
URL:https://westcolumbiagorgechamber.com/event/summerfest-2016-3/
LOCATION:Troutdale to Glenn Otto Park\, Troutdale\, 97060\, United States
CATEGORIES:Events - Chamber,Events - Community
END:VEVENT
BEGIN:VEVENT
DTSTART;TZID=America/Los_Angeles:20160723T110000
DTEND;TZID=America/Los_Angeles:20160723T170000
DTSTAMP:20260419T202151
CREATED:20160404T061906Z
LAST-MODIFIED:20160404T061906Z
UID:8820-1469271600-1469293200@westcolumbiagorgechamber.com
SUMMARY:Troutdale SummerFest 2016
DESCRIPTION:Troutdale’s 44th Annual SummerFest \nPRESENTED BY \n \n  \nJoin us for Troutdale’s 44th Annual SummerFest on Saturday\, July 23rd. \nThe event kicks off with a pancake breakfast and a display of cars\, from back in the day and how they’ve changed throughout the years. Enjoy a community parade through Troutdale\, chalk it up with your kids\, and spend the day with family and friends in Glenn Otto Park. Also have fun with facepainting\, an egg toss\, water balloon toss\, music\, food from the community\, a dunk tank\, and pony rides! \n  \nJoin in on the 1st Annual Columbia Gorge Cupcake War!The winning team wins $500 plus their display and cupcake featured at the Antique Car Picnic that afternoon/evening. Register your team online or pick up a registration form at the Troutdale Visitors Center or City Hall. \nContact Cindy Passannante (503-658-5646) for any questions. \n \n  \n \n  \nDOWNLOADS: \nSummerFest 2016 – Parade Registration FormSummerFest 2016 – Parade Rules \nSummerFest 2016 – Vendor ApplicationSummerFest 2016 – Vendor Packet
URL:https://westcolumbiagorgechamber.com/event/summerfest-2016-4/
LOCATION:Troutdale to Glenn Otto Park\, Troutdale\, 97060\, United States
CATEGORIES:Events - Chamber,Events - Community
END:VEVENT
BEGIN:VEVENT
DTSTART;TZID=America/Los_Angeles:20160723T110000
DTEND;TZID=America/Los_Angeles:20160723T170000
DTSTAMP:20260419T202151
CREATED:20160404T061906Z
LAST-MODIFIED:20160404T061906Z
UID:8272-1469271600-1469293200@westcolumbiagorgechamber.com
SUMMARY:Troutdale SummerFest 2016
DESCRIPTION:Troutdale’s 44th Annual SummerFest \nPRESENTED BY \n \n  \nJoin us for Troutdale’s 44th Annual SummerFest on Saturday\, July 23rd. \nThe event kicks off with a pancake breakfast and a display of cars\, from back in the day and how they’ve changed throughout the years. Enjoy a community parade through Troutdale\, chalk it up with your kids\, and spend the day with family and friends in Glenn Otto Park. Also have fun with facepainting\, an egg toss\, water balloon toss\, music\, food from the community\, a dunk tank\, and pony rides! \n  \nJoin in on the 1st Annual Columbia Gorge Cupcake War!The winning team wins $500 plus their display and cupcake featured at the Antique Car Picnic that afternoon/evening. Register your team online or pick up a registration form at the Troutdale Visitors Center or City Hall. \nContact Cindy Passannante (503-658-5646) for any questions. \n \n  \n \n  \nDOWNLOADS: \nSummerFest 2016 – Parade Registration FormSummerFest 2016 – Parade Rules \nSummerFest 2016 – Vendor ApplicationSummerFest 2016 – Vendor Packet
URL:https://westcolumbiagorgechamber.com/event/summerfest-2016-2/
LOCATION:Troutdale to Glenn Otto Park\, Troutdale\, 97060\, United States
CATEGORIES:Events - Chamber,Events - Community
END:VEVENT
BEGIN:VEVENT
DTSTART;TZID=America/Los_Angeles:20160723T110000
DTEND;TZID=America/Los_Angeles:20160723T170000
DTSTAMP:20260419T202151
CREATED:20160404T061906Z
LAST-MODIFIED:20160404T061906Z
UID:1782-1469271600-1469293200@westcolumbiagorgechamber.com
SUMMARY:Troutdale SummerFest 2016
DESCRIPTION:Troutdale’s 44th Annual SummerFest \nPRESENTED BY \n \n  \nJoin us for Troutdale’s 44th Annual SummerFest on Saturday\, July 23rd. \nThe event kicks off with a pancake breakfast and a display of cars\, from back in the day and how they’ve changed throughout the years. Enjoy a community parade through Troutdale\, chalk it up with your kids\, and spend the day with family and friends in Glenn Otto Park. Also have fun with facepainting\, an egg toss\, water balloon toss\, music\, food from the community\, a dunk tank\, and pony rides! \n  \nJoin in on the 1st Annual Columbia Gorge Cupcake War!The winning team wins $500 plus their display and cupcake featured at the Antique Car Picnic that afternoon/evening. Register your team online or pick up a registration form at the Troutdale Visitors Center or City Hall. \nContact Cindy Passannante (503-658-5646) for any questions. \n \n  \n \n  \nDOWNLOADS: \nSummerFest 2016 – Parade Registration FormSummerFest 2016 – Parade Rules \nSummerFest 2016 – Vendor ApplicationSummerFest 2016 – Vendor Packet
URL:https://westcolumbiagorgechamber.com/event/summerfest-2016/
LOCATION:Troutdale to Glenn Otto Park\, Troutdale\, 97060\, United States
CATEGORIES:Events - Chamber,Events - Community
END:VEVENT
BEGIN:VEVENT
DTSTART;TZID=America/Los_Angeles:20160720T183000
DTEND;TZID=America/Los_Angeles:20160720T203000
DTSTAMP:20260419T202151
CREATED:20160629T151442Z
LAST-MODIFIED:20160629T151442Z
UID:8306-1469039400-1469046600@westcolumbiagorgechamber.com
SUMMARY:Chamber PM Networking / Spaces By Design
DESCRIPTION:Catherine Dishion invites all members and guests to visit her new Showroom located adjacent to her remodeled home and 10 acre property ranch for rescue horses in Corbett. Her showroom is a perfect example of what can be done with underutilized space. The dusty and rat-infested two story 30 x 40’ space formerly used as workshop and storage rooms by the former owners has been transformed into a beautiful Showroom complete with a fireplace and wet bar\, a redesigned work shop\, and powder room. \nCatered lite dinner\, desserts\, beer\, wine provided by Leaning Star Winery\, coffee and non-alcoholic beverages will be provided. Great event to showcase the Chamber to guests and network in this comfortable setting overlooking the horse pastures and forest beyond.
URL:https://westcolumbiagorgechamber.com/event/chamber-pm-networking-spaces-by-design-2/
LOCATION:Spaces By Design\, 40712 SE Loudon Rd\, Corbett\, OR\, 97019\, United States
CATEGORIES:AM Networkings,Events - Chamber
END:VEVENT
BEGIN:VEVENT
DTSTART;TZID=America/Los_Angeles:20160720T183000
DTEND;TZID=America/Los_Angeles:20160720T203000
DTSTAMP:20260419T202151
CREATED:20160629T151442Z
LAST-MODIFIED:20160629T151442Z
UID:8898-1469039400-1469046600@westcolumbiagorgechamber.com
SUMMARY:Chamber PM Networking / Spaces By Design
DESCRIPTION:Catherine Dishion invites all members and guests to visit her new Showroom located adjacent to her remodeled home and 10 acre property ranch for rescue horses in Corbett. Her showroom is a perfect example of what can be done with underutilized space. The dusty and rat-infested two story 30 x 40’ space formerly used as workshop and storage rooms by the former owners has been transformed into a beautiful Showroom complete with a fireplace and wet bar\, a redesigned work shop\, and powder room. \nCatered lite dinner\, desserts\, beer\, wine provided by Leaning Star Winery\, coffee and non-alcoholic beverages will be provided. Great event to showcase the Chamber to guests and network in this comfortable setting overlooking the horse pastures and forest beyond.
URL:https://westcolumbiagorgechamber.com/event/chamber-pm-networking-spaces-by-design-4/
LOCATION:Spaces By Design\, 40712 SE Loudon Rd\, Corbett\, OR\, 97019\, United States
CATEGORIES:AM Networkings,Events - Chamber
END:VEVENT
BEGIN:VEVENT
DTSTART;TZID=America/Los_Angeles:20160720T183000
DTEND;TZID=America/Los_Angeles:20160720T203000
DTSTAMP:20260419T202151
CREATED:20160629T151442Z
LAST-MODIFIED:20160629T151442Z
UID:1966-1469039400-1469046600@westcolumbiagorgechamber.com
SUMMARY:Chamber PM Networking / Spaces By Design
DESCRIPTION:Catherine Dishion invites all members and guests to visit her new Showroom located adjacent to her remodeled home and 10 acre property ranch for rescue horses in Corbett. Her showroom is a perfect example of what can be done with underutilized space. The dusty and rat-infested two story 30 x 40’ space formerly used as workshop and storage rooms by the former owners has been transformed into a beautiful Showroom complete with a fireplace and wet bar\, a redesigned work shop\, and powder room. \nCatered lite dinner\, desserts\, beer\, wine provided by Leaning Star Winery\, coffee and non-alcoholic beverages will be provided. Great event to showcase the Chamber to guests and network in this comfortable setting overlooking the horse pastures and forest beyond.
URL:https://westcolumbiagorgechamber.com/event/chamber-pm-networking-spaces-by-design/
LOCATION:Spaces By Design\, 40712 SE Loudon Rd\, Corbett\, OR\, 97019\, United States
CATEGORIES:AM Networkings,Events - Chamber
END:VEVENT
BEGIN:VEVENT
DTSTART;TZID=America/Los_Angeles:20160720T183000
DTEND;TZID=America/Los_Angeles:20160720T203000
DTSTAMP:20260419T202151
CREATED:20160629T151442Z
LAST-MODIFIED:20160629T151442Z
UID:8340-1469039400-1469046600@westcolumbiagorgechamber.com
SUMMARY:Chamber PM Networking / Spaces By Design
DESCRIPTION:Catherine Dishion invites all members and guests to visit her new Showroom located adjacent to her remodeled home and 10 acre property ranch for rescue horses in Corbett. Her showroom is a perfect example of what can be done with underutilized space. The dusty and rat-infested two story 30 x 40’ space formerly used as workshop and storage rooms by the former owners has been transformed into a beautiful Showroom complete with a fireplace and wet bar\, a redesigned work shop\, and powder room. \nCatered lite dinner\, desserts\, beer\, wine provided by Leaning Star Winery\, coffee and non-alcoholic beverages will be provided. Great event to showcase the Chamber to guests and network in this comfortable setting overlooking the horse pastures and forest beyond.
URL:https://westcolumbiagorgechamber.com/event/chamber-pm-networking-spaces-by-design-3/
LOCATION:Spaces By Design\, 40712 SE Loudon Rd\, Corbett\, OR\, 97019\, United States
CATEGORIES:AM Networkings,Events - Chamber
END:VEVENT
BEGIN:VEVENT
DTSTART;TZID=America/Los_Angeles:20160713T073000
DTEND;TZID=America/Los_Angeles:20160713T090000
DTSTAMP:20260419T202151
CREATED:20160629T171716Z
LAST-MODIFIED:20160629T171716Z
UID:8310-1468395000-1468400400@westcolumbiagorgechamber.com
SUMMARY:Chamber AM Networking / KeyBank
DESCRIPTION:Cheryl is inviting all of our Chamber Members and guests to join her at Key Bank – Troutdale (25117 SE Stark St\, Troutdale\, OR 97060) on Wednesday\, July 13th. The fun starts at 7:30 am and wraps up at 9:00 am. This is a great event to introduce others to the Chamber!
URL:https://westcolumbiagorgechamber.com/event/chamber-am-networking-keybank-2/
CATEGORIES:AM Networkings,Events - Chamber
END:VEVENT
BEGIN:VEVENT
DTSTART;TZID=America/Los_Angeles:20160713T073000
DTEND;TZID=America/Los_Angeles:20160713T090000
DTSTAMP:20260419T202151
CREATED:20160629T171716Z
LAST-MODIFIED:20160629T171716Z
UID:8344-1468395000-1468400400@westcolumbiagorgechamber.com
SUMMARY:Chamber AM Networking / KeyBank
DESCRIPTION:Cheryl is inviting all of our Chamber Members and guests to join her at Key Bank – Troutdale (25117 SE Stark St\, Troutdale\, OR 97060) on Wednesday\, July 13th. The fun starts at 7:30 am and wraps up at 9:00 am. This is a great event to introduce others to the Chamber!
URL:https://westcolumbiagorgechamber.com/event/chamber-am-networking-keybank-3/
CATEGORIES:AM Networkings,Events - Chamber
END:VEVENT
BEGIN:VEVENT
DTSTART;TZID=America/Los_Angeles:20160713T073000
DTEND;TZID=America/Los_Angeles:20160713T090000
DTSTAMP:20260419T202151
CREATED:20160629T171716Z
LAST-MODIFIED:20160629T171716Z
UID:8904-1468395000-1468400400@westcolumbiagorgechamber.com
SUMMARY:Chamber AM Networking / KeyBank
DESCRIPTION:Cheryl is inviting all of our Chamber Members and guests to join her at Key Bank – Troutdale (25117 SE Stark St\, Troutdale\, OR 97060) on Wednesday\, July 13th. The fun starts at 7:30 am and wraps up at 9:00 am. This is a great event to introduce others to the Chamber!
URL:https://westcolumbiagorgechamber.com/event/chamber-am-networking-keybank-4/
CATEGORIES:AM Networkings,Events - Chamber
END:VEVENT
BEGIN:VEVENT
DTSTART;TZID=America/Los_Angeles:20160713T073000
DTEND;TZID=America/Los_Angeles:20160713T090000
DTSTAMP:20260419T202151
CREATED:20160629T171716Z
LAST-MODIFIED:20160629T171716Z
UID:1970-1468395000-1468400400@westcolumbiagorgechamber.com
SUMMARY:Chamber AM Networking / KeyBank
DESCRIPTION:Cheryl is inviting all of our Chamber Members and guests to join her at Key Bank – Troutdale (25117 SE Stark St\, Troutdale\, OR 97060) on Wednesday\, July 13th. The fun starts at 7:30 am and wraps up at 9:00 am. This is a great event to introduce others to the Chamber!
URL:https://westcolumbiagorgechamber.com/event/chamber-am-networking-keybank/
CATEGORIES:AM Networkings,Events - Chamber
END:VEVENT
BEGIN:VEVENT
DTSTART;TZID=America/Los_Angeles:20160706T073000
DTEND;TZID=America/Los_Angeles:20160706T090000
DTSTAMP:20260419T202151
CREATED:20160629T171234Z
LAST-MODIFIED:20160629T171234Z
UID:8342-1467790200-1467795600@westcolumbiagorgechamber.com
SUMMARY:Chamber AM Networking / Comcast
DESCRIPTION:Juliette is inviting all of our Chamber Members and guests to join her at the The Comcast Store (2830 NE Hogan Suite F) on Wednesday\, June May 4th. The fun starts at 7:30 am and wraps up at 9:00 am. This is a great event to introduce others to the Chamber!
URL:https://westcolumbiagorgechamber.com/event/chamber-am-networking-comcast-3/
LOCATION:Comcast\, 2830 NE Hogan Dr\, Suite F\, Gresham
CATEGORIES:AM Networkings,Events - Chamber
END:VEVENT
END:VCALENDAR