BEGIN:VCALENDAR
VERSION:2.0
PRODID:-//West Columbia Gorge Chamber of Commerce - ECPv6.15.20//NONSGML v1.0//EN
CALSCALE:GREGORIAN
METHOD:PUBLISH
X-WR-CALNAME:West Columbia Gorge Chamber of Commerce
X-ORIGINAL-URL:https://westcolumbiagorgechamber.com
X-WR-CALDESC:Events for West Columbia Gorge Chamber of Commerce
REFRESH-INTERVAL;VALUE=DURATION:PT1H
X-Robots-Tag:noindex
X-PUBLISHED-TTL:PT1H
BEGIN:VTIMEZONE
TZID:America/Los_Angeles
BEGIN:DAYLIGHT
TZOFFSETFROM:-0800
TZOFFSETTO:-0700
TZNAME:PDT
DTSTART:20190310T100000
END:DAYLIGHT
BEGIN:STANDARD
TZOFFSETFROM:-0700
TZOFFSETTO:-0800
TZNAME:PST
DTSTART:20191103T090000
END:STANDARD
BEGIN:DAYLIGHT
TZOFFSETFROM:-0800
TZOFFSETTO:-0700
TZNAME:PDT
DTSTART:20200308T100000
END:DAYLIGHT
BEGIN:STANDARD
TZOFFSETFROM:-0700
TZOFFSETTO:-0800
TZNAME:PST
DTSTART:20201101T090000
END:STANDARD
BEGIN:DAYLIGHT
TZOFFSETFROM:-0800
TZOFFSETTO:-0700
TZNAME:PDT
DTSTART:20210314T100000
END:DAYLIGHT
BEGIN:STANDARD
TZOFFSETFROM:-0700
TZOFFSETTO:-0800
TZNAME:PST
DTSTART:20211107T090000
END:STANDARD
BEGIN:DAYLIGHT
TZOFFSETFROM:-0800
TZOFFSETTO:-0700
TZNAME:PDT
DTSTART:20220313T100000
END:DAYLIGHT
BEGIN:STANDARD
TZOFFSETFROM:-0700
TZOFFSETTO:-0800
TZNAME:PST
DTSTART:20221106T090000
END:STANDARD
BEGIN:DAYLIGHT
TZOFFSETFROM:-0800
TZOFFSETTO:-0700
TZNAME:PDT
DTSTART:20230312T100000
END:DAYLIGHT
BEGIN:STANDARD
TZOFFSETFROM:-0700
TZOFFSETTO:-0800
TZNAME:PST
DTSTART:20231105T090000
END:STANDARD
END:VTIMEZONE
BEGIN:VEVENT
DTSTART;TZID=America/Los_Angeles:20200311T170000
DTEND;TZID=America/Los_Angeles:20200311T183000
DTSTAMP:20260423T024801
CREATED:20191231T221615Z
LAST-MODIFIED:20191231T221615Z
UID:6658-1583946000-1583951400@westcolumbiagorgechamber.com
SUMMARY:Business and Social Hour (BASH) @ Tad's Chicken N' Dumplins
DESCRIPTION:Come join us at Tad’s on the Patio with a picturesque view of the Sandy River.
URL:https://westcolumbiagorgechamber.com/event/business-and-social-hour-bash-10/
LOCATION:Tad’s Chicken and Dumplings\, 1325 E. Historic Columbia River Hwy.\, Troutdale\, OR\, 97060\, United States
CATEGORIES:Business & Social Hours (BASH),Events - Chamber
END:VEVENT
BEGIN:VEVENT
DTSTART;TZID=America/Los_Angeles:20200311T170000
DTEND;TZID=America/Los_Angeles:20200311T183000
DTSTAMP:20260423T024801
CREATED:20191231T221615Z
LAST-MODIFIED:20191231T221615Z
UID:9217-1583946000-1583951400@westcolumbiagorgechamber.com
SUMMARY:Business and Social Hour (BASH) @ Tad's Chicken N' Dumplins
DESCRIPTION:Come join us at Tad’s on the Patio with a picturesque view of the Sandy River.
URL:https://westcolumbiagorgechamber.com/event/business-and-social-hour-bash-10-2/
LOCATION:Tad’s Chicken and Dumplings\, 1325 E. Historic Columbia River Hwy.\, Troutdale\, OR\, 97060\, United States
CATEGORIES:Business & Social Hours (BASH),Events - Chamber
END:VEVENT
BEGIN:VEVENT
DTSTART;TZID=America/Los_Angeles:20200311T170000
DTEND;TZID=America/Los_Angeles:20200311T183000
DTSTAMP:20260423T024801
CREATED:20191231T221615Z
LAST-MODIFIED:20191231T221615Z
UID:9253-1583946000-1583951400@westcolumbiagorgechamber.com
SUMMARY:Business and Social Hour (BASH) @ Tad's Chicken N' Dumplins
DESCRIPTION:Come join us at Tad’s on the Patio with a picturesque view of the Sandy River.
URL:https://westcolumbiagorgechamber.com/event/business-and-social-hour-bash-10-3/
LOCATION:Tad’s Chicken and Dumplings\, 1325 E. Historic Columbia River Hwy.\, Troutdale\, OR\, 97060\, United States
CATEGORIES:Business & Social Hours (BASH),Events - Chamber
END:VEVENT
BEGIN:VEVENT
DTSTART;TZID=America/Los_Angeles:20200311T170000
DTEND;TZID=America/Los_Angeles:20200311T183000
DTSTAMP:20260423T024801
CREATED:20191231T221615Z
LAST-MODIFIED:20191231T221615Z
UID:9776-1583946000-1583951400@westcolumbiagorgechamber.com
SUMMARY:Business and Social Hour (BASH) @ Tad's Chicken N' Dumplins
DESCRIPTION:Come join us at Tad’s on the Patio with a picturesque view of the Sandy River.
URL:https://westcolumbiagorgechamber.com/event/business-and-social-hour-bash-10-4/
LOCATION:Tad’s Chicken and Dumplings\, 1325 E. Historic Columbia River Hwy.\, Troutdale\, OR\, 97060\, United States
CATEGORIES:Business & Social Hours (BASH),Events - Chamber
END:VEVENT
BEGIN:VEVENT
DTSTART;TZID=America/Los_Angeles:20200415T173000
DTEND;TZID=America/Los_Angeles:20200415T190000
DTSTAMP:20260423T024801
CREATED:20200103T175206Z
LAST-MODIFIED:20200103T175206Z
UID:6676-1586971800-1586977200@westcolumbiagorgechamber.com
SUMMARY:(Postponed for later date) Business and Social Hour (BASH) @ ALSO
DESCRIPTION:Join us at: \nALSO Arts\nALSO Arts celebrates the beauty and ability of disability by creating a socially inclusive studio and gallery space.\n305 East. Columbia River Hwy\nTroutdale\, OR 97060\n503-489-6565
URL:https://westcolumbiagorgechamber.com/event/business-and-social-hour-bash-also/
LOCATION:ALSO\, 305 E. Historic Columbia River Hwy\, Troutdale\, OR\, 97060
CATEGORIES:Business & Social Hours (BASH),Events - Chamber
END:VEVENT
BEGIN:VEVENT
DTSTART;TZID=America/Los_Angeles:20200415T173000
DTEND;TZID=America/Los_Angeles:20200415T190000
DTSTAMP:20260423T024801
CREATED:20200103T175206Z
LAST-MODIFIED:20200103T175206Z
UID:9223-1586971800-1586977200@westcolumbiagorgechamber.com
SUMMARY:(Postponed for later date) Business and Social Hour (BASH) @ ALSO
DESCRIPTION:Join us at: \nALSO Arts\nALSO Arts celebrates the beauty and ability of disability by creating a socially inclusive studio and gallery space.\n305 East. Columbia River Hwy\nTroutdale\, OR 97060\n503-489-6565
URL:https://westcolumbiagorgechamber.com/event/business-and-social-hour-bash-also-2/
LOCATION:ALSO\, 305 E. Historic Columbia River Hwy\, Troutdale\, OR\, 97060
CATEGORIES:Business & Social Hours (BASH),Events - Chamber
END:VEVENT
BEGIN:VEVENT
DTSTART;TZID=America/Los_Angeles:20200415T173000
DTEND;TZID=America/Los_Angeles:20200415T190000
DTSTAMP:20260423T024801
CREATED:20200103T175206Z
LAST-MODIFIED:20200103T175206Z
UID:9259-1586971800-1586977200@westcolumbiagorgechamber.com
SUMMARY:(Postponed for later date) Business and Social Hour (BASH) @ ALSO
DESCRIPTION:Join us at: \nALSO Arts\nALSO Arts celebrates the beauty and ability of disability by creating a socially inclusive studio and gallery space.\n305 East. Columbia River Hwy\nTroutdale\, OR 97060\n503-489-6565
URL:https://westcolumbiagorgechamber.com/event/business-and-social-hour-bash-also-3/
LOCATION:ALSO\, 305 E. Historic Columbia River Hwy\, Troutdale\, OR\, 97060
CATEGORIES:Business & Social Hours (BASH),Events - Chamber
END:VEVENT
BEGIN:VEVENT
DTSTART;TZID=America/Los_Angeles:20200415T173000
DTEND;TZID=America/Los_Angeles:20200415T190000
DTSTAMP:20260423T024801
CREATED:20200103T175206Z
LAST-MODIFIED:20200103T175206Z
UID:9778-1586971800-1586977200@westcolumbiagorgechamber.com
SUMMARY:(Postponed for later date) Business and Social Hour (BASH) @ ALSO
DESCRIPTION:Join us at: \nALSO Arts\nALSO Arts celebrates the beauty and ability of disability by creating a socially inclusive studio and gallery space.\n305 East. Columbia River Hwy\nTroutdale\, OR 97060\n503-489-6565
URL:https://westcolumbiagorgechamber.com/event/business-and-social-hour-bash-also-4/
LOCATION:ALSO\, 305 E. Historic Columbia River Hwy\, Troutdale\, OR\, 97060
CATEGORIES:Business & Social Hours (BASH),Events - Chamber
END:VEVENT
BEGIN:VEVENT
DTSTART;TZID=America/Los_Angeles:20200506T173000
DTEND;TZID=America/Los_Angeles:20200506T190000
DTSTAMP:20260423T024801
CREATED:20200116T231147Z
LAST-MODIFIED:20200116T231147Z
UID:9783-1588786200-1588791600@westcolumbiagorgechamber.com
SUMMARY:BASH @ Ali Peret Designs - Postponed
DESCRIPTION:Ali Peret Designs \nWELCOME TO ALI PERET DESIGNS CUSTOM JEWELRY\nAli Peret Designs are comprised of original creations including one of a kind and limited editions in 14K\, 18K\, Platinum\, Sterling & Fine Silver using pearls & gems from around the world.\nThe gallery is located in downtown Troutdale | Established in 1990\n253 E Columbia River Hwy Troutdale\, Oregon 97060 \nJust in time For Mother’s day come check out Ali’s newest pieces to impress the Mother in your life. \nBeverages and snacks provided.
URL:https://westcolumbiagorgechamber.com/event/lol-4/
LOCATION:253 E Historic Columbia River Hwy\, Troutdale OR 97060\, 253 E Historic Columbia River Hwy\, Troutdale\, OR\, 97060
CATEGORIES:Business & Social Hours (BASH),Events - Chamber
END:VEVENT
BEGIN:VEVENT
DTSTART;TZID=America/Los_Angeles:20200506T173000
DTEND;TZID=America/Los_Angeles:20200506T190000
DTSTAMP:20260423T024801
CREATED:20200116T231147Z
LAST-MODIFIED:20200116T231147Z
UID:6711-1588786200-1588791600@westcolumbiagorgechamber.com
SUMMARY:BASH @ Ali Peret Designs - Postponed
DESCRIPTION:Ali Peret Designs \nWELCOME TO ALI PERET DESIGNS CUSTOM JEWELRY\nAli Peret Designs are comprised of original creations including one of a kind and limited editions in 14K\, 18K\, Platinum\, Sterling & Fine Silver using pearls & gems from around the world.\nThe gallery is located in downtown Troutdale | Established in 1990\n253 E Columbia River Hwy Troutdale\, Oregon 97060 \nJust in time For Mother’s day come check out Ali’s newest pieces to impress the Mother in your life. \nBeverages and snacks provided.
URL:https://westcolumbiagorgechamber.com/event/lol/
LOCATION:253 E Historic Columbia River Hwy\, Troutdale OR 97060\, 253 E Historic Columbia River Hwy\, Troutdale\, OR\, 97060
CATEGORIES:Business & Social Hours (BASH),Events - Chamber
END:VEVENT
BEGIN:VEVENT
DTSTART;TZID=America/Los_Angeles:20200506T173000
DTEND;TZID=America/Los_Angeles:20200506T190000
DTSTAMP:20260423T024801
CREATED:20200116T231147Z
LAST-MODIFIED:20200116T231147Z
UID:9274-1588786200-1588791600@westcolumbiagorgechamber.com
SUMMARY:BASH @ Ali Peret Designs - Postponed
DESCRIPTION:Ali Peret Designs \nWELCOME TO ALI PERET DESIGNS CUSTOM JEWELRY\nAli Peret Designs are comprised of original creations including one of a kind and limited editions in 14K\, 18K\, Platinum\, Sterling & Fine Silver using pearls & gems from around the world.\nThe gallery is located in downtown Troutdale | Established in 1990\n253 E Columbia River Hwy Troutdale\, Oregon 97060 \nJust in time For Mother’s day come check out Ali’s newest pieces to impress the Mother in your life. \nBeverages and snacks provided.
URL:https://westcolumbiagorgechamber.com/event/lol-3/
LOCATION:253 E Historic Columbia River Hwy\, Troutdale OR 97060\, 253 E Historic Columbia River Hwy\, Troutdale\, OR\, 97060
CATEGORIES:Business & Social Hours (BASH),Events - Chamber
END:VEVENT
BEGIN:VEVENT
DTSTART;TZID=America/Los_Angeles:20200506T173000
DTEND;TZID=America/Los_Angeles:20200506T190000
DTSTAMP:20260423T024801
CREATED:20200116T231147Z
LAST-MODIFIED:20200116T231147Z
UID:9238-1588786200-1588791600@westcolumbiagorgechamber.com
SUMMARY:BASH @ Ali Peret Designs - Postponed
DESCRIPTION:Ali Peret Designs \nWELCOME TO ALI PERET DESIGNS CUSTOM JEWELRY\nAli Peret Designs are comprised of original creations including one of a kind and limited editions in 14K\, 18K\, Platinum\, Sterling & Fine Silver using pearls & gems from around the world.\nThe gallery is located in downtown Troutdale | Established in 1990\n253 E Columbia River Hwy Troutdale\, Oregon 97060 \nJust in time For Mother’s day come check out Ali’s newest pieces to impress the Mother in your life. \nBeverages and snacks provided.
URL:https://westcolumbiagorgechamber.com/event/lol-2/
LOCATION:253 E Historic Columbia River Hwy\, Troutdale OR 97060\, 253 E Historic Columbia River Hwy\, Troutdale\, OR\, 97060
CATEGORIES:Business & Social Hours (BASH),Events - Chamber
END:VEVENT
BEGIN:VEVENT
DTSTART;VALUE=DATE:20200711
DTEND;VALUE=DATE:20200712
DTSTAMP:20260423T024801
CREATED:20200116T223940Z
LAST-MODIFIED:20200116T223940Z
UID:9780-1594425600-1594511999@westcolumbiagorgechamber.com
SUMMARY:SummerFest CANCELLED DUE TO COVID -19
DESCRIPTION:More Info to come Stay tuned
URL:https://westcolumbiagorgechamber.com/event/summerfest-4/
LOCATION:Troutdale to Glenn Otto Park\, Troutdale\, 97060\, United States
CATEGORIES:Events - Chamber
END:VEVENT
BEGIN:VEVENT
DTSTART;VALUE=DATE:20200711
DTEND;VALUE=DATE:20200712
DTSTAMP:20260423T024801
CREATED:20200116T223940Z
LAST-MODIFIED:20200116T223940Z
UID:6702-1594425600-1594511999@westcolumbiagorgechamber.com
SUMMARY:SummerFest CANCELLED DUE TO COVID -19
DESCRIPTION:More Info to come Stay tuned
URL:https://westcolumbiagorgechamber.com/event/summerfest/
LOCATION:Troutdale to Glenn Otto Park\, Troutdale\, 97060\, United States
CATEGORIES:Events - Chamber
END:VEVENT
BEGIN:VEVENT
DTSTART;VALUE=DATE:20200711
DTEND;VALUE=DATE:20200712
DTSTAMP:20260423T024801
CREATED:20200116T223940Z
LAST-MODIFIED:20200116T223940Z
UID:9229-1594425600-1594511999@westcolumbiagorgechamber.com
SUMMARY:SummerFest CANCELLED DUE TO COVID -19
DESCRIPTION:More Info to come Stay tuned
URL:https://westcolumbiagorgechamber.com/event/summerfest-2/
LOCATION:Troutdale to Glenn Otto Park\, Troutdale\, 97060\, United States
CATEGORIES:Events - Chamber
END:VEVENT
BEGIN:VEVENT
DTSTART;VALUE=DATE:20200711
DTEND;VALUE=DATE:20200712
DTSTAMP:20260423T024801
CREATED:20200116T223940Z
LAST-MODIFIED:20200116T223940Z
UID:9265-1594425600-1594511999@westcolumbiagorgechamber.com
SUMMARY:SummerFest CANCELLED DUE TO COVID -19
DESCRIPTION:More Info to come Stay tuned
URL:https://westcolumbiagorgechamber.com/event/summerfest-3/
LOCATION:Troutdale to Glenn Otto Park\, Troutdale\, 97060\, United States
CATEGORIES:Events - Chamber
END:VEVENT
BEGIN:VEVENT
DTSTART;TZID=America/Los_Angeles:20201007T113000
DTEND;TZID=America/Los_Angeles:20201007T130000
DTSTAMP:20260423T024801
CREATED:20200807T042103Z
LAST-MODIFIED:20200807T042103Z
UID:9344-1602070200-1602075600@westcolumbiagorgechamber.com
SUMMARY:Candidate's Forum for Fairview\, Wood Village and Troutdale
DESCRIPTION:  \nCandidates Forum:  The West Columbia Gorge Chamber and Public Affairs Committee will host via Zoom the “Candidates Forum” for the Cities of Fairview\, Wood Village and Troutdale on Wednesday\, October 7\, 2020\,  11:30am to 1:00pm.  This event is open to the local communities – questions can be submitted via the Chat Room and will be answered if time allows.  Bring your coffee and lunch and join us for this very informative local event. \n \n \n\nJoin Zoom Meeting\nhttps://Bizcenter.zoom.us/j/99366658628\n \nMeeting ID: 993 6665 8628\nOne tap mobile\n+13462487799\,\,99366658628# US (Houston)\n+16699006833\,\,99366658628# US (San Jose)\n \nDial by your location\n    +1 346 248 7799 US (Houston)\n    +1 669 900 6833 US (San Jose)\n    +1 253 215 8782 US (Tacoma)\n    +1 312 626 6799 US (Chicago)\n    +1 646 558 8656 US (New York)\n    +1 301 715 8592 US (Germantown)\nMeeting ID: 993 6665 8628\n\n \n \nFor more information email Cindy Passanante at cptrips@aol.com.
URL:https://westcolumbiagorgechamber.com/event/candidates-forum-3/
CATEGORIES:Candidates Forum,Events - Chamber
END:VEVENT
BEGIN:VEVENT
DTSTART;TZID=America/Los_Angeles:20201007T113000
DTEND;TZID=America/Los_Angeles:20201007T130000
DTSTAMP:20260423T024801
CREATED:20200807T042103Z
LAST-MODIFIED:20200807T042103Z
UID:9807-1602070200-1602075600@westcolumbiagorgechamber.com
SUMMARY:Candidate's Forum for Fairview\, Wood Village and Troutdale
DESCRIPTION:  \nCandidates Forum:  The West Columbia Gorge Chamber and Public Affairs Committee will host via Zoom the “Candidates Forum” for the Cities of Fairview\, Wood Village and Troutdale on Wednesday\, October 7\, 2020\,  11:30am to 1:00pm.  This event is open to the local communities – questions can be submitted via the Chat Room and will be answered if time allows.  Bring your coffee and lunch and join us for this very informative local event. \n \n \n\nJoin Zoom Meeting\nhttps://Bizcenter.zoom.us/j/99366658628\n \nMeeting ID: 993 6665 8628\nOne tap mobile\n+13462487799\,\,99366658628# US (Houston)\n+16699006833\,\,99366658628# US (San Jose)\n \nDial by your location\n    +1 346 248 7799 US (Houston)\n    +1 669 900 6833 US (San Jose)\n    +1 253 215 8782 US (Tacoma)\n    +1 312 626 6799 US (Chicago)\n    +1 646 558 8656 US (New York)\n    +1 301 715 8592 US (Germantown)\nMeeting ID: 993 6665 8628\n\n \n \nFor more information email Cindy Passanante at cptrips@aol.com.
URL:https://westcolumbiagorgechamber.com/event/candidates-forum-4/
CATEGORIES:Candidates Forum,Events - Chamber
END:VEVENT
BEGIN:VEVENT
DTSTART;TZID=America/Los_Angeles:20201007T113000
DTEND;TZID=America/Los_Angeles:20201007T130000
DTSTAMP:20260423T024801
CREATED:20200807T042103Z
LAST-MODIFIED:20200807T042103Z
UID:6986-1602070200-1602075600@westcolumbiagorgechamber.com
SUMMARY:Candidate's Forum for Fairview\, Wood Village and Troutdale
DESCRIPTION:  \nCandidates Forum:  The West Columbia Gorge Chamber and Public Affairs Committee will host via Zoom the “Candidates Forum” for the Cities of Fairview\, Wood Village and Troutdale on Wednesday\, October 7\, 2020\,  11:30am to 1:00pm.  This event is open to the local communities – questions can be submitted via the Chat Room and will be answered if time allows.  Bring your coffee and lunch and join us for this very informative local event. \n \n \n\nJoin Zoom Meeting\nhttps://Bizcenter.zoom.us/j/99366658628\n \nMeeting ID: 993 6665 8628\nOne tap mobile\n+13462487799\,\,99366658628# US (Houston)\n+16699006833\,\,99366658628# US (San Jose)\n \nDial by your location\n    +1 346 248 7799 US (Houston)\n    +1 669 900 6833 US (San Jose)\n    +1 253 215 8782 US (Tacoma)\n    +1 312 626 6799 US (Chicago)\n    +1 646 558 8656 US (New York)\n    +1 301 715 8592 US (Germantown)\nMeeting ID: 993 6665 8628\n\n \n \nFor more information email Cindy Passanante at cptrips@aol.com.
URL:https://westcolumbiagorgechamber.com/event/candidates-forum/
CATEGORIES:Candidates Forum,Events - Chamber
END:VEVENT
BEGIN:VEVENT
DTSTART;TZID=America/Los_Angeles:20201007T113000
DTEND;TZID=America/Los_Angeles:20201007T130000
DTSTAMP:20260423T024801
CREATED:20200807T042103Z
LAST-MODIFIED:20200807T042103Z
UID:9308-1602070200-1602075600@westcolumbiagorgechamber.com
SUMMARY:Candidate's Forum for Fairview\, Wood Village and Troutdale
DESCRIPTION:  \nCandidates Forum:  The West Columbia Gorge Chamber and Public Affairs Committee will host via Zoom the “Candidates Forum” for the Cities of Fairview\, Wood Village and Troutdale on Wednesday\, October 7\, 2020\,  11:30am to 1:00pm.  This event is open to the local communities – questions can be submitted via the Chat Room and will be answered if time allows.  Bring your coffee and lunch and join us for this very informative local event. \n \n \n\nJoin Zoom Meeting\nhttps://Bizcenter.zoom.us/j/99366658628\n \nMeeting ID: 993 6665 8628\nOne tap mobile\n+13462487799\,\,99366658628# US (Houston)\n+16699006833\,\,99366658628# US (San Jose)\n \nDial by your location\n    +1 346 248 7799 US (Houston)\n    +1 669 900 6833 US (San Jose)\n    +1 253 215 8782 US (Tacoma)\n    +1 312 626 6799 US (Chicago)\n    +1 646 558 8656 US (New York)\n    +1 301 715 8592 US (Germantown)\nMeeting ID: 993 6665 8628\n\n \n \nFor more information email Cindy Passanante at cptrips@aol.com.
URL:https://westcolumbiagorgechamber.com/event/candidates-forum-2/
CATEGORIES:Candidates Forum,Events - Chamber
END:VEVENT
BEGIN:VEVENT
DTSTART;TZID=America/Los_Angeles:20210730T163000
DTEND;TZID=America/Los_Angeles:20210730T170000
DTSTAMP:20260423T024801
CREATED:20210712T211432Z
LAST-MODIFIED:20210712T211432Z
UID:8047-1627662600-1627664400@westcolumbiagorgechamber.com
SUMMARY:Ribbon Cutting for US World Class Taekwondo - Troutdale
DESCRIPTION:HELPING KIDS\, TEENS\, AND ADULTS BECOME THEIR BEST SELVES!\nCome and help celebrate the opening of their new facility in Troutdale.  There will be exhibitions by students etc.
URL:https://westcolumbiagorgechamber.com/event/ribbon-cutting-for-us-world-class-taekwondo-troutdale/
CATEGORIES:Events - Chamber,Ribbon Cuttings
END:VEVENT
BEGIN:VEVENT
DTSTART;TZID=America/Los_Angeles:20210730T163000
DTEND;TZID=America/Los_Angeles:20210730T170000
DTSTAMP:20260423T024801
CREATED:20210712T211432Z
LAST-MODIFIED:20210712T211432Z
UID:9526-1627662600-1627664400@westcolumbiagorgechamber.com
SUMMARY:Ribbon Cutting for US World Class Taekwondo - Troutdale
DESCRIPTION:HELPING KIDS\, TEENS\, AND ADULTS BECOME THEIR BEST SELVES!\nCome and help celebrate the opening of their new facility in Troutdale.  There will be exhibitions by students etc.
URL:https://westcolumbiagorgechamber.com/event/ribbon-cutting-for-us-world-class-taekwondo-troutdale-2/
CATEGORIES:Events - Chamber,Ribbon Cuttings
END:VEVENT
BEGIN:VEVENT
DTSTART;TZID=America/Los_Angeles:20210730T163000
DTEND;TZID=America/Los_Angeles:20210730T170000
DTSTAMP:20260423T024801
CREATED:20210712T211432Z
LAST-MODIFIED:20210712T211432Z
UID:9877-1627662600-1627664400@westcolumbiagorgechamber.com
SUMMARY:Ribbon Cutting for US World Class Taekwondo - Troutdale
DESCRIPTION:HELPING KIDS\, TEENS\, AND ADULTS BECOME THEIR BEST SELVES!\nCome and help celebrate the opening of their new facility in Troutdale.  There will be exhibitions by students etc.
URL:https://westcolumbiagorgechamber.com/event/ribbon-cutting-for-us-world-class-taekwondo-troutdale-4/
CATEGORIES:Events - Chamber,Ribbon Cuttings
END:VEVENT
BEGIN:VEVENT
DTSTART;TZID=America/Los_Angeles:20210730T163000
DTEND;TZID=America/Los_Angeles:20210730T170000
DTSTAMP:20260423T024801
CREATED:20210712T211432Z
LAST-MODIFIED:20210712T211432Z
UID:9559-1627662600-1627664400@westcolumbiagorgechamber.com
SUMMARY:Ribbon Cutting for US World Class Taekwondo - Troutdale
DESCRIPTION:HELPING KIDS\, TEENS\, AND ADULTS BECOME THEIR BEST SELVES!\nCome and help celebrate the opening of their new facility in Troutdale.  There will be exhibitions by students etc.
URL:https://westcolumbiagorgechamber.com/event/ribbon-cutting-for-us-world-class-taekwondo-troutdale-3/
CATEGORIES:Events - Chamber,Ribbon Cuttings
END:VEVENT
BEGIN:VEVENT
DTSTART;TZID=America/Los_Angeles:20210919T100000
DTEND;TZID=America/Los_Angeles:20210919T160000
DTSTAMP:20260423T024801
CREATED:20210420T204505Z
LAST-MODIFIED:20210420T204505Z
UID:9465-1632045600-1632067200@westcolumbiagorgechamber.com
SUMMARY:Fall Festival of the Arts
DESCRIPTION:This year because of COVID19 and social distancing\,  The Fall Festival of the Arts will happen at Glenn Otto Park with two additional  sites within a block of Glenn Otto Park.  Those additional sites will be the ART CENTER and CASWELL SCULPTURE GARDENS.  Parking will be at Glenn Otto Park and north across highway 30 at a private lot.  
URL:https://westcolumbiagorgechamber.com/event/fall-festival-of-the-arts-7-2/
LOCATION:Glenn Otto Park – Sam Cox Bldg.\, 1102 E. Historic Columbia River Hwy.\, Troutdale\, OR\, 97060\, United States
CATEGORIES:City of Troutdale,Events - Chamber
END:VEVENT
BEGIN:VEVENT
DTSTART;TZID=America/Los_Angeles:20210919T100000
DTEND;TZID=America/Los_Angeles:20210919T160000
DTSTAMP:20260423T024801
CREATED:20210420T204505Z
LAST-MODIFIED:20210420T204505Z
UID:9496-1632045600-1632067200@westcolumbiagorgechamber.com
SUMMARY:Fall Festival of the Arts
DESCRIPTION:This year because of COVID19 and social distancing\,  The Fall Festival of the Arts will happen at Glenn Otto Park with two additional  sites within a block of Glenn Otto Park.  Those additional sites will be the ART CENTER and CASWELL SCULPTURE GARDENS.  Parking will be at Glenn Otto Park and north across highway 30 at a private lot.  
URL:https://westcolumbiagorgechamber.com/event/fall-festival-of-the-arts-7-3/
LOCATION:Glenn Otto Park – Sam Cox Bldg.\, 1102 E. Historic Columbia River Hwy.\, Troutdale\, OR\, 97060\, United States
CATEGORIES:City of Troutdale,Events - Chamber
END:VEVENT
BEGIN:VEVENT
DTSTART;TZID=America/Los_Angeles:20210919T100000
DTEND;TZID=America/Los_Angeles:20210919T160000
DTSTAMP:20260423T024801
CREATED:20210420T204505Z
LAST-MODIFIED:20210420T204505Z
UID:9857-1632045600-1632067200@westcolumbiagorgechamber.com
SUMMARY:Fall Festival of the Arts
DESCRIPTION:This year because of COVID19 and social distancing\,  The Fall Festival of the Arts will happen at Glenn Otto Park with two additional  sites within a block of Glenn Otto Park.  Those additional sites will be the ART CENTER and CASWELL SCULPTURE GARDENS.  Parking will be at Glenn Otto Park and north across highway 30 at a private lot.  
URL:https://westcolumbiagorgechamber.com/event/fall-festival-of-the-arts-7-4/
LOCATION:Glenn Otto Park – Sam Cox Bldg.\, 1102 E. Historic Columbia River Hwy.\, Troutdale\, OR\, 97060\, United States
CATEGORIES:City of Troutdale,Events - Chamber
END:VEVENT
BEGIN:VEVENT
DTSTART;TZID=America/Los_Angeles:20210919T100000
DTEND;TZID=America/Los_Angeles:20210919T160000
DTSTAMP:20260423T024801
CREATED:20210420T204505Z
LAST-MODIFIED:20210420T204505Z
UID:7796-1632045600-1632067200@westcolumbiagorgechamber.com
SUMMARY:Fall Festival of the Arts
DESCRIPTION:This year because of COVID19 and social distancing\,  The Fall Festival of the Arts will happen at Glenn Otto Park with two additional  sites within a block of Glenn Otto Park.  Those additional sites will be the ART CENTER and CASWELL SCULPTURE GARDENS.  Parking will be at Glenn Otto Park and north across highway 30 at a private lot.  
URL:https://westcolumbiagorgechamber.com/event/fall-festival-of-the-arts-7/
LOCATION:Glenn Otto Park – Sam Cox Bldg.\, 1102 E. Historic Columbia River Hwy.\, Troutdale\, OR\, 97060\, United States
CATEGORIES:City of Troutdale,Events - Chamber
END:VEVENT
BEGIN:VEVENT
DTSTART;TZID=America/Los_Angeles:20220308T233000
DTEND;TZID=America/Los_Angeles:20220309T123000
DTSTAMP:20260423T024801
CREATED:20220303T033108Z
LAST-MODIFIED:20220303T033108Z
UID:9983-1646782200-1646829000@westcolumbiagorgechamber.com
SUMMARY:Morning AM networking with the City of Wood Village's City Manager Greg Dirks at 7:38am!
DESCRIPTION:This week the City of Wood Village will take center stage as Greg Dirks shares the news in Wood Village. This will be an in person event at Wood Village’s new City Hall in Wood Village 24200 NE Halsey St\, Wood Village\, OR 97060.  This facility is state of the art in every way. Greg will explain and we will hear what is going on in Wood Village.  Come and invite a friend or fellow business to explore this City.  Look forward to seeing you there.
URL:https://westcolumbiagorgechamber.com/event/morning-am-networking-with-the-city-of-wood-villages-city-manager-greg-dirks-at-738am/
LOCATION:City of Wood Village City Hall\, 24200 NE Halsey St\, Wood Village\, OR\, 97060\, United States
CATEGORIES:AM Networkings,Chamber Meetings,City of Wood Village,Events - Chamber
END:VEVENT
BEGIN:VEVENT
DTSTART;TZID=America/Los_Angeles:20220316T003000
DTEND;TZID=America/Los_Angeles:20220316T013000
DTSTAMP:20260423T024801
CREATED:20220316T231701Z
LAST-MODIFIED:20220316T231701Z
UID:9989-1647390600-1647394200@westcolumbiagorgechamber.com
SUMMARY:Morning AM with Mayor Brian Cooper and the City of Fairview in City Hall!
DESCRIPTION:This week’s “It’s going to be great at 7:38am\, we are meeting with the Mayor of Fairview\, Brian Cooper! Time for an update with Fairview and see what is going on with them. Another opportunity to network with your fellow businesses. In person is allowed and the usual constraints have been lifted. Good to see all of you and this should be special. We don’t get to meet with the Cities of the Gorge very often. Come and check it out and invite a friend or fellow business
URL:https://westcolumbiagorgechamber.com/event/morning-am-with-mayor-brian-cooper-and-the-city-of-fairview-in-city-hall/
CATEGORIES:Chamber Meetings,City of Fairview,Events - Chamber
END:VEVENT
END:VCALENDAR