BEGIN:VCALENDAR
VERSION:2.0
PRODID:-//West Columbia Gorge Chamber of Commerce - ECPv6.15.20//NONSGML v1.0//EN
CALSCALE:GREGORIAN
METHOD:PUBLISH
X-WR-CALNAME:West Columbia Gorge Chamber of Commerce
X-ORIGINAL-URL:https://westcolumbiagorgechamber.com
X-WR-CALDESC:Events for West Columbia Gorge Chamber of Commerce
REFRESH-INTERVAL;VALUE=DURATION:PT1H
X-Robots-Tag:noindex
X-PUBLISHED-TTL:PT1H
BEGIN:VTIMEZONE
TZID:America/Los_Angeles
BEGIN:DAYLIGHT
TZOFFSETFROM:-0800
TZOFFSETTO:-0700
TZNAME:PDT
DTSTART:20210314T100000
END:DAYLIGHT
BEGIN:STANDARD
TZOFFSETFROM:-0700
TZOFFSETTO:-0800
TZNAME:PST
DTSTART:20211107T090000
END:STANDARD
BEGIN:DAYLIGHT
TZOFFSETFROM:-0800
TZOFFSETTO:-0700
TZNAME:PDT
DTSTART:20220313T100000
END:DAYLIGHT
BEGIN:STANDARD
TZOFFSETFROM:-0700
TZOFFSETTO:-0800
TZNAME:PST
DTSTART:20221106T090000
END:STANDARD
BEGIN:DAYLIGHT
TZOFFSETFROM:-0800
TZOFFSETTO:-0700
TZNAME:PDT
DTSTART:20230312T100000
END:DAYLIGHT
BEGIN:STANDARD
TZOFFSETFROM:-0700
TZOFFSETTO:-0800
TZNAME:PST
DTSTART:20231105T090000
END:STANDARD
END:VTIMEZONE
BEGIN:VEVENT
DTSTART;TZID=America/Los_Angeles:20221115T233000
DTEND;TZID=America/Los_Angeles:20221116T123000
DTSTAMP:20260420T062649
CREATED:20221112T042909Z
LAST-MODIFIED:20221112T042909Z
UID:10136-1668555000-1668601800@westcolumbiagorgechamber.com
SUMMARY:It's going to be great at 7:38am at Tany's Coffee Shop. Networking at it's finest!
DESCRIPTION:This coming week’s Chamber chat will be held at Tany’s Coffee Shop located at the corner of Start and Hogan.  Come mingle with fellow chamber members and glean ideas for your business from your fellow Chamber members. Come a little early and have some thing to eat or drink from Tany’s morning menu.  Chamber works for those who work the Chamber. \n  \nSee you there!!
URL:https://westcolumbiagorgechamber.com/event/its-going-to-be-great-at-738am-at-tanys-coffee-shop-networking-at-its-finest/
LOCATION:Tany’s Coffee Shop
CATEGORIES:AM Networkings,Chamber Meetings,Events - Chamber
END:VEVENT
END:VCALENDAR