BEGIN:VCALENDAR
VERSION:2.0
PRODID:-//West Columbia Gorge Chamber of Commerce - ECPv6.15.20//NONSGML v1.0//EN
CALSCALE:GREGORIAN
METHOD:PUBLISH
X-ORIGINAL-URL:https://westcolumbiagorgechamber.com
X-WR-CALDESC:Events for West Columbia Gorge Chamber of Commerce
REFRESH-INTERVAL;VALUE=DURATION:PT1H
X-Robots-Tag:noindex
X-PUBLISHED-TTL:PT1H
BEGIN:VTIMEZONE
TZID:America/Los_Angeles
BEGIN:DAYLIGHT
TZOFFSETFROM:-0800
TZOFFSETTO:-0700
TZNAME:PDT
DTSTART:20180311T100000
END:DAYLIGHT
BEGIN:STANDARD
TZOFFSETFROM:-0700
TZOFFSETTO:-0800
TZNAME:PST
DTSTART:20181104T090000
END:STANDARD
BEGIN:DAYLIGHT
TZOFFSETFROM:-0800
TZOFFSETTO:-0700
TZNAME:PDT
DTSTART:20190310T100000
END:DAYLIGHT
BEGIN:STANDARD
TZOFFSETFROM:-0700
TZOFFSETTO:-0800
TZNAME:PST
DTSTART:20191103T090000
END:STANDARD
BEGIN:DAYLIGHT
TZOFFSETFROM:-0800
TZOFFSETTO:-0700
TZNAME:PDT
DTSTART:20200308T100000
END:DAYLIGHT
BEGIN:STANDARD
TZOFFSETFROM:-0700
TZOFFSETTO:-0800
TZNAME:PST
DTSTART:20201101T090000
END:STANDARD
END:VTIMEZONE
BEGIN:VEVENT
DTSTART;TZID=America/Los_Angeles:20190918T073000
DTEND;TZID=America/Los_Angeles:20190918T090000
DTSTAMP:20260423T024547
CREATED:20190906T124344Z
LAST-MODIFIED:20190906T124344Z
UID:9164-1568791800-1568797200@westcolumbiagorgechamber.com
SUMMARY:AM Networking: Gorge Business News
DESCRIPTION:September’s AM Networking will feature Gorge Business News from 7:30 am – 9 am at the West Columbia Gorge Chamber office upstairs in our Board Room.
URL:https://westcolumbiagorgechamber.com/event/am-networking-gorge-business-news-2/
LOCATION:West Columbia Gorge Chamber of Commerce\, P. O Box 245\, Troutdale\, 97060\, United States
CATEGORIES:AM Networkings,Events - Chamber
END:VEVENT
BEGIN:VEVENT
DTSTART;TZID=America/Los_Angeles:20190918T073000
DTEND;TZID=America/Los_Angeles:20190918T090000
DTSTAMP:20260423T024547
CREATED:20190906T124344Z
LAST-MODIFIED:20190906T124344Z
UID:9201-1568791800-1568797200@westcolumbiagorgechamber.com
SUMMARY:AM Networking: Gorge Business News
DESCRIPTION:September’s AM Networking will feature Gorge Business News from 7:30 am – 9 am at the West Columbia Gorge Chamber office upstairs in our Board Room.
URL:https://westcolumbiagorgechamber.com/event/am-networking-gorge-business-news-3/
LOCATION:West Columbia Gorge Chamber of Commerce\, P. O Box 245\, Troutdale\, 97060\, United States
CATEGORIES:AM Networkings,Events - Chamber
END:VEVENT
BEGIN:VEVENT
DTSTART;TZID=America/Los_Angeles:20190918T073000
DTEND;TZID=America/Los_Angeles:20190918T090000
DTSTAMP:20260423T024547
CREATED:20190906T124344Z
LAST-MODIFIED:20190906T124344Z
UID:9758-1568791800-1568797200@westcolumbiagorgechamber.com
SUMMARY:AM Networking: Gorge Business News
DESCRIPTION:September’s AM Networking will feature Gorge Business News from 7:30 am – 9 am at the West Columbia Gorge Chamber office upstairs in our Board Room.
URL:https://westcolumbiagorgechamber.com/event/am-networking-gorge-business-news-4/
LOCATION:West Columbia Gorge Chamber of Commerce\, P. O Box 245\, Troutdale\, 97060\, United States
CATEGORIES:AM Networkings,Events - Chamber
END:VEVENT
BEGIN:VEVENT
DTSTART;TZID=America/Los_Angeles:20190918T073000
DTEND;TZID=America/Los_Angeles:20190918T090000
DTSTAMP:20260423T024547
CREATED:20190906T124344Z
LAST-MODIFIED:20190906T124344Z
UID:6565-1568791800-1568797200@westcolumbiagorgechamber.com
SUMMARY:AM Networking: Gorge Business News
DESCRIPTION:September’s AM Networking will feature Gorge Business News from 7:30 am – 9 am at the West Columbia Gorge Chamber office upstairs in our Board Room.
URL:https://westcolumbiagorgechamber.com/event/am-networking-gorge-business-news/
LOCATION:West Columbia Gorge Chamber of Commerce\, P. O Box 245\, Troutdale\, 97060\, United States
CATEGORIES:AM Networkings,Events - Chamber
END:VEVENT
END:VCALENDAR