BEGIN:VCALENDAR
VERSION:2.0
PRODID:-//West Columbia Gorge Chamber of Commerce - ECPv6.15.20//NONSGML v1.0//EN
CALSCALE:GREGORIAN
METHOD:PUBLISH
X-ORIGINAL-URL:https://westcolumbiagorgechamber.com
X-WR-CALDESC:Events for West Columbia Gorge Chamber of Commerce
REFRESH-INTERVAL;VALUE=DURATION:PT1H
X-Robots-Tag:noindex
X-PUBLISHED-TTL:PT1H
BEGIN:VTIMEZONE
TZID:America/Los_Angeles
BEGIN:DAYLIGHT
TZOFFSETFROM:-0800
TZOFFSETTO:-0700
TZNAME:PDT
DTSTART:20180311T100000
END:DAYLIGHT
BEGIN:STANDARD
TZOFFSETFROM:-0700
TZOFFSETTO:-0800
TZNAME:PST
DTSTART:20181104T090000
END:STANDARD
BEGIN:DAYLIGHT
TZOFFSETFROM:-0800
TZOFFSETTO:-0700
TZNAME:PDT
DTSTART:20190310T100000
END:DAYLIGHT
BEGIN:STANDARD
TZOFFSETFROM:-0700
TZOFFSETTO:-0800
TZNAME:PST
DTSTART:20191103T090000
END:STANDARD
BEGIN:DAYLIGHT
TZOFFSETFROM:-0800
TZOFFSETTO:-0700
TZNAME:PDT
DTSTART:20200308T100000
END:DAYLIGHT
BEGIN:STANDARD
TZOFFSETFROM:-0700
TZOFFSETTO:-0800
TZNAME:PST
DTSTART:20201101T090000
END:STANDARD
END:VTIMEZONE
BEGIN:VEVENT
DTSTART;TZID=America/Los_Angeles:20190821T073000
DTEND;TZID=America/Los_Angeles:20190821T090000
DTSTAMP:20260423T040752
CREATED:20190719T153142Z
LAST-MODIFIED:20190719T153142Z
UID:9158-1566372600-1566378000@westcolumbiagorgechamber.com
SUMMARY:AM Networking
DESCRIPTION:JOIN US FOR THIS WEEKS AM NETWORKING\nJoin us for our weekly AM networking. This week’s host will be Kathi Morris from Reynolds Learning Academy. As a Youth Transition Program Specialist\, she is able to help students connect with their future. She is also West Columbia Gorge Chamber’s President-Elect. \nWe will be meeting at Reynold Learning Academy (RLA) where we will learn how RLA finds innovative ways to enrich and enhance the entire school experience for local youth. Whether it’s credit recovery to help a student graduate or a GED program to help students move through high school more quickly\, RLA is an umbrella of education options for student success. \nThis is a great opportunity to connect with your community\, meet with local business owners and representatives\, or introduce yourself to the chamber. New faces are always welcome. \nNot a member? Learn about our other member services\, check out our member directory\, and find out what it takes to join the chamber. \nABOUT THE WEST COLUMBIA GORGE CHAMBER \nWe are a non-profit organization comprised of citizens and businesses who invest time and money in the joint effort to advance civic\, industrial\, commercial and general interests of the West Columbia Gorge region. Our Chamber includes the towns\, unincorporated areas and attractions of Fairview\, Wood Village\, Troutdale\, Springdale\, Corbett\, Bridal Veil\, Vista House\, Multnomah Falls\, Bonneville Dam\, and Cascade Locks. Learn more on our About the Chamber page.
URL:https://westcolumbiagorgechamber.com/event/am-networking-3-2/
LOCATION:Reynolds Learning Academy\,  20234 NE Halsey St \, Fairview\, OR\, 97024\, United States
CATEGORIES:AM Networkings,Events - Chamber
END:VEVENT
BEGIN:VEVENT
DTSTART;TZID=America/Los_Angeles:20190821T073000
DTEND;TZID=America/Los_Angeles:20190821T090000
DTSTAMP:20260423T040752
CREATED:20190719T153142Z
LAST-MODIFIED:20190719T153142Z
UID:9196-1566372600-1566378000@westcolumbiagorgechamber.com
SUMMARY:AM Networking
DESCRIPTION:JOIN US FOR THIS WEEKS AM NETWORKING\nJoin us for our weekly AM networking. This week’s host will be Kathi Morris from Reynolds Learning Academy. As a Youth Transition Program Specialist\, she is able to help students connect with their future. She is also West Columbia Gorge Chamber’s President-Elect. \nWe will be meeting at Reynold Learning Academy (RLA) where we will learn how RLA finds innovative ways to enrich and enhance the entire school experience for local youth. Whether it’s credit recovery to help a student graduate or a GED program to help students move through high school more quickly\, RLA is an umbrella of education options for student success. \nThis is a great opportunity to connect with your community\, meet with local business owners and representatives\, or introduce yourself to the chamber. New faces are always welcome. \nNot a member? Learn about our other member services\, check out our member directory\, and find out what it takes to join the chamber. \nABOUT THE WEST COLUMBIA GORGE CHAMBER \nWe are a non-profit organization comprised of citizens and businesses who invest time and money in the joint effort to advance civic\, industrial\, commercial and general interests of the West Columbia Gorge region. Our Chamber includes the towns\, unincorporated areas and attractions of Fairview\, Wood Village\, Troutdale\, Springdale\, Corbett\, Bridal Veil\, Vista House\, Multnomah Falls\, Bonneville Dam\, and Cascade Locks. Learn more on our About the Chamber page.
URL:https://westcolumbiagorgechamber.com/event/am-networking-3-3/
LOCATION:Reynolds Learning Academy\,  20234 NE Halsey St \, Fairview\, OR\, 97024\, United States
CATEGORIES:AM Networkings,Events - Chamber
END:VEVENT
BEGIN:VEVENT
DTSTART;TZID=America/Los_Angeles:20190821T073000
DTEND;TZID=America/Los_Angeles:20190821T090000
DTSTAMP:20260423T040752
CREATED:20190719T153142Z
LAST-MODIFIED:20190719T153142Z
UID:9756-1566372600-1566378000@westcolumbiagorgechamber.com
SUMMARY:AM Networking
DESCRIPTION:JOIN US FOR THIS WEEKS AM NETWORKING\nJoin us for our weekly AM networking. This week’s host will be Kathi Morris from Reynolds Learning Academy. As a Youth Transition Program Specialist\, she is able to help students connect with their future. She is also West Columbia Gorge Chamber’s President-Elect. \nWe will be meeting at Reynold Learning Academy (RLA) where we will learn how RLA finds innovative ways to enrich and enhance the entire school experience for local youth. Whether it’s credit recovery to help a student graduate or a GED program to help students move through high school more quickly\, RLA is an umbrella of education options for student success. \nThis is a great opportunity to connect with your community\, meet with local business owners and representatives\, or introduce yourself to the chamber. New faces are always welcome. \nNot a member? Learn about our other member services\, check out our member directory\, and find out what it takes to join the chamber. \nABOUT THE WEST COLUMBIA GORGE CHAMBER \nWe are a non-profit organization comprised of citizens and businesses who invest time and money in the joint effort to advance civic\, industrial\, commercial and general interests of the West Columbia Gorge region. Our Chamber includes the towns\, unincorporated areas and attractions of Fairview\, Wood Village\, Troutdale\, Springdale\, Corbett\, Bridal Veil\, Vista House\, Multnomah Falls\, Bonneville Dam\, and Cascade Locks. Learn more on our About the Chamber page.
URL:https://westcolumbiagorgechamber.com/event/am-networking-3-4/
LOCATION:Reynolds Learning Academy\,  20234 NE Halsey St \, Fairview\, OR\, 97024\, United States
CATEGORIES:AM Networkings,Events - Chamber
END:VEVENT
BEGIN:VEVENT
DTSTART;TZID=America/Los_Angeles:20190821T073000
DTEND;TZID=America/Los_Angeles:20190821T090000
DTSTAMP:20260423T040752
CREATED:20190719T153142Z
LAST-MODIFIED:20190719T153142Z
UID:6531-1566372600-1566378000@westcolumbiagorgechamber.com
SUMMARY:AM Networking
DESCRIPTION:JOIN US FOR THIS WEEKS AM NETWORKING\nJoin us for our weekly AM networking. This week’s host will be Kathi Morris from Reynolds Learning Academy. As a Youth Transition Program Specialist\, she is able to help students connect with their future. She is also West Columbia Gorge Chamber’s President-Elect. \nWe will be meeting at Reynold Learning Academy (RLA) where we will learn how RLA finds innovative ways to enrich and enhance the entire school experience for local youth. Whether it’s credit recovery to help a student graduate or a GED program to help students move through high school more quickly\, RLA is an umbrella of education options for student success. \nThis is a great opportunity to connect with your community\, meet with local business owners and representatives\, or introduce yourself to the chamber. New faces are always welcome. \nNot a member? Learn about our other member services\, check out our member directory\, and find out what it takes to join the chamber. \nABOUT THE WEST COLUMBIA GORGE CHAMBER \nWe are a non-profit organization comprised of citizens and businesses who invest time and money in the joint effort to advance civic\, industrial\, commercial and general interests of the West Columbia Gorge region. Our Chamber includes the towns\, unincorporated areas and attractions of Fairview\, Wood Village\, Troutdale\, Springdale\, Corbett\, Bridal Veil\, Vista House\, Multnomah Falls\, Bonneville Dam\, and Cascade Locks. Learn more on our About the Chamber page.
URL:https://westcolumbiagorgechamber.com/event/am-networking-3/
LOCATION:Reynolds Learning Academy\,  20234 NE Halsey St \, Fairview\, OR\, 97024\, United States
CATEGORIES:AM Networkings,Events - Chamber
END:VEVENT
END:VCALENDAR