BEGIN:VCALENDAR
VERSION:2.0
PRODID:-//West Columbia Gorge Chamber of Commerce - ECPv6.15.20//NONSGML v1.0//EN
CALSCALE:GREGORIAN
METHOD:PUBLISH
X-WR-CALNAME:West Columbia Gorge Chamber of Commerce
X-ORIGINAL-URL:https://westcolumbiagorgechamber.com
X-WR-CALDESC:Events for West Columbia Gorge Chamber of Commerce
REFRESH-INTERVAL;VALUE=DURATION:PT1H
X-Robots-Tag:noindex
X-PUBLISHED-TTL:PT1H
BEGIN:VTIMEZONE
TZID:America/Los_Angeles
BEGIN:DAYLIGHT
TZOFFSETFROM:-0800
TZOFFSETTO:-0700
TZNAME:PDT
DTSTART:20180311T100000
END:DAYLIGHT
BEGIN:STANDARD
TZOFFSETFROM:-0700
TZOFFSETTO:-0800
TZNAME:PST
DTSTART:20181104T090000
END:STANDARD
BEGIN:DAYLIGHT
TZOFFSETFROM:-0800
TZOFFSETTO:-0700
TZNAME:PDT
DTSTART:20190310T100000
END:DAYLIGHT
BEGIN:STANDARD
TZOFFSETFROM:-0700
TZOFFSETTO:-0800
TZNAME:PST
DTSTART:20191103T090000
END:STANDARD
BEGIN:DAYLIGHT
TZOFFSETFROM:-0800
TZOFFSETTO:-0700
TZNAME:PDT
DTSTART:20200308T100000
END:DAYLIGHT
BEGIN:STANDARD
TZOFFSETFROM:-0700
TZOFFSETTO:-0800
TZNAME:PST
DTSTART:20201101T090000
END:STANDARD
END:VTIMEZONE
BEGIN:VEVENT
DTSTART;TZID=America/Los_Angeles:20190807T120000
DTEND;TZID=America/Los_Angeles:20190807T133000
DTSTAMP:20260423T122522
CREATED:20190719T151850Z
LAST-MODIFIED:20190719T151850Z
UID:6526-1565179200-1565184600@westcolumbiagorgechamber.com
SUMMARY:LoL Learn Over Lunch
DESCRIPTION:LoL Learn Over Lunch\nHost is CP Trips\nHeld at Ye Olde Pub In Troutddale\n12-1:30 pm
URL:https://westcolumbiagorgechamber.com/event/lol-learn-over-lunch-13/
LOCATION:Ye Olde Pub\, 202 W Historic Columbia River\, Troutdale\, 97060\, United States
CATEGORIES:Events - Chamber,Learn Over Lunchs
ORGANIZER;CN="CP Trips":MAILTO:cptrips@aol.com
END:VEVENT
BEGIN:VEVENT
DTSTART;TZID=America/Los_Angeles:20190807T120000
DTEND;TZID=America/Los_Angeles:20190807T133000
DTSTAMP:20260423T122522
CREATED:20190719T151850Z
LAST-MODIFIED:20190719T151850Z
UID:9155-1565179200-1565184600@westcolumbiagorgechamber.com
SUMMARY:LoL Learn Over Lunch
DESCRIPTION:LoL Learn Over Lunch\nHost is CP Trips\nHeld at Ye Olde Pub In Troutddale\n12-1:30 pm
URL:https://westcolumbiagorgechamber.com/event/lol-learn-over-lunch-13-2/
LOCATION:Ye Olde Pub\, 202 W Historic Columbia River\, Troutdale\, 97060\, United States
CATEGORIES:Events - Chamber,Learn Over Lunchs
ORGANIZER;CN="CP Trips":MAILTO:cptrips@aol.com
END:VEVENT
BEGIN:VEVENT
DTSTART;TZID=America/Los_Angeles:20190807T120000
DTEND;TZID=America/Los_Angeles:20190807T133000
DTSTAMP:20260423T122522
CREATED:20190719T151850Z
LAST-MODIFIED:20190719T151850Z
UID:9193-1565179200-1565184600@westcolumbiagorgechamber.com
SUMMARY:LoL Learn Over Lunch
DESCRIPTION:LoL Learn Over Lunch\nHost is CP Trips\nHeld at Ye Olde Pub In Troutddale\n12-1:30 pm
URL:https://westcolumbiagorgechamber.com/event/lol-learn-over-lunch-13-3/
LOCATION:Ye Olde Pub\, 202 W Historic Columbia River\, Troutdale\, 97060\, United States
CATEGORIES:Events - Chamber,Learn Over Lunchs
ORGANIZER;CN="CP Trips":MAILTO:cptrips@aol.com
END:VEVENT
BEGIN:VEVENT
DTSTART;TZID=America/Los_Angeles:20190807T120000
DTEND;TZID=America/Los_Angeles:20190807T133000
DTSTAMP:20260423T122522
CREATED:20190719T151850Z
LAST-MODIFIED:20190719T151850Z
UID:9755-1565179200-1565184600@westcolumbiagorgechamber.com
SUMMARY:LoL Learn Over Lunch
DESCRIPTION:LoL Learn Over Lunch\nHost is CP Trips\nHeld at Ye Olde Pub In Troutddale\n12-1:30 pm
URL:https://westcolumbiagorgechamber.com/event/lol-learn-over-lunch-13-4/
LOCATION:Ye Olde Pub\, 202 W Historic Columbia River\, Troutdale\, 97060\, United States
CATEGORIES:Events - Chamber,Learn Over Lunchs
ORGANIZER;CN="CP Trips":MAILTO:cptrips@aol.com
END:VEVENT
END:VCALENDAR