BEGIN:VCALENDAR
VERSION:2.0
PRODID:-//West Columbia Gorge Chamber of Commerce - ECPv6.15.20//NONSGML v1.0//EN
CALSCALE:GREGORIAN
METHOD:PUBLISH
X-WR-CALNAME:West Columbia Gorge Chamber of Commerce
X-ORIGINAL-URL:https://westcolumbiagorgechamber.com
X-WR-CALDESC:Events for West Columbia Gorge Chamber of Commerce
REFRESH-INTERVAL;VALUE=DURATION:PT1H
X-Robots-Tag:noindex
X-PUBLISHED-TTL:PT1H
BEGIN:VTIMEZONE
TZID:America/Los_Angeles
BEGIN:DAYLIGHT
TZOFFSETFROM:-0800
TZOFFSETTO:-0700
TZNAME:PDT
DTSTART:20170312T100000
END:DAYLIGHT
BEGIN:STANDARD
TZOFFSETFROM:-0700
TZOFFSETTO:-0800
TZNAME:PST
DTSTART:20171105T090000
END:STANDARD
BEGIN:DAYLIGHT
TZOFFSETFROM:-0800
TZOFFSETTO:-0700
TZNAME:PDT
DTSTART:20180311T100000
END:DAYLIGHT
BEGIN:STANDARD
TZOFFSETFROM:-0700
TZOFFSETTO:-0800
TZNAME:PST
DTSTART:20181104T090000
END:STANDARD
BEGIN:DAYLIGHT
TZOFFSETFROM:-0800
TZOFFSETTO:-0700
TZNAME:PDT
DTSTART:20190310T100000
END:DAYLIGHT
BEGIN:STANDARD
TZOFFSETFROM:-0700
TZOFFSETTO:-0800
TZNAME:PST
DTSTART:20191103T090000
END:STANDARD
END:VTIMEZONE
BEGIN:VEVENT
DTSTART;TZID=America/Los_Angeles:20180919T073000
DTEND;TZID=America/Los_Angeles:20180919T090000
DTSTAMP:20260424T011214
CREATED:20171010T210825Z
LAST-MODIFIED:20171010T210825Z
UID:9518-1537342200-1537347600@westcolumbiagorgechamber.com
SUMMARY:Morning Networking event at U.S. Bank\, Cherry Park Location
DESCRIPTION:Join us at U.S. Bank \n7:30am to 9:00am \n2541 SW Cherry Park Rd \nTroutdale\, Oregon\, 97060 \n  \n  \nCome for a great time of networking and share your news! \nBring your business cards and bring a friend! \nWe’d love to know more about your business.  \nSee you there! \n  \n  \n\nGet Personalized Banking at Our Cherry Park Market Center Branch\n\nBank local with us and find a variety of U.S. Bank products and services designed to help you achieve. Enjoy checking and savings accounts\, credit cards\, merchant services\, investment management\, mortgage calculators\, home loans and more. Our team is ready to help you every step of your financial way. Visit us at the branch\, or browse this page to learn more.  \n  \n  \nIf you are interested in hosting then please let us know: info@westcolumbiagorgechamber.com or call# 503-669-7473! \n 
URL:https://westcolumbiagorgechamber.com/event/am-networking-event-16-4/
LOCATION:U.S. Bank\, 2541 SW Cherry Park Rd\, Troutdale\, OR\, 97060\, United States
CATEGORIES:AM Networkings,Events - Chamber
END:VEVENT
BEGIN:VEVENT
DTSTART;TZID=America/Los_Angeles:20180919T073000
DTEND;TZID=America/Los_Angeles:20180919T090000
DTSTAMP:20260424T011214
CREATED:20171010T210825Z
LAST-MODIFIED:20171010T210825Z
UID:5133-1537342200-1537347600@westcolumbiagorgechamber.com
SUMMARY:Morning Networking event at U.S. Bank\, Cherry Park Location
DESCRIPTION:Join us at U.S. Bank \n7:30am to 9:00am \n2541 SW Cherry Park Rd \nTroutdale\, Oregon\, 97060 \n  \n  \nCome for a great time of networking and share your news! \nBring your business cards and bring a friend! \nWe’d love to know more about your business.  \nSee you there! \n  \n  \n\nGet Personalized Banking at Our Cherry Park Market Center Branch\n\nBank local with us and find a variety of U.S. Bank products and services designed to help you achieve. Enjoy checking and savings accounts\, credit cards\, merchant services\, investment management\, mortgage calculators\, home loans and more. Our team is ready to help you every step of your financial way. Visit us at the branch\, or browse this page to learn more.  \n  \n  \nIf you are interested in hosting then please let us know: info@westcolumbiagorgechamber.com or call# 503-669-7473! \n 
URL:https://westcolumbiagorgechamber.com/event/am-networking-event-16/
LOCATION:U.S. Bank\, 2541 SW Cherry Park Rd\, Troutdale\, OR\, 97060\, United States
CATEGORIES:AM Networkings,Events - Chamber
END:VEVENT
BEGIN:VEVENT
DTSTART;TZID=America/Los_Angeles:20180919T073000
DTEND;TZID=America/Los_Angeles:20180919T090000
DTSTAMP:20260424T011214
CREATED:20171010T210825Z
LAST-MODIFIED:20171010T210825Z
UID:8726-1537342200-1537347600@westcolumbiagorgechamber.com
SUMMARY:Morning Networking event at U.S. Bank\, Cherry Park Location
DESCRIPTION:Join us at U.S. Bank \n7:30am to 9:00am \n2541 SW Cherry Park Rd \nTroutdale\, Oregon\, 97060 \n  \n  \nCome for a great time of networking and share your news! \nBring your business cards and bring a friend! \nWe’d love to know more about your business.  \nSee you there! \n  \n  \n\nGet Personalized Banking at Our Cherry Park Market Center Branch\n\nBank local with us and find a variety of U.S. Bank products and services designed to help you achieve. Enjoy checking and savings accounts\, credit cards\, merchant services\, investment management\, mortgage calculators\, home loans and more. Our team is ready to help you every step of your financial way. Visit us at the branch\, or browse this page to learn more.  \n  \n  \nIf you are interested in hosting then please let us know: info@westcolumbiagorgechamber.com or call# 503-669-7473! \n 
URL:https://westcolumbiagorgechamber.com/event/am-networking-event-16-2/
LOCATION:U.S. Bank\, 2541 SW Cherry Park Rd\, Troutdale\, OR\, 97060\, United States
CATEGORIES:AM Networkings,Events - Chamber
END:VEVENT
BEGIN:VEVENT
DTSTART;TZID=America/Los_Angeles:20180919T073000
DTEND;TZID=America/Los_Angeles:20180919T090000
DTSTAMP:20260424T011214
CREATED:20171010T210825Z
LAST-MODIFIED:20171010T210825Z
UID:8751-1537342200-1537347600@westcolumbiagorgechamber.com
SUMMARY:Morning Networking event at U.S. Bank\, Cherry Park Location
DESCRIPTION:Join us at U.S. Bank \n7:30am to 9:00am \n2541 SW Cherry Park Rd \nTroutdale\, Oregon\, 97060 \n  \n  \nCome for a great time of networking and share your news! \nBring your business cards and bring a friend! \nWe’d love to know more about your business.  \nSee you there! \n  \n  \n\nGet Personalized Banking at Our Cherry Park Market Center Branch\n\nBank local with us and find a variety of U.S. Bank products and services designed to help you achieve. Enjoy checking and savings accounts\, credit cards\, merchant services\, investment management\, mortgage calculators\, home loans and more. Our team is ready to help you every step of your financial way. Visit us at the branch\, or browse this page to learn more.  \n  \n  \nIf you are interested in hosting then please let us know: info@westcolumbiagorgechamber.com or call# 503-669-7473! \n 
URL:https://westcolumbiagorgechamber.com/event/am-networking-event-16-3/
LOCATION:U.S. Bank\, 2541 SW Cherry Park Rd\, Troutdale\, OR\, 97060\, United States
CATEGORIES:AM Networkings,Events - Chamber
END:VEVENT
END:VCALENDAR