BEGIN:VCALENDAR
VERSION:2.0
PRODID:-//West Columbia Gorge Chamber of Commerce - ECPv6.15.20//NONSGML v1.0//EN
CALSCALE:GREGORIAN
METHOD:PUBLISH
X-ORIGINAL-URL:https://westcolumbiagorgechamber.com
X-WR-CALDESC:Events for West Columbia Gorge Chamber of Commerce
REFRESH-INTERVAL;VALUE=DURATION:PT1H
X-Robots-Tag:noindex
X-PUBLISHED-TTL:PT1H
BEGIN:VTIMEZONE
TZID:America/Los_Angeles
BEGIN:DAYLIGHT
TZOFFSETFROM:-0800
TZOFFSETTO:-0700
TZNAME:PDT
DTSTART:20200308T100000
END:DAYLIGHT
BEGIN:STANDARD
TZOFFSETFROM:-0700
TZOFFSETTO:-0800
TZNAME:PST
DTSTART:20201101T090000
END:STANDARD
BEGIN:DAYLIGHT
TZOFFSETFROM:-0800
TZOFFSETTO:-0700
TZNAME:PDT
DTSTART:20210314T100000
END:DAYLIGHT
BEGIN:STANDARD
TZOFFSETFROM:-0700
TZOFFSETTO:-0800
TZNAME:PST
DTSTART:20211107T090000
END:STANDARD
BEGIN:DAYLIGHT
TZOFFSETFROM:-0800
TZOFFSETTO:-0700
TZNAME:PDT
DTSTART:20220313T100000
END:DAYLIGHT
BEGIN:STANDARD
TZOFFSETFROM:-0700
TZOFFSETTO:-0800
TZNAME:PST
DTSTART:20221106T090000
END:STANDARD
END:VTIMEZONE
BEGIN:VEVENT
DTSTART;TZID=America/Los_Angeles:20210919T100000
DTEND;TZID=America/Los_Angeles:20210919T160000
DTSTAMP:20260420T221356
CREATED:20210420T204505Z
LAST-MODIFIED:20210420T204505Z
UID:7796-1632045600-1632067200@westcolumbiagorgechamber.com
SUMMARY:Fall Festival of the Arts
DESCRIPTION:This year because of COVID19 and social distancing\,  The Fall Festival of the Arts will happen at Glenn Otto Park with two additional  sites within a block of Glenn Otto Park.  Those additional sites will be the ART CENTER and CASWELL SCULPTURE GARDENS.  Parking will be at Glenn Otto Park and north across highway 30 at a private lot.  
URL:https://westcolumbiagorgechamber.com/event/fall-festival-of-the-arts-7/
LOCATION:Glenn Otto Park – Sam Cox Bldg.\, 1102 E. Historic Columbia River Hwy.\, Troutdale\, OR\, 97060\, United States
CATEGORIES:City of Troutdale,Events - Chamber
END:VEVENT
BEGIN:VEVENT
DTSTART;TZID=America/Los_Angeles:20210919T100000
DTEND;TZID=America/Los_Angeles:20210919T160000
DTSTAMP:20260420T221356
CREATED:20210420T204505Z
LAST-MODIFIED:20210420T204505Z
UID:9465-1632045600-1632067200@westcolumbiagorgechamber.com
SUMMARY:Fall Festival of the Arts
DESCRIPTION:This year because of COVID19 and social distancing\,  The Fall Festival of the Arts will happen at Glenn Otto Park with two additional  sites within a block of Glenn Otto Park.  Those additional sites will be the ART CENTER and CASWELL SCULPTURE GARDENS.  Parking will be at Glenn Otto Park and north across highway 30 at a private lot.  
URL:https://westcolumbiagorgechamber.com/event/fall-festival-of-the-arts-7-2/
LOCATION:Glenn Otto Park – Sam Cox Bldg.\, 1102 E. Historic Columbia River Hwy.\, Troutdale\, OR\, 97060\, United States
CATEGORIES:City of Troutdale,Events - Chamber
END:VEVENT
BEGIN:VEVENT
DTSTART;TZID=America/Los_Angeles:20210919T100000
DTEND;TZID=America/Los_Angeles:20210919T160000
DTSTAMP:20260420T221356
CREATED:20210420T204505Z
LAST-MODIFIED:20210420T204505Z
UID:9496-1632045600-1632067200@westcolumbiagorgechamber.com
SUMMARY:Fall Festival of the Arts
DESCRIPTION:This year because of COVID19 and social distancing\,  The Fall Festival of the Arts will happen at Glenn Otto Park with two additional  sites within a block of Glenn Otto Park.  Those additional sites will be the ART CENTER and CASWELL SCULPTURE GARDENS.  Parking will be at Glenn Otto Park and north across highway 30 at a private lot.  
URL:https://westcolumbiagorgechamber.com/event/fall-festival-of-the-arts-7-3/
LOCATION:Glenn Otto Park – Sam Cox Bldg.\, 1102 E. Historic Columbia River Hwy.\, Troutdale\, OR\, 97060\, United States
CATEGORIES:City of Troutdale,Events - Chamber
END:VEVENT
BEGIN:VEVENT
DTSTART;TZID=America/Los_Angeles:20210919T100000
DTEND;TZID=America/Los_Angeles:20210919T160000
DTSTAMP:20260420T221356
CREATED:20210420T204505Z
LAST-MODIFIED:20210420T204505Z
UID:9857-1632045600-1632067200@westcolumbiagorgechamber.com
SUMMARY:Fall Festival of the Arts
DESCRIPTION:This year because of COVID19 and social distancing\,  The Fall Festival of the Arts will happen at Glenn Otto Park with two additional  sites within a block of Glenn Otto Park.  Those additional sites will be the ART CENTER and CASWELL SCULPTURE GARDENS.  Parking will be at Glenn Otto Park and north across highway 30 at a private lot.  
URL:https://westcolumbiagorgechamber.com/event/fall-festival-of-the-arts-7-4/
LOCATION:Glenn Otto Park – Sam Cox Bldg.\, 1102 E. Historic Columbia River Hwy.\, Troutdale\, OR\, 97060\, United States
CATEGORIES:City of Troutdale,Events - Chamber
END:VEVENT
END:VCALENDAR