BEGIN:VCALENDAR
VERSION:2.0
PRODID:-//West Columbia Gorge Chamber of Commerce - ECPv6.15.20//NONSGML v1.0//EN
CALSCALE:GREGORIAN
METHOD:PUBLISH
X-WR-CALNAME:West Columbia Gorge Chamber of Commerce
X-ORIGINAL-URL:https://westcolumbiagorgechamber.com
X-WR-CALDESC:Events for West Columbia Gorge Chamber of Commerce
REFRESH-INTERVAL;VALUE=DURATION:PT1H
X-Robots-Tag:noindex
X-PUBLISHED-TTL:PT1H
BEGIN:VTIMEZONE
TZID:America/Los_Angeles
BEGIN:DAYLIGHT
TZOFFSETFROM:-0800
TZOFFSETTO:-0700
TZNAME:PDT
DTSTART:20180311T100000
END:DAYLIGHT
BEGIN:STANDARD
TZOFFSETFROM:-0700
TZOFFSETTO:-0800
TZNAME:PST
DTSTART:20181104T090000
END:STANDARD
BEGIN:DAYLIGHT
TZOFFSETFROM:-0800
TZOFFSETTO:-0700
TZNAME:PDT
DTSTART:20190310T100000
END:DAYLIGHT
BEGIN:STANDARD
TZOFFSETFROM:-0700
TZOFFSETTO:-0800
TZNAME:PST
DTSTART:20191103T090000
END:STANDARD
BEGIN:DAYLIGHT
TZOFFSETFROM:-0800
TZOFFSETTO:-0700
TZNAME:PDT
DTSTART:20200308T100000
END:DAYLIGHT
BEGIN:STANDARD
TZOFFSETFROM:-0700
TZOFFSETTO:-0800
TZNAME:PST
DTSTART:20201101T090000
END:STANDARD
END:VTIMEZONE
BEGIN:VEVENT
DTSTART;TZID=America/Los_Angeles:20191002T120000
DTEND;TZID=America/Los_Angeles:20191002T133000
DTSTAMP:20260422T160158
CREATED:20190906T124955Z
LAST-MODIFIED:20190906T124955Z
UID:9204-1570017600-1570023000@westcolumbiagorgechamber.com
SUMMARY:Learn Over Lunch (LOL): Lizzie Keenan
DESCRIPTION:Wednesday\, October 2nd\, 2019\nNoon to 1:30 pm \nPresented by: Mt Hood and Columbia River Gorge guest Speaker Lizzie Keenan will talk about the importance of tourism.\nLocation: Bumpers Grill & Bar in Fairview
URL:https://westcolumbiagorgechamber.com/event/learn-over-lunch-lol-lizzie-keenan-3/
LOCATION:Bumpers Grill & Bar\, 21935 NE Halsey Street #100\, Fairview\, OR\, 97024\, United States
CATEGORIES:Events - Chamber,Learn Over Lunchs
END:VEVENT
BEGIN:VEVENT
DTSTART;TZID=America/Los_Angeles:20191002T120000
DTEND;TZID=America/Los_Angeles:20191002T133000
DTSTAMP:20260422T160158
CREATED:20190906T124955Z
LAST-MODIFIED:20190906T124955Z
UID:6567-1570017600-1570023000@westcolumbiagorgechamber.com
SUMMARY:Learn Over Lunch (LOL): Lizzie Keenan
DESCRIPTION:Wednesday\, October 2nd\, 2019\nNoon to 1:30 pm \nPresented by: Mt Hood and Columbia River Gorge guest Speaker Lizzie Keenan will talk about the importance of tourism.\nLocation: Bumpers Grill & Bar in Fairview
URL:https://westcolumbiagorgechamber.com/event/learn-over-lunch-lol-lizzie-keenan/
LOCATION:Bumpers Grill & Bar\, 21935 NE Halsey Street #100\, Fairview\, OR\, 97024\, United States
CATEGORIES:Events - Chamber,Learn Over Lunchs
END:VEVENT
BEGIN:VEVENT
DTSTART;TZID=America/Los_Angeles:20191002T120000
DTEND;TZID=America/Los_Angeles:20191002T133000
DTSTAMP:20260422T160158
CREATED:20190906T124955Z
LAST-MODIFIED:20190906T124955Z
UID:9759-1570017600-1570023000@westcolumbiagorgechamber.com
SUMMARY:Learn Over Lunch (LOL): Lizzie Keenan
DESCRIPTION:Wednesday\, October 2nd\, 2019\nNoon to 1:30 pm \nPresented by: Mt Hood and Columbia River Gorge guest Speaker Lizzie Keenan will talk about the importance of tourism.\nLocation: Bumpers Grill & Bar in Fairview
URL:https://westcolumbiagorgechamber.com/event/learn-over-lunch-lol-lizzie-keenan-4/
LOCATION:Bumpers Grill & Bar\, 21935 NE Halsey Street #100\, Fairview\, OR\, 97024\, United States
CATEGORIES:Events - Chamber,Learn Over Lunchs
END:VEVENT
BEGIN:VEVENT
DTSTART;TZID=America/Los_Angeles:20191002T120000
DTEND;TZID=America/Los_Angeles:20191002T133000
DTSTAMP:20260422T160158
CREATED:20190906T124955Z
LAST-MODIFIED:20190906T124955Z
UID:9167-1570017600-1570023000@westcolumbiagorgechamber.com
SUMMARY:Learn Over Lunch (LOL): Lizzie Keenan
DESCRIPTION:Wednesday\, October 2nd\, 2019\nNoon to 1:30 pm \nPresented by: Mt Hood and Columbia River Gorge guest Speaker Lizzie Keenan will talk about the importance of tourism.\nLocation: Bumpers Grill & Bar in Fairview
URL:https://westcolumbiagorgechamber.com/event/learn-over-lunch-lol-lizzie-keenan-2/
LOCATION:Bumpers Grill & Bar\, 21935 NE Halsey Street #100\, Fairview\, OR\, 97024\, United States
CATEGORIES:Events - Chamber,Learn Over Lunchs
END:VEVENT
BEGIN:VEVENT
DTSTART;TZID=America/Los_Angeles:20191016T073000
DTEND;TZID=America/Los_Angeles:20191016T090000
DTSTAMP:20260422T160158
CREATED:20190906T130352Z
LAST-MODIFIED:20190906T130352Z
UID:9207-1571211000-1571216400@westcolumbiagorgechamber.com
SUMMARY:AM Networking: Goin' Gaming & Grub & Grog
DESCRIPTION:October’s AM Networking will feature Goin’ Gaming & Grub & Grog. Get some great gift ideas for the Holiday’s from 7:30 am – 9 am at Goin’ Gaming in Troutdale.
URL:https://westcolumbiagorgechamber.com/event/am-networking-goin-gaming-grub-grog-3/
LOCATION:Goin’ Gaming\, 27084 SE Stark Street\, Troutdale\, OR\, 97060\, United States
CATEGORIES:AM Networkings,Events - Chamber
END:VEVENT
BEGIN:VEVENT
DTSTART;TZID=America/Los_Angeles:20191016T073000
DTEND;TZID=America/Los_Angeles:20191016T090000
DTSTAMP:20260422T160158
CREATED:20190906T130352Z
LAST-MODIFIED:20190906T130352Z
UID:6573-1571211000-1571216400@westcolumbiagorgechamber.com
SUMMARY:AM Networking: Goin' Gaming & Grub & Grog
DESCRIPTION:October’s AM Networking will feature Goin’ Gaming & Grub & Grog. Get some great gift ideas for the Holiday’s from 7:30 am – 9 am at Goin’ Gaming in Troutdale.
URL:https://westcolumbiagorgechamber.com/event/am-networking-goin-gaming-grub-grog/
LOCATION:Goin’ Gaming\, 27084 SE Stark Street\, Troutdale\, OR\, 97060\, United States
CATEGORIES:AM Networkings,Events - Chamber
END:VEVENT
BEGIN:VEVENT
DTSTART;TZID=America/Los_Angeles:20191016T073000
DTEND;TZID=America/Los_Angeles:20191016T090000
DTSTAMP:20260422T160158
CREATED:20190906T130352Z
LAST-MODIFIED:20190906T130352Z
UID:9760-1571211000-1571216400@westcolumbiagorgechamber.com
SUMMARY:AM Networking: Goin' Gaming & Grub & Grog
DESCRIPTION:October’s AM Networking will feature Goin’ Gaming & Grub & Grog. Get some great gift ideas for the Holiday’s from 7:30 am – 9 am at Goin’ Gaming in Troutdale.
URL:https://westcolumbiagorgechamber.com/event/am-networking-goin-gaming-grub-grog-4/
LOCATION:Goin’ Gaming\, 27084 SE Stark Street\, Troutdale\, OR\, 97060\, United States
CATEGORIES:AM Networkings,Events - Chamber
END:VEVENT
BEGIN:VEVENT
DTSTART;TZID=America/Los_Angeles:20191016T073000
DTEND;TZID=America/Los_Angeles:20191016T090000
DTSTAMP:20260422T160158
CREATED:20190906T130352Z
LAST-MODIFIED:20190906T130352Z
UID:9170-1571211000-1571216400@westcolumbiagorgechamber.com
SUMMARY:AM Networking: Goin' Gaming & Grub & Grog
DESCRIPTION:October’s AM Networking will feature Goin’ Gaming & Grub & Grog. Get some great gift ideas for the Holiday’s from 7:30 am – 9 am at Goin’ Gaming in Troutdale.
URL:https://westcolumbiagorgechamber.com/event/am-networking-goin-gaming-grub-grog-2/
LOCATION:Goin’ Gaming\, 27084 SE Stark Street\, Troutdale\, OR\, 97060\, United States
CATEGORIES:AM Networkings,Events - Chamber
END:VEVENT
END:VCALENDAR