BEGIN:VCALENDAR
VERSION:2.0
PRODID:-//West Columbia Gorge Chamber of Commerce - ECPv6.15.20//NONSGML v1.0//EN
CALSCALE:GREGORIAN
METHOD:PUBLISH
X-ORIGINAL-URL:https://westcolumbiagorgechamber.com
X-WR-CALDESC:Events for West Columbia Gorge Chamber of Commerce
REFRESH-INTERVAL;VALUE=DURATION:PT1H
X-Robots-Tag:noindex
X-PUBLISHED-TTL:PT1H
BEGIN:VTIMEZONE
TZID:America/Los_Angeles
BEGIN:DAYLIGHT
TZOFFSETFROM:-0800
TZOFFSETTO:-0700
TZNAME:PDT
DTSTART:20170312T100000
END:DAYLIGHT
BEGIN:STANDARD
TZOFFSETFROM:-0700
TZOFFSETTO:-0800
TZNAME:PST
DTSTART:20171105T090000
END:STANDARD
BEGIN:DAYLIGHT
TZOFFSETFROM:-0800
TZOFFSETTO:-0700
TZNAME:PDT
DTSTART:20180311T100000
END:DAYLIGHT
BEGIN:STANDARD
TZOFFSETFROM:-0700
TZOFFSETTO:-0800
TZNAME:PST
DTSTART:20181104T090000
END:STANDARD
BEGIN:DAYLIGHT
TZOFFSETFROM:-0800
TZOFFSETTO:-0700
TZNAME:PDT
DTSTART:20190310T100000
END:DAYLIGHT
BEGIN:STANDARD
TZOFFSETFROM:-0700
TZOFFSETTO:-0800
TZNAME:PST
DTSTART:20191103T090000
END:STANDARD
END:VTIMEZONE
BEGIN:VEVENT
DTSTART;TZID=America/Los_Angeles:20180801T120000
DTEND;TZID=America/Los_Angeles:20180801T133000
DTSTAMP:20260424T034210
CREATED:20171011T214500Z
LAST-MODIFIED:20171011T214500Z
UID:8741-1533124800-1533130200@westcolumbiagorgechamber.com
SUMMARY:LOL: Learn Over Lunch with Bonita Wilcox of CADENCE Collaborative Care
DESCRIPTION:LOL: Learn Over Lunch \n  \nOur guest speaker for Learn Over Lunch\, Wednesday August 1st will be: \nBonita Wilcox of  \nCADENCE Collaborative Care \n \n  \n“Restoring health and humanity one interaction at a time. This is a place for self-driven education\, focused on sound research\,  \nlife style\, herbs\, and understanding our internal and external  \nenvironment. Each of these factors determines our ability to go with the flow of health. We specialize in harmonizing the rhythms of diet\, life style\,  \nemotions and environment to bring forth your dynamic state of health.” \n  \nBonita will be speaking to us about how we can better care for our bodies and stay healthy. She will also answer any question you have for her.  \nThis will be a great time to learn how to keep ourselves in top condition. \n  \nNoon to 1:30 \nAt \nYe Olde Pub \n202 W Historic Columbia River Hwy \nTroutdale\, Oregon 97060 \n  \n  \n~ Join us for a fun and educational networking opportunity while you enjoy a delicious meal ~ \n\nBring a guest ~ Bring your business cards!
URL:https://westcolumbiagorgechamber.com/event/lol-learn-over-lunch-20-2/
LOCATION:Ye Olde Pub\, 202 W Historic Columbia River\, Troutdale\, 97060\, United States
CATEGORIES:Events - Chamber,Learn Over Lunchs
END:VEVENT
BEGIN:VEVENT
DTSTART;TZID=America/Los_Angeles:20180801T120000
DTEND;TZID=America/Los_Angeles:20180801T133000
DTSTAMP:20260424T034210
CREATED:20171011T214500Z
LAST-MODIFIED:20171011T214500Z
UID:8766-1533124800-1533130200@westcolumbiagorgechamber.com
SUMMARY:LOL: Learn Over Lunch with Bonita Wilcox of CADENCE Collaborative Care
DESCRIPTION:LOL: Learn Over Lunch \n  \nOur guest speaker for Learn Over Lunch\, Wednesday August 1st will be: \nBonita Wilcox of  \nCADENCE Collaborative Care \n \n  \n“Restoring health and humanity one interaction at a time. This is a place for self-driven education\, focused on sound research\,  \nlife style\, herbs\, and understanding our internal and external  \nenvironment. Each of these factors determines our ability to go with the flow of health. We specialize in harmonizing the rhythms of diet\, life style\,  \nemotions and environment to bring forth your dynamic state of health.” \n  \nBonita will be speaking to us about how we can better care for our bodies and stay healthy. She will also answer any question you have for her.  \nThis will be a great time to learn how to keep ourselves in top condition. \n  \nNoon to 1:30 \nAt \nYe Olde Pub \n202 W Historic Columbia River Hwy \nTroutdale\, Oregon 97060 \n  \n  \n~ Join us for a fun and educational networking opportunity while you enjoy a delicious meal ~ \n\nBring a guest ~ Bring your business cards!
URL:https://westcolumbiagorgechamber.com/event/lol-learn-over-lunch-20-3/
LOCATION:Ye Olde Pub\, 202 W Historic Columbia River\, Troutdale\, 97060\, United States
CATEGORIES:Events - Chamber,Learn Over Lunchs
END:VEVENT
BEGIN:VEVENT
DTSTART;TZID=America/Los_Angeles:20180801T120000
DTEND;TZID=America/Los_Angeles:20180801T133000
DTSTAMP:20260424T034210
CREATED:20171011T214500Z
LAST-MODIFIED:20171011T214500Z
UID:5180-1533124800-1533130200@westcolumbiagorgechamber.com
SUMMARY:LOL: Learn Over Lunch with Bonita Wilcox of CADENCE Collaborative Care
DESCRIPTION:LOL: Learn Over Lunch \n  \nOur guest speaker for Learn Over Lunch\, Wednesday August 1st will be: \nBonita Wilcox of  \nCADENCE Collaborative Care \n \n  \n“Restoring health and humanity one interaction at a time. This is a place for self-driven education\, focused on sound research\,  \nlife style\, herbs\, and understanding our internal and external  \nenvironment. Each of these factors determines our ability to go with the flow of health. We specialize in harmonizing the rhythms of diet\, life style\,  \nemotions and environment to bring forth your dynamic state of health.” \n  \nBonita will be speaking to us about how we can better care for our bodies and stay healthy. She will also answer any question you have for her.  \nThis will be a great time to learn how to keep ourselves in top condition. \n  \nNoon to 1:30 \nAt \nYe Olde Pub \n202 W Historic Columbia River Hwy \nTroutdale\, Oregon 97060 \n  \n  \n~ Join us for a fun and educational networking opportunity while you enjoy a delicious meal ~ \n\nBring a guest ~ Bring your business cards!
URL:https://westcolumbiagorgechamber.com/event/lol-learn-over-lunch-20/
LOCATION:Ye Olde Pub\, 202 W Historic Columbia River\, Troutdale\, 97060\, United States
CATEGORIES:Events - Chamber,Learn Over Lunchs
END:VEVENT
BEGIN:VEVENT
DTSTART;TZID=America/Los_Angeles:20180801T120000
DTEND;TZID=America/Los_Angeles:20180801T133000
DTSTAMP:20260424T034210
CREATED:20171011T214500Z
LAST-MODIFIED:20171011T214500Z
UID:9539-1533124800-1533130200@westcolumbiagorgechamber.com
SUMMARY:LOL: Learn Over Lunch with Bonita Wilcox of CADENCE Collaborative Care
DESCRIPTION:LOL: Learn Over Lunch \n  \nOur guest speaker for Learn Over Lunch\, Wednesday August 1st will be: \nBonita Wilcox of  \nCADENCE Collaborative Care \n \n  \n“Restoring health and humanity one interaction at a time. This is a place for self-driven education\, focused on sound research\,  \nlife style\, herbs\, and understanding our internal and external  \nenvironment. Each of these factors determines our ability to go with the flow of health. We specialize in harmonizing the rhythms of diet\, life style\,  \nemotions and environment to bring forth your dynamic state of health.” \n  \nBonita will be speaking to us about how we can better care for our bodies and stay healthy. She will also answer any question you have for her.  \nThis will be a great time to learn how to keep ourselves in top condition. \n  \nNoon to 1:30 \nAt \nYe Olde Pub \n202 W Historic Columbia River Hwy \nTroutdale\, Oregon 97060 \n  \n  \n~ Join us for a fun and educational networking opportunity while you enjoy a delicious meal ~ \n\nBring a guest ~ Bring your business cards!
URL:https://westcolumbiagorgechamber.com/event/lol-learn-over-lunch-20-4/
LOCATION:Ye Olde Pub\, 202 W Historic Columbia River\, Troutdale\, 97060\, United States
CATEGORIES:Events - Chamber,Learn Over Lunchs
END:VEVENT
BEGIN:VEVENT
DTSTART;TZID=America/Los_Angeles:20180815T173000
DTEND;TZID=America/Los_Angeles:20180815T190000
DTSTAMP:20260424T034210
CREATED:20171010T210702Z
LAST-MODIFIED:20171010T210702Z
UID:8749-1534354200-1534359600@westcolumbiagorgechamber.com
SUMMARY:Networking B.A.S.H. (Business and Social Hour) at Verizon Cellular Plus
DESCRIPTION:Networking B.A.S.H. \nat \nVerizon Cellular Plus \nAugust 15th\, 2018 \n5:30pm to 7:00pm \n3163 SW 257th Ave #B300\, Troutdale\, OR\, 97060 \n  \nJoin us for a wonderful evening of networking fun! \nWine and appetizers will be served\, door prizes will be awarded! Bring your business cards to enter! \n 
URL:https://westcolumbiagorgechamber.com/event/am-networking-event-15-3/
LOCATION:Verizon/Cellular Plus Store\, 3163 SW 257th Ave\, Troutdale\, OR\, 97060\, United States
CATEGORIES:Events - Chamber
END:VEVENT
BEGIN:VEVENT
DTSTART;TZID=America/Los_Angeles:20180815T173000
DTEND;TZID=America/Los_Angeles:20180815T190000
DTSTAMP:20260424T034210
CREATED:20171010T210702Z
LAST-MODIFIED:20171010T210702Z
UID:5131-1534354200-1534359600@westcolumbiagorgechamber.com
SUMMARY:Networking B.A.S.H. (Business and Social Hour) at Verizon Cellular Plus
DESCRIPTION:Networking B.A.S.H. \nat \nVerizon Cellular Plus \nAugust 15th\, 2018 \n5:30pm to 7:00pm \n3163 SW 257th Ave #B300\, Troutdale\, OR\, 97060 \n  \nJoin us for a wonderful evening of networking fun! \nWine and appetizers will be served\, door prizes will be awarded! Bring your business cards to enter! \n 
URL:https://westcolumbiagorgechamber.com/event/am-networking-event-15/
LOCATION:Verizon/Cellular Plus Store\, 3163 SW 257th Ave\, Troutdale\, OR\, 97060\, United States
CATEGORIES:Events - Chamber
END:VEVENT
BEGIN:VEVENT
DTSTART;TZID=America/Los_Angeles:20180815T173000
DTEND;TZID=America/Los_Angeles:20180815T190000
DTSTAMP:20260424T034210
CREATED:20171010T210702Z
LAST-MODIFIED:20171010T210702Z
UID:9515-1534354200-1534359600@westcolumbiagorgechamber.com
SUMMARY:Networking B.A.S.H. (Business and Social Hour) at Verizon Cellular Plus
DESCRIPTION:Networking B.A.S.H. \nat \nVerizon Cellular Plus \nAugust 15th\, 2018 \n5:30pm to 7:00pm \n3163 SW 257th Ave #B300\, Troutdale\, OR\, 97060 \n  \nJoin us for a wonderful evening of networking fun! \nWine and appetizers will be served\, door prizes will be awarded! Bring your business cards to enter! \n 
URL:https://westcolumbiagorgechamber.com/event/am-networking-event-15-4/
LOCATION:Verizon/Cellular Plus Store\, 3163 SW 257th Ave\, Troutdale\, OR\, 97060\, United States
CATEGORIES:Events - Chamber
END:VEVENT
BEGIN:VEVENT
DTSTART;TZID=America/Los_Angeles:20180815T173000
DTEND;TZID=America/Los_Angeles:20180815T190000
DTSTAMP:20260424T034210
CREATED:20171010T210702Z
LAST-MODIFIED:20171010T210702Z
UID:8724-1534354200-1534359600@westcolumbiagorgechamber.com
SUMMARY:Networking B.A.S.H. (Business and Social Hour) at Verizon Cellular Plus
DESCRIPTION:Networking B.A.S.H. \nat \nVerizon Cellular Plus \nAugust 15th\, 2018 \n5:30pm to 7:00pm \n3163 SW 257th Ave #B300\, Troutdale\, OR\, 97060 \n  \nJoin us for a wonderful evening of networking fun! \nWine and appetizers will be served\, door prizes will be awarded! Bring your business cards to enter! \n 
URL:https://westcolumbiagorgechamber.com/event/am-networking-event-15-2/
LOCATION:Verizon/Cellular Plus Store\, 3163 SW 257th Ave\, Troutdale\, OR\, 97060\, United States
CATEGORIES:Events - Chamber
END:VEVENT
END:VCALENDAR