BEGIN:VCALENDAR
VERSION:2.0
PRODID:-//West Columbia Gorge Chamber of Commerce - ECPv6.15.20//NONSGML v1.0//EN
CALSCALE:GREGORIAN
METHOD:PUBLISH
X-WR-CALNAME:West Columbia Gorge Chamber of Commerce
X-ORIGINAL-URL:https://westcolumbiagorgechamber.com
X-WR-CALDESC:Events for West Columbia Gorge Chamber of Commerce
REFRESH-INTERVAL;VALUE=DURATION:PT1H
X-Robots-Tag:noindex
X-PUBLISHED-TTL:PT1H
BEGIN:VTIMEZONE
TZID:America/Los_Angeles
BEGIN:DAYLIGHT
TZOFFSETFROM:-0800
TZOFFSETTO:-0700
TZNAME:PDT
DTSTART:20170312T100000
END:DAYLIGHT
BEGIN:STANDARD
TZOFFSETFROM:-0700
TZOFFSETTO:-0800
TZNAME:PST
DTSTART:20171105T090000
END:STANDARD
BEGIN:DAYLIGHT
TZOFFSETFROM:-0800
TZOFFSETTO:-0700
TZNAME:PDT
DTSTART:20180311T100000
END:DAYLIGHT
BEGIN:STANDARD
TZOFFSETFROM:-0700
TZOFFSETTO:-0800
TZNAME:PST
DTSTART:20181104T090000
END:STANDARD
BEGIN:DAYLIGHT
TZOFFSETFROM:-0800
TZOFFSETTO:-0700
TZNAME:PDT
DTSTART:20190310T100000
END:DAYLIGHT
BEGIN:STANDARD
TZOFFSETFROM:-0700
TZOFFSETTO:-0800
TZNAME:PST
DTSTART:20191103T090000
END:STANDARD
END:VTIMEZONE
BEGIN:VEVENT
DTSTART;TZID=America/Los_Angeles:20180307T120000
DTEND;TZID=America/Los_Angeles:20180307T133000
DTSTAMP:20260424T155825
CREATED:20171011T213437Z
LAST-MODIFIED:20171011T213437Z
UID:8758-1520424000-1520429400@westcolumbiagorgechamber.com
SUMMARY:LOL: Learn Over Lunch w/ Amy Detweiler Salazar Psy.D. "Generation Z\, Millenials and how to reach them"
DESCRIPTION:LOL: Learn Over Lunch \nOur guest speaker for the month of March will by psychiatrist Amy Detweiler Salazar\, Psy. D. \nHer presentation is going to be about Generation Z and Millennials. She will cover how to connect with them on an emotional level and in relationships. She will also talk about how to market to them in the most effective manner. \nHere is a little bit about Amy: \n“I am a clinical psychologist and have been doing clinical work for over 20 years. I have worked in various settings including a group practice\, a children’s clinic\, as a supervisor of a rural mental health clinic\, with teenagers in the juvenile justice system\, and at a crisis facility for inmates. I recently started my own practice in Troutdale. I have worked with a wide range of clients and issues. My specialty is treating clients with mental health issues and physical health conditions.” \n  \n~ Join us for a fun and educational networking opportunity while you enjoy a delicious meal ~ \nAt Ristorante di Pompello \n177 E Historic Columbia River Hwy\, Troutdale\, OR 97060 \n(503) 667-2480\n Bring a guest ~ Bring your business cards!
URL:https://westcolumbiagorgechamber.com/event/lol-learn-over-lunch-15-3/
LOCATION:Ristorante Di Pompello\, 177 E. Historic Columbia River Hwy\, Troutdale\, United States
CATEGORIES:Events - Chamber,Learn Over Lunchs
END:VEVENT
BEGIN:VEVENT
DTSTART;TZID=America/Los_Angeles:20180307T120000
DTEND;TZID=America/Los_Angeles:20180307T133000
DTSTAMP:20260424T155825
CREATED:20171011T213437Z
LAST-MODIFIED:20171011T213437Z
UID:5170-1520424000-1520429400@westcolumbiagorgechamber.com
SUMMARY:LOL: Learn Over Lunch w/ Amy Detweiler Salazar Psy.D. "Generation Z\, Millenials and how to reach them"
DESCRIPTION:LOL: Learn Over Lunch \nOur guest speaker for the month of March will by psychiatrist Amy Detweiler Salazar\, Psy. D. \nHer presentation is going to be about Generation Z and Millennials. She will cover how to connect with them on an emotional level and in relationships. She will also talk about how to market to them in the most effective manner. \nHere is a little bit about Amy: \n“I am a clinical psychologist and have been doing clinical work for over 20 years. I have worked in various settings including a group practice\, a children’s clinic\, as a supervisor of a rural mental health clinic\, with teenagers in the juvenile justice system\, and at a crisis facility for inmates. I recently started my own practice in Troutdale. I have worked with a wide range of clients and issues. My specialty is treating clients with mental health issues and physical health conditions.” \n  \n~ Join us for a fun and educational networking opportunity while you enjoy a delicious meal ~ \nAt Ristorante di Pompello \n177 E Historic Columbia River Hwy\, Troutdale\, OR 97060 \n(503) 667-2480\n Bring a guest ~ Bring your business cards!
URL:https://westcolumbiagorgechamber.com/event/lol-learn-over-lunch-15/
LOCATION:Ristorante Di Pompello\, 177 E. Historic Columbia River Hwy\, Troutdale\, United States
CATEGORIES:Events - Chamber,Learn Over Lunchs
END:VEVENT
BEGIN:VEVENT
DTSTART;TZID=America/Los_Angeles:20180307T120000
DTEND;TZID=America/Los_Angeles:20180307T133000
DTSTAMP:20260424T155825
CREATED:20171011T213437Z
LAST-MODIFIED:20171011T213437Z
UID:9527-1520424000-1520429400@westcolumbiagorgechamber.com
SUMMARY:LOL: Learn Over Lunch w/ Amy Detweiler Salazar Psy.D. "Generation Z\, Millenials and how to reach them"
DESCRIPTION:LOL: Learn Over Lunch \nOur guest speaker for the month of March will by psychiatrist Amy Detweiler Salazar\, Psy. D. \nHer presentation is going to be about Generation Z and Millennials. She will cover how to connect with them on an emotional level and in relationships. She will also talk about how to market to them in the most effective manner. \nHere is a little bit about Amy: \n“I am a clinical psychologist and have been doing clinical work for over 20 years. I have worked in various settings including a group practice\, a children’s clinic\, as a supervisor of a rural mental health clinic\, with teenagers in the juvenile justice system\, and at a crisis facility for inmates. I recently started my own practice in Troutdale. I have worked with a wide range of clients and issues. My specialty is treating clients with mental health issues and physical health conditions.” \n  \n~ Join us for a fun and educational networking opportunity while you enjoy a delicious meal ~ \nAt Ristorante di Pompello \n177 E Historic Columbia River Hwy\, Troutdale\, OR 97060 \n(503) 667-2480\n Bring a guest ~ Bring your business cards!
URL:https://westcolumbiagorgechamber.com/event/lol-learn-over-lunch-15-4/
LOCATION:Ristorante Di Pompello\, 177 E. Historic Columbia River Hwy\, Troutdale\, United States
CATEGORIES:Events - Chamber,Learn Over Lunchs
END:VEVENT
BEGIN:VEVENT
DTSTART;TZID=America/Los_Angeles:20180307T120000
DTEND;TZID=America/Los_Angeles:20180307T133000
DTSTAMP:20260424T155825
CREATED:20171011T213437Z
LAST-MODIFIED:20171011T213437Z
UID:8733-1520424000-1520429400@westcolumbiagorgechamber.com
SUMMARY:LOL: Learn Over Lunch w/ Amy Detweiler Salazar Psy.D. "Generation Z\, Millenials and how to reach them"
DESCRIPTION:LOL: Learn Over Lunch \nOur guest speaker for the month of March will by psychiatrist Amy Detweiler Salazar\, Psy. D. \nHer presentation is going to be about Generation Z and Millennials. She will cover how to connect with them on an emotional level and in relationships. She will also talk about how to market to them in the most effective manner. \nHere is a little bit about Amy: \n“I am a clinical psychologist and have been doing clinical work for over 20 years. I have worked in various settings including a group practice\, a children’s clinic\, as a supervisor of a rural mental health clinic\, with teenagers in the juvenile justice system\, and at a crisis facility for inmates. I recently started my own practice in Troutdale. I have worked with a wide range of clients and issues. My specialty is treating clients with mental health issues and physical health conditions.” \n  \n~ Join us for a fun and educational networking opportunity while you enjoy a delicious meal ~ \nAt Ristorante di Pompello \n177 E Historic Columbia River Hwy\, Troutdale\, OR 97060 \n(503) 667-2480\n Bring a guest ~ Bring your business cards!
URL:https://westcolumbiagorgechamber.com/event/lol-learn-over-lunch-15-2/
LOCATION:Ristorante Di Pompello\, 177 E. Historic Columbia River Hwy\, Troutdale\, United States
CATEGORIES:Events - Chamber,Learn Over Lunchs
END:VEVENT
BEGIN:VEVENT
DTSTART;TZID=America/Los_Angeles:20180321T073000
DTEND;TZID=America/Los_Angeles:20180321T090000
DTSTAMP:20260424T155825
CREATED:20171010T195434Z
LAST-MODIFIED:20171010T195434Z
UID:8740-1521617400-1521622800@westcolumbiagorgechamber.com
SUMMARY:Morning Networking event at Gresham ReStore
DESCRIPTION:  \nGresham ReStore will be our host for March AM Networking \n610 NE 181st Ave\, Gresham\, OR 97230 \n (503) 575-7336 \n7:30am to 9am \n  \nThe Habitat for Humanity ReStore accepts donated new and used building materials\, furniture\, appliances\, lighting fixtures and other home goods\, and we sell them in our stores to raise money for Habitat home-building projects. In fact\, this past year we took in 40\,151 donations from individuals and business partners. \nOur stores in Portland\, Gresham\, Beaverton and Vancouver  support three Habitat affiliates: Portland/Metro East\, Willamette West\, and Evergreen. In the past three years\, we raised enough money to build  just under 40 Habitat homes in partnership with low-income families. \nThe ReStore is also big into reuse. Over the past three years  we diverted 17\,948 tons of reusable materials from landfills–and we’re working to improve that number. Our shoppers are some of the most creative on the planet. We love how they re-think\, re-imagine and re-invent with used materials. Of course we have to heap praise and appreciation on our generous donors and business partners and our amazing team of volunteers who clocked over 58\,000 hours this past year. Together we’re helping to make the dream of homeownership a reality for hardworking families right here. \n  \n  \n  \n  \nJoin us every 3rd Wednesday per month for a fun morning of networking with your fellow members and guests! \nOne of the benefits of your membership is participating in AM Networking Meetings\, either by attending or by hosting where you will rub elbows with some of the nicest business people in the West Columbia Gorge  at various business locations!  \nWhen you host an AM\, you are the focus of the morning\, and you get a chance to showcase your business establishment. When you attend an AM\, you have the opportunity to introduce yourself and your guest(s)\, as well as bring your best marketing materials to hand out. Announcement time allows you to tell the group what specials or other news you have to share. \nIf you are interested in hosting then please let us know: info@westcolumbiagorgechamber.com or call# 503-669-7473! \nLocation & host to be announced…..
URL:https://westcolumbiagorgechamber.com/event/am-networking-event-10-3/
LOCATION:OR
CATEGORIES:AM Networkings,Events - Chamber
END:VEVENT
BEGIN:VEVENT
DTSTART;TZID=America/Los_Angeles:20180321T073000
DTEND;TZID=America/Los_Angeles:20180321T090000
DTSTAMP:20260424T155825
CREATED:20171010T195434Z
LAST-MODIFIED:20171010T195434Z
UID:5121-1521617400-1521622800@westcolumbiagorgechamber.com
SUMMARY:Morning Networking event at Gresham ReStore
DESCRIPTION:  \nGresham ReStore will be our host for March AM Networking \n610 NE 181st Ave\, Gresham\, OR 97230 \n (503) 575-7336 \n7:30am to 9am \n  \nThe Habitat for Humanity ReStore accepts donated new and used building materials\, furniture\, appliances\, lighting fixtures and other home goods\, and we sell them in our stores to raise money for Habitat home-building projects. In fact\, this past year we took in 40\,151 donations from individuals and business partners. \nOur stores in Portland\, Gresham\, Beaverton and Vancouver  support three Habitat affiliates: Portland/Metro East\, Willamette West\, and Evergreen. In the past three years\, we raised enough money to build  just under 40 Habitat homes in partnership with low-income families. \nThe ReStore is also big into reuse. Over the past three years  we diverted 17\,948 tons of reusable materials from landfills–and we’re working to improve that number. Our shoppers are some of the most creative on the planet. We love how they re-think\, re-imagine and re-invent with used materials. Of course we have to heap praise and appreciation on our generous donors and business partners and our amazing team of volunteers who clocked over 58\,000 hours this past year. Together we’re helping to make the dream of homeownership a reality for hardworking families right here. \n  \n  \n  \n  \nJoin us every 3rd Wednesday per month for a fun morning of networking with your fellow members and guests! \nOne of the benefits of your membership is participating in AM Networking Meetings\, either by attending or by hosting where you will rub elbows with some of the nicest business people in the West Columbia Gorge  at various business locations!  \nWhen you host an AM\, you are the focus of the morning\, and you get a chance to showcase your business establishment. When you attend an AM\, you have the opportunity to introduce yourself and your guest(s)\, as well as bring your best marketing materials to hand out. Announcement time allows you to tell the group what specials or other news you have to share. \nIf you are interested in hosting then please let us know: info@westcolumbiagorgechamber.com or call# 503-669-7473! \nLocation & host to be announced…..
URL:https://westcolumbiagorgechamber.com/event/am-networking-event-10/
LOCATION:OR
CATEGORIES:AM Networkings,Events - Chamber
END:VEVENT
BEGIN:VEVENT
DTSTART;TZID=America/Los_Angeles:20180321T073000
DTEND;TZID=America/Los_Angeles:20180321T090000
DTSTAMP:20260424T155825
CREATED:20171010T195434Z
LAST-MODIFIED:20171010T195434Z
UID:9502-1521617400-1521622800@westcolumbiagorgechamber.com
SUMMARY:Morning Networking event at Gresham ReStore
DESCRIPTION:  \nGresham ReStore will be our host for March AM Networking \n610 NE 181st Ave\, Gresham\, OR 97230 \n (503) 575-7336 \n7:30am to 9am \n  \nThe Habitat for Humanity ReStore accepts donated new and used building materials\, furniture\, appliances\, lighting fixtures and other home goods\, and we sell them in our stores to raise money for Habitat home-building projects. In fact\, this past year we took in 40\,151 donations from individuals and business partners. \nOur stores in Portland\, Gresham\, Beaverton and Vancouver  support three Habitat affiliates: Portland/Metro East\, Willamette West\, and Evergreen. In the past three years\, we raised enough money to build  just under 40 Habitat homes in partnership with low-income families. \nThe ReStore is also big into reuse. Over the past three years  we diverted 17\,948 tons of reusable materials from landfills–and we’re working to improve that number. Our shoppers are some of the most creative on the planet. We love how they re-think\, re-imagine and re-invent with used materials. Of course we have to heap praise and appreciation on our generous donors and business partners and our amazing team of volunteers who clocked over 58\,000 hours this past year. Together we’re helping to make the dream of homeownership a reality for hardworking families right here. \n  \n  \n  \n  \nJoin us every 3rd Wednesday per month for a fun morning of networking with your fellow members and guests! \nOne of the benefits of your membership is participating in AM Networking Meetings\, either by attending or by hosting where you will rub elbows with some of the nicest business people in the West Columbia Gorge  at various business locations!  \nWhen you host an AM\, you are the focus of the morning\, and you get a chance to showcase your business establishment. When you attend an AM\, you have the opportunity to introduce yourself and your guest(s)\, as well as bring your best marketing materials to hand out. Announcement time allows you to tell the group what specials or other news you have to share. \nIf you are interested in hosting then please let us know: info@westcolumbiagorgechamber.com or call# 503-669-7473! \nLocation & host to be announced…..
URL:https://westcolumbiagorgechamber.com/event/am-networking-event-10-4/
LOCATION:OR
CATEGORIES:AM Networkings,Events - Chamber
END:VEVENT
BEGIN:VEVENT
DTSTART;TZID=America/Los_Angeles:20180321T073000
DTEND;TZID=America/Los_Angeles:20180321T090000
DTSTAMP:20260424T155825
CREATED:20171010T195434Z
LAST-MODIFIED:20171010T195434Z
UID:8712-1521617400-1521622800@westcolumbiagorgechamber.com
SUMMARY:Morning Networking event at Gresham ReStore
DESCRIPTION:  \nGresham ReStore will be our host for March AM Networking \n610 NE 181st Ave\, Gresham\, OR 97230 \n (503) 575-7336 \n7:30am to 9am \n  \nThe Habitat for Humanity ReStore accepts donated new and used building materials\, furniture\, appliances\, lighting fixtures and other home goods\, and we sell them in our stores to raise money for Habitat home-building projects. In fact\, this past year we took in 40\,151 donations from individuals and business partners. \nOur stores in Portland\, Gresham\, Beaverton and Vancouver  support three Habitat affiliates: Portland/Metro East\, Willamette West\, and Evergreen. In the past three years\, we raised enough money to build  just under 40 Habitat homes in partnership with low-income families. \nThe ReStore is also big into reuse. Over the past three years  we diverted 17\,948 tons of reusable materials from landfills–and we’re working to improve that number. Our shoppers are some of the most creative on the planet. We love how they re-think\, re-imagine and re-invent with used materials. Of course we have to heap praise and appreciation on our generous donors and business partners and our amazing team of volunteers who clocked over 58\,000 hours this past year. Together we’re helping to make the dream of homeownership a reality for hardworking families right here. \n  \n  \n  \n  \nJoin us every 3rd Wednesday per month for a fun morning of networking with your fellow members and guests! \nOne of the benefits of your membership is participating in AM Networking Meetings\, either by attending or by hosting where you will rub elbows with some of the nicest business people in the West Columbia Gorge  at various business locations!  \nWhen you host an AM\, you are the focus of the morning\, and you get a chance to showcase your business establishment. When you attend an AM\, you have the opportunity to introduce yourself and your guest(s)\, as well as bring your best marketing materials to hand out. Announcement time allows you to tell the group what specials or other news you have to share. \nIf you are interested in hosting then please let us know: info@westcolumbiagorgechamber.com or call# 503-669-7473! \nLocation & host to be announced…..
URL:https://westcolumbiagorgechamber.com/event/am-networking-event-10-2/
LOCATION:OR
CATEGORIES:AM Networkings,Events - Chamber
END:VEVENT
END:VCALENDAR