BEGIN:VCALENDAR
VERSION:2.0
PRODID:-//West Columbia Gorge Chamber of Commerce - ECPv6.15.20//NONSGML v1.0//EN
CALSCALE:GREGORIAN
METHOD:PUBLISH
X-ORIGINAL-URL:https://westcolumbiagorgechamber.com
X-WR-CALDESC:Events for West Columbia Gorge Chamber of Commerce
REFRESH-INTERVAL;VALUE=DURATION:PT1H
X-Robots-Tag:noindex
X-PUBLISHED-TTL:PT1H
BEGIN:VTIMEZONE
TZID:America/Los_Angeles
BEGIN:DAYLIGHT
TZOFFSETFROM:-0800
TZOFFSETTO:-0700
TZNAME:PDT
DTSTART:20200308T100000
END:DAYLIGHT
BEGIN:STANDARD
TZOFFSETFROM:-0700
TZOFFSETTO:-0800
TZNAME:PST
DTSTART:20201101T090000
END:STANDARD
BEGIN:DAYLIGHT
TZOFFSETFROM:-0800
TZOFFSETTO:-0700
TZNAME:PDT
DTSTART:20210314T100000
END:DAYLIGHT
BEGIN:STANDARD
TZOFFSETFROM:-0700
TZOFFSETTO:-0800
TZNAME:PST
DTSTART:20211107T090000
END:STANDARD
BEGIN:DAYLIGHT
TZOFFSETFROM:-0800
TZOFFSETTO:-0700
TZNAME:PDT
DTSTART:20220313T100000
END:DAYLIGHT
BEGIN:STANDARD
TZOFFSETFROM:-0700
TZOFFSETTO:-0800
TZNAME:PST
DTSTART:20221106T090000
END:STANDARD
END:VTIMEZONE
BEGIN:VEVENT
DTSTART;VALUE=DATE:20211124
DTEND;VALUE=DATE:20211125
DTSTAMP:20260421T014817
CREATED:20211103T231812Z
LAST-MODIFIED:20211103T231812Z
UID:8297-1637712000-1637798399@westcolumbiagorgechamber.com
SUMMARY:No Coffee Chat (Thanksgiving Holiday)
DESCRIPTION:
URL:https://westcolumbiagorgechamber.com/event/no-coffee-chat-thanksgiving-holiday/
LOCATION:OR
CATEGORIES:Chamber Zoom Coffee Chats
END:VEVENT
BEGIN:VEVENT
DTSTART;VALUE=DATE:20211124
DTEND;VALUE=DATE:20211125
DTSTAMP:20260421T014817
CREATED:20211103T231812Z
LAST-MODIFIED:20211103T231812Z
UID:9642-1637712000-1637798399@westcolumbiagorgechamber.com
SUMMARY:No Coffee Chat (Thanksgiving Holiday)
DESCRIPTION:
URL:https://westcolumbiagorgechamber.com/event/no-coffee-chat-thanksgiving-holiday-3/
LOCATION:OR
CATEGORIES:Chamber Zoom Coffee Chats
END:VEVENT
BEGIN:VEVENT
DTSTART;VALUE=DATE:20211124
DTEND;VALUE=DATE:20211125
DTSTAMP:20260421T014817
CREATED:20211103T231812Z
LAST-MODIFIED:20211103T231812Z
UID:9907-1637712000-1637798399@westcolumbiagorgechamber.com
SUMMARY:No Coffee Chat (Thanksgiving Holiday)
DESCRIPTION:
URL:https://westcolumbiagorgechamber.com/event/no-coffee-chat-thanksgiving-holiday-4/
LOCATION:OR
CATEGORIES:Chamber Zoom Coffee Chats
END:VEVENT
BEGIN:VEVENT
DTSTART;VALUE=DATE:20211124
DTEND;VALUE=DATE:20211125
DTSTAMP:20260421T014817
CREATED:20211103T231812Z
LAST-MODIFIED:20211103T231812Z
UID:8271-1637712000-1637798399@westcolumbiagorgechamber.com
SUMMARY:No Coffee Chat (Thanksgiving Holiday)
DESCRIPTION:
URL:https://westcolumbiagorgechamber.com/event/no-coffee-chat-thanksgiving-holiday-2/
LOCATION:OR
CATEGORIES:Chamber Zoom Coffee Chats
END:VEVENT
END:VCALENDAR