BEGIN:VCALENDAR
VERSION:2.0
PRODID:-//West Columbia Gorge Chamber of Commerce - ECPv6.15.20//NONSGML v1.0//EN
CALSCALE:GREGORIAN
METHOD:PUBLISH
X-ORIGINAL-URL:https://westcolumbiagorgechamber.com
X-WR-CALDESC:Events for West Columbia Gorge Chamber of Commerce
REFRESH-INTERVAL;VALUE=DURATION:PT1H
X-Robots-Tag:noindex
X-PUBLISHED-TTL:PT1H
BEGIN:VTIMEZONE
TZID:America/Los_Angeles
BEGIN:DAYLIGHT
TZOFFSETFROM:-0800
TZOFFSETTO:-0700
TZNAME:PDT
DTSTART:20200308T100000
END:DAYLIGHT
BEGIN:STANDARD
TZOFFSETFROM:-0700
TZOFFSETTO:-0800
TZNAME:PST
DTSTART:20201101T090000
END:STANDARD
BEGIN:DAYLIGHT
TZOFFSETFROM:-0800
TZOFFSETTO:-0700
TZNAME:PDT
DTSTART:20210314T100000
END:DAYLIGHT
BEGIN:STANDARD
TZOFFSETFROM:-0700
TZOFFSETTO:-0800
TZNAME:PST
DTSTART:20211107T090000
END:STANDARD
BEGIN:DAYLIGHT
TZOFFSETFROM:-0800
TZOFFSETTO:-0700
TZNAME:PDT
DTSTART:20220313T100000
END:DAYLIGHT
BEGIN:STANDARD
TZOFFSETFROM:-0700
TZOFFSETTO:-0800
TZNAME:PST
DTSTART:20221106T090000
END:STANDARD
END:VTIMEZONE
BEGIN:VEVENT
DTSTART;TZID=America/Los_Angeles:20210609T080000
DTEND;TZID=America/Los_Angeles:20210609T084500
DTSTAMP:20260421T083400
CREATED:20210407T220332Z
LAST-MODIFIED:20210407T220332Z
UID:7761-1623225600-1623228300@westcolumbiagorgechamber.com
SUMMARY:Zoom Coffee Chat with Peggy Olin of the East County Historical Organization
DESCRIPTION:Come and hear all about the Zimmerman and Heslin Houses which are under the East County Historical Organization.  This organization just recently joined the Chamber and we welcome them!! \nEast County Historical Society has several properties under its umbrella. Come learn about the history of Fairview and about our roots as a community. These homes have been preserved in their entirety from time pieces to architecture. Learn how to schedule a tour of these amazing homes. This will be a fun and informative meeting so share this with your friends and fellow businesses. This is a community zoom meeting. \nChamber Admin is inviting you to a scheduled Zoom meeting.\n \nTopic: Chamber Chat\nTime: Jun 9\, 2021 08:00 AM Pacific Time (US and Canada)\n    Every week on Wed\, 7 occurrence(s)\n    Jun 9\, 2021 08:00 AM\n    Jun 16\, 2021 08:00 AM\n    Jun 23\, 2021 08:00 AM\n    Jun 30\, 2021 08:00 AM\n    Jul 7\, 2021 08:00 AM\n    Jul 14\, 2021 08:00 AM\n    Jul 21\, 2021 08:00 AM\nPlease download and import the following iCalendar (.ics) files to your calendar system.\nWeekly: https://us02web.zoom.us/meeting/tZUtd-iuqD8qEtNZ1AWzu5zzVEjJo83PiFC6/ics?icsToken=98tyKuGprjsrHNKRsBGARpwcAoigd-7wpilfj7dzpk7ENDpGNxnsAMdIGL0nQ-jZ\n \nJoin Zoom Meeting\nhttps://us02web.zoom.us/j/81001664087?pwd=WVppdHF5NDlPajdFK2xWL0Z0MjFBZz09\n \nMeeting ID: 810 0166 4087\nPasscode: 604632\nOne tap mobile\n+13462487799\,\,81001664087#\,\,\,\,*604632# US (Houston)\n+16699006833\,\,81001664087#\,\,\,\,*604632# US (San Jose)\n \nDial by your location\n    +1 346 248 7799 US (Houston)\n    +1 669 900 6833 US (San Jose)\n    +1 253 215 8782 US (Tacoma)\n    +1 312 626 6799 US (Chicago)\n    +1 929 436 2866 US (New York)\n    +1 301 715 8592 US (Washington DC)\nMeeting ID: 810 0166 4087\nPasscode: 604632\nFind your local number: https://us02web.zoom.us/u/kbtIRfvatU
URL:https://westcolumbiagorgechamber.com/event/zoom-coffee-chat-with-peggy-olin-of-the-east-county-historical-organization/
LOCATION:OR
CATEGORIES:Chamber Meetings,Chamber Zoom Coffee Chats
END:VEVENT
BEGIN:VEVENT
DTSTART;TZID=America/Los_Angeles:20210609T080000
DTEND;TZID=America/Los_Angeles:20210609T084500
DTSTAMP:20260421T083400
CREATED:20210407T220332Z
LAST-MODIFIED:20210407T220332Z
UID:9453-1623225600-1623228300@westcolumbiagorgechamber.com
SUMMARY:Zoom Coffee Chat with Peggy Olin of the East County Historical Organization
DESCRIPTION:Come and hear all about the Zimmerman and Heslin Houses which are under the East County Historical Organization.  This organization just recently joined the Chamber and we welcome them!! \nEast County Historical Society has several properties under its umbrella. Come learn about the history of Fairview and about our roots as a community. These homes have been preserved in their entirety from time pieces to architecture. Learn how to schedule a tour of these amazing homes. This will be a fun and informative meeting so share this with your friends and fellow businesses. This is a community zoom meeting. \nChamber Admin is inviting you to a scheduled Zoom meeting.\n \nTopic: Chamber Chat\nTime: Jun 9\, 2021 08:00 AM Pacific Time (US and Canada)\n    Every week on Wed\, 7 occurrence(s)\n    Jun 9\, 2021 08:00 AM\n    Jun 16\, 2021 08:00 AM\n    Jun 23\, 2021 08:00 AM\n    Jun 30\, 2021 08:00 AM\n    Jul 7\, 2021 08:00 AM\n    Jul 14\, 2021 08:00 AM\n    Jul 21\, 2021 08:00 AM\nPlease download and import the following iCalendar (.ics) files to your calendar system.\nWeekly: https://us02web.zoom.us/meeting/tZUtd-iuqD8qEtNZ1AWzu5zzVEjJo83PiFC6/ics?icsToken=98tyKuGprjsrHNKRsBGARpwcAoigd-7wpilfj7dzpk7ENDpGNxnsAMdIGL0nQ-jZ\n \nJoin Zoom Meeting\nhttps://us02web.zoom.us/j/81001664087?pwd=WVppdHF5NDlPajdFK2xWL0Z0MjFBZz09\n \nMeeting ID: 810 0166 4087\nPasscode: 604632\nOne tap mobile\n+13462487799\,\,81001664087#\,\,\,\,*604632# US (Houston)\n+16699006833\,\,81001664087#\,\,\,\,*604632# US (San Jose)\n \nDial by your location\n    +1 346 248 7799 US (Houston)\n    +1 669 900 6833 US (San Jose)\n    +1 253 215 8782 US (Tacoma)\n    +1 312 626 6799 US (Chicago)\n    +1 929 436 2866 US (New York)\n    +1 301 715 8592 US (Washington DC)\nMeeting ID: 810 0166 4087\nPasscode: 604632\nFind your local number: https://us02web.zoom.us/u/kbtIRfvatU
URL:https://westcolumbiagorgechamber.com/event/zoom-coffee-chat-with-peggy-olin-of-the-east-county-historical-organization-2/
LOCATION:OR
CATEGORIES:Chamber Meetings,Chamber Zoom Coffee Chats
END:VEVENT
BEGIN:VEVENT
DTSTART;TZID=America/Los_Angeles:20210609T080000
DTEND;TZID=America/Los_Angeles:20210609T084500
DTSTAMP:20260421T083400
CREATED:20210407T220332Z
LAST-MODIFIED:20210407T220332Z
UID:9486-1623225600-1623228300@westcolumbiagorgechamber.com
SUMMARY:Zoom Coffee Chat with Peggy Olin of the East County Historical Organization
DESCRIPTION:Come and hear all about the Zimmerman and Heslin Houses which are under the East County Historical Organization.  This organization just recently joined the Chamber and we welcome them!! \nEast County Historical Society has several properties under its umbrella. Come learn about the history of Fairview and about our roots as a community. These homes have been preserved in their entirety from time pieces to architecture. Learn how to schedule a tour of these amazing homes. This will be a fun and informative meeting so share this with your friends and fellow businesses. This is a community zoom meeting. \nChamber Admin is inviting you to a scheduled Zoom meeting.\n \nTopic: Chamber Chat\nTime: Jun 9\, 2021 08:00 AM Pacific Time (US and Canada)\n    Every week on Wed\, 7 occurrence(s)\n    Jun 9\, 2021 08:00 AM\n    Jun 16\, 2021 08:00 AM\n    Jun 23\, 2021 08:00 AM\n    Jun 30\, 2021 08:00 AM\n    Jul 7\, 2021 08:00 AM\n    Jul 14\, 2021 08:00 AM\n    Jul 21\, 2021 08:00 AM\nPlease download and import the following iCalendar (.ics) files to your calendar system.\nWeekly: https://us02web.zoom.us/meeting/tZUtd-iuqD8qEtNZ1AWzu5zzVEjJo83PiFC6/ics?icsToken=98tyKuGprjsrHNKRsBGARpwcAoigd-7wpilfj7dzpk7ENDpGNxnsAMdIGL0nQ-jZ\n \nJoin Zoom Meeting\nhttps://us02web.zoom.us/j/81001664087?pwd=WVppdHF5NDlPajdFK2xWL0Z0MjFBZz09\n \nMeeting ID: 810 0166 4087\nPasscode: 604632\nOne tap mobile\n+13462487799\,\,81001664087#\,\,\,\,*604632# US (Houston)\n+16699006833\,\,81001664087#\,\,\,\,*604632# US (San Jose)\n \nDial by your location\n    +1 346 248 7799 US (Houston)\n    +1 669 900 6833 US (San Jose)\n    +1 253 215 8782 US (Tacoma)\n    +1 312 626 6799 US (Chicago)\n    +1 929 436 2866 US (New York)\n    +1 301 715 8592 US (Washington DC)\nMeeting ID: 810 0166 4087\nPasscode: 604632\nFind your local number: https://us02web.zoom.us/u/kbtIRfvatU
URL:https://westcolumbiagorgechamber.com/event/zoom-coffee-chat-with-peggy-olin-of-the-east-county-historical-organization-3/
LOCATION:OR
CATEGORIES:Chamber Meetings,Chamber Zoom Coffee Chats
END:VEVENT
BEGIN:VEVENT
DTSTART;TZID=America/Los_Angeles:20210609T080000
DTEND;TZID=America/Los_Angeles:20210609T084500
DTSTAMP:20260421T083400
CREATED:20210407T220332Z
LAST-MODIFIED:20210407T220332Z
UID:9854-1623225600-1623228300@westcolumbiagorgechamber.com
SUMMARY:Zoom Coffee Chat with Peggy Olin of the East County Historical Organization
DESCRIPTION:Come and hear all about the Zimmerman and Heslin Houses which are under the East County Historical Organization.  This organization just recently joined the Chamber and we welcome them!! \nEast County Historical Society has several properties under its umbrella. Come learn about the history of Fairview and about our roots as a community. These homes have been preserved in their entirety from time pieces to architecture. Learn how to schedule a tour of these amazing homes. This will be a fun and informative meeting so share this with your friends and fellow businesses. This is a community zoom meeting. \nChamber Admin is inviting you to a scheduled Zoom meeting.\n \nTopic: Chamber Chat\nTime: Jun 9\, 2021 08:00 AM Pacific Time (US and Canada)\n    Every week on Wed\, 7 occurrence(s)\n    Jun 9\, 2021 08:00 AM\n    Jun 16\, 2021 08:00 AM\n    Jun 23\, 2021 08:00 AM\n    Jun 30\, 2021 08:00 AM\n    Jul 7\, 2021 08:00 AM\n    Jul 14\, 2021 08:00 AM\n    Jul 21\, 2021 08:00 AM\nPlease download and import the following iCalendar (.ics) files to your calendar system.\nWeekly: https://us02web.zoom.us/meeting/tZUtd-iuqD8qEtNZ1AWzu5zzVEjJo83PiFC6/ics?icsToken=98tyKuGprjsrHNKRsBGARpwcAoigd-7wpilfj7dzpk7ENDpGNxnsAMdIGL0nQ-jZ\n \nJoin Zoom Meeting\nhttps://us02web.zoom.us/j/81001664087?pwd=WVppdHF5NDlPajdFK2xWL0Z0MjFBZz09\n \nMeeting ID: 810 0166 4087\nPasscode: 604632\nOne tap mobile\n+13462487799\,\,81001664087#\,\,\,\,*604632# US (Houston)\n+16699006833\,\,81001664087#\,\,\,\,*604632# US (San Jose)\n \nDial by your location\n    +1 346 248 7799 US (Houston)\n    +1 669 900 6833 US (San Jose)\n    +1 253 215 8782 US (Tacoma)\n    +1 312 626 6799 US (Chicago)\n    +1 929 436 2866 US (New York)\n    +1 301 715 8592 US (Washington DC)\nMeeting ID: 810 0166 4087\nPasscode: 604632\nFind your local number: https://us02web.zoom.us/u/kbtIRfvatU
URL:https://westcolumbiagorgechamber.com/event/zoom-coffee-chat-with-peggy-olin-of-the-east-county-historical-organization-4/
LOCATION:OR
CATEGORIES:Chamber Meetings,Chamber Zoom Coffee Chats
END:VEVENT
END:VCALENDAR