BEGIN:VCALENDAR
VERSION:2.0
PRODID:-//West Columbia Gorge Chamber of Commerce - ECPv6.15.20//NONSGML v1.0//EN
CALSCALE:GREGORIAN
METHOD:PUBLISH
X-WR-CALNAME:West Columbia Gorge Chamber of Commerce
X-ORIGINAL-URL:https://westcolumbiagorgechamber.com
X-WR-CALDESC:Events for West Columbia Gorge Chamber of Commerce
REFRESH-INTERVAL;VALUE=DURATION:PT1H
X-Robots-Tag:noindex
X-PUBLISHED-TTL:PT1H
BEGIN:VTIMEZONE
TZID:America/Los_Angeles
BEGIN:DAYLIGHT
TZOFFSETFROM:-0800
TZOFFSETTO:-0700
TZNAME:PDT
DTSTART:20200308T100000
END:DAYLIGHT
BEGIN:STANDARD
TZOFFSETFROM:-0700
TZOFFSETTO:-0800
TZNAME:PST
DTSTART:20201101T090000
END:STANDARD
BEGIN:DAYLIGHT
TZOFFSETFROM:-0800
TZOFFSETTO:-0700
TZNAME:PDT
DTSTART:20210314T100000
END:DAYLIGHT
BEGIN:STANDARD
TZOFFSETFROM:-0700
TZOFFSETTO:-0800
TZNAME:PST
DTSTART:20211107T090000
END:STANDARD
BEGIN:DAYLIGHT
TZOFFSETFROM:-0800
TZOFFSETTO:-0700
TZNAME:PDT
DTSTART:20220313T100000
END:DAYLIGHT
BEGIN:STANDARD
TZOFFSETFROM:-0700
TZOFFSETTO:-0800
TZNAME:PST
DTSTART:20221106T090000
END:STANDARD
END:VTIMEZONE
BEGIN:VEVENT
DTSTART;TZID=America/Los_Angeles:20210421T080000
DTEND;TZID=America/Los_Angeles:20210421T084500
DTSTAMP:20260421T123304
CREATED:20210216T232536Z
LAST-MODIFIED:20210216T232536Z
UID:9847-1618992000-1618994700@westcolumbiagorgechamber.com
SUMMARY:Zoom Coffee Chat with Bailey Lalum of Cherry Park Plaza Senior Living Community
DESCRIPTION: \n \nCome hear Bailey Lalum of Cherry Park Plaza Senior Living Community speak about senior living in this age of Covid 19. What is it like to run a facility that needs to protect it’s residents? Cherry Park Plaza is a complete solution for your loved ones. Parents or independent Seniors need a place that can change their care level to meet the needs of it’s residents. Cherry Park Plaza is that kind of place.\n \n \n \nChamber Admin is inviting you to a scheduled Zoom meeting.\n \nTopic: Chamber Chat\nTime: Apr 21\, 2021 08:00 AM Pacific Time (US and Canada)\n    Apr 21\, 2021 08:00 AM\n    Apr 28\, 2021 08:00 AM\nPlease download and import the following iCalendar (.ics) files to your calendar system.\nWeekly: https://us02web.zoom.us/meeting/tZIscuCsrzwiE9ZN_nXXCiRYfJ07TMZnpoDi/ics?icsToken=98tyKuGurz4jHtWSuBCFRpwABY_4XejzmGZHj_pnsiDrOxhwazHPMMgSZYZSKtbA\n \nJoin Zoom Meeting\nhttps://us02web.zoom.us/j/86159417892?pwd=VzlNUXgvRHNoSTd2VHRxWllpTzB2Zz09\n \nMeeting ID: 861 5941 7892\nPasscode: 656994\nOne tap mobile\n+12532158782\,\,86159417892#\,\,\,\,*656994# US (Tacoma)\n+13462487799\,\,86159417892#\,\,\,\,*656994# US (Houston)\n \nDial by your location\n    +1 253 215 8782 US (Tacoma)\n    +1 346 248 7799 US (Houston)\n    +1 669 900 6833 US (San Jose)\n    +1 301 715 8592 US (Washington DC)\n    +1 312 626 6799 US (Chicago)\n    +1 929 436 2866 US (New York)\nMeeting ID: 861 5941 7892\nPasscode: 656994\nFind your local number: https://us02web.zoom.us/u/kc0YUx9UW\n 
URL:https://westcolumbiagorgechamber.com/event/zoom-coffee-chat-with-bailey-lalum-of-cherry-park-plaza-senior-living-community-tentative-4/
LOCATION:OR
CATEGORIES:Chamber Zoom Coffee Chats
END:VEVENT
BEGIN:VEVENT
DTSTART;TZID=America/Los_Angeles:20210421T080000
DTEND;TZID=America/Los_Angeles:20210421T084500
DTSTAMP:20260421T123304
CREATED:20210216T232536Z
LAST-MODIFIED:20210216T232536Z
UID:7623-1618992000-1618994700@westcolumbiagorgechamber.com
SUMMARY:Zoom Coffee Chat with Bailey Lalum of Cherry Park Plaza Senior Living Community
DESCRIPTION: \n \nCome hear Bailey Lalum of Cherry Park Plaza Senior Living Community speak about senior living in this age of Covid 19. What is it like to run a facility that needs to protect it’s residents? Cherry Park Plaza is a complete solution for your loved ones. Parents or independent Seniors need a place that can change their care level to meet the needs of it’s residents. Cherry Park Plaza is that kind of place.\n \n \n \nChamber Admin is inviting you to a scheduled Zoom meeting.\n \nTopic: Chamber Chat\nTime: Apr 21\, 2021 08:00 AM Pacific Time (US and Canada)\n    Apr 21\, 2021 08:00 AM\n    Apr 28\, 2021 08:00 AM\nPlease download and import the following iCalendar (.ics) files to your calendar system.\nWeekly: https://us02web.zoom.us/meeting/tZIscuCsrzwiE9ZN_nXXCiRYfJ07TMZnpoDi/ics?icsToken=98tyKuGurz4jHtWSuBCFRpwABY_4XejzmGZHj_pnsiDrOxhwazHPMMgSZYZSKtbA\n \nJoin Zoom Meeting\nhttps://us02web.zoom.us/j/86159417892?pwd=VzlNUXgvRHNoSTd2VHRxWllpTzB2Zz09\n \nMeeting ID: 861 5941 7892\nPasscode: 656994\nOne tap mobile\n+12532158782\,\,86159417892#\,\,\,\,*656994# US (Tacoma)\n+13462487799\,\,86159417892#\,\,\,\,*656994# US (Houston)\n \nDial by your location\n    +1 253 215 8782 US (Tacoma)\n    +1 346 248 7799 US (Houston)\n    +1 669 900 6833 US (San Jose)\n    +1 301 715 8592 US (Washington DC)\n    +1 312 626 6799 US (Chicago)\n    +1 929 436 2866 US (New York)\nMeeting ID: 861 5941 7892\nPasscode: 656994\nFind your local number: https://us02web.zoom.us/u/kc0YUx9UW\n 
URL:https://westcolumbiagorgechamber.com/event/zoom-coffee-chat-with-bailey-lalum-of-cherry-park-plaza-senior-living-community-tentative/
LOCATION:OR
CATEGORIES:Chamber Zoom Coffee Chats
END:VEVENT
BEGIN:VEVENT
DTSTART;TZID=America/Los_Angeles:20210421T080000
DTEND;TZID=America/Los_Angeles:20210421T084500
DTSTAMP:20260421T123304
CREATED:20210216T232536Z
LAST-MODIFIED:20210216T232536Z
UID:9431-1618992000-1618994700@westcolumbiagorgechamber.com
SUMMARY:Zoom Coffee Chat with Bailey Lalum of Cherry Park Plaza Senior Living Community
DESCRIPTION: \n \nCome hear Bailey Lalum of Cherry Park Plaza Senior Living Community speak about senior living in this age of Covid 19. What is it like to run a facility that needs to protect it’s residents? Cherry Park Plaza is a complete solution for your loved ones. Parents or independent Seniors need a place that can change their care level to meet the needs of it’s residents. Cherry Park Plaza is that kind of place.\n \n \n \nChamber Admin is inviting you to a scheduled Zoom meeting.\n \nTopic: Chamber Chat\nTime: Apr 21\, 2021 08:00 AM Pacific Time (US and Canada)\n    Apr 21\, 2021 08:00 AM\n    Apr 28\, 2021 08:00 AM\nPlease download and import the following iCalendar (.ics) files to your calendar system.\nWeekly: https://us02web.zoom.us/meeting/tZIscuCsrzwiE9ZN_nXXCiRYfJ07TMZnpoDi/ics?icsToken=98tyKuGurz4jHtWSuBCFRpwABY_4XejzmGZHj_pnsiDrOxhwazHPMMgSZYZSKtbA\n \nJoin Zoom Meeting\nhttps://us02web.zoom.us/j/86159417892?pwd=VzlNUXgvRHNoSTd2VHRxWllpTzB2Zz09\n \nMeeting ID: 861 5941 7892\nPasscode: 656994\nOne tap mobile\n+12532158782\,\,86159417892#\,\,\,\,*656994# US (Tacoma)\n+13462487799\,\,86159417892#\,\,\,\,*656994# US (Houston)\n \nDial by your location\n    +1 253 215 8782 US (Tacoma)\n    +1 346 248 7799 US (Houston)\n    +1 669 900 6833 US (San Jose)\n    +1 301 715 8592 US (Washington DC)\n    +1 312 626 6799 US (Chicago)\n    +1 929 436 2866 US (New York)\nMeeting ID: 861 5941 7892\nPasscode: 656994\nFind your local number: https://us02web.zoom.us/u/kc0YUx9UW\n 
URL:https://westcolumbiagorgechamber.com/event/zoom-coffee-chat-with-bailey-lalum-of-cherry-park-plaza-senior-living-community-tentative-2/
LOCATION:OR
CATEGORIES:Chamber Zoom Coffee Chats
END:VEVENT
BEGIN:VEVENT
DTSTART;TZID=America/Los_Angeles:20210421T080000
DTEND;TZID=America/Los_Angeles:20210421T084500
DTSTAMP:20260421T123304
CREATED:20210216T232536Z
LAST-MODIFIED:20210216T232536Z
UID:9463-1618992000-1618994700@westcolumbiagorgechamber.com
SUMMARY:Zoom Coffee Chat with Bailey Lalum of Cherry Park Plaza Senior Living Community
DESCRIPTION: \n \nCome hear Bailey Lalum of Cherry Park Plaza Senior Living Community speak about senior living in this age of Covid 19. What is it like to run a facility that needs to protect it’s residents? Cherry Park Plaza is a complete solution for your loved ones. Parents or independent Seniors need a place that can change their care level to meet the needs of it’s residents. Cherry Park Plaza is that kind of place.\n \n \n \nChamber Admin is inviting you to a scheduled Zoom meeting.\n \nTopic: Chamber Chat\nTime: Apr 21\, 2021 08:00 AM Pacific Time (US and Canada)\n    Apr 21\, 2021 08:00 AM\n    Apr 28\, 2021 08:00 AM\nPlease download and import the following iCalendar (.ics) files to your calendar system.\nWeekly: https://us02web.zoom.us/meeting/tZIscuCsrzwiE9ZN_nXXCiRYfJ07TMZnpoDi/ics?icsToken=98tyKuGurz4jHtWSuBCFRpwABY_4XejzmGZHj_pnsiDrOxhwazHPMMgSZYZSKtbA\n \nJoin Zoom Meeting\nhttps://us02web.zoom.us/j/86159417892?pwd=VzlNUXgvRHNoSTd2VHRxWllpTzB2Zz09\n \nMeeting ID: 861 5941 7892\nPasscode: 656994\nOne tap mobile\n+12532158782\,\,86159417892#\,\,\,\,*656994# US (Tacoma)\n+13462487799\,\,86159417892#\,\,\,\,*656994# US (Houston)\n \nDial by your location\n    +1 253 215 8782 US (Tacoma)\n    +1 346 248 7799 US (Houston)\n    +1 669 900 6833 US (San Jose)\n    +1 301 715 8592 US (Washington DC)\n    +1 312 626 6799 US (Chicago)\n    +1 929 436 2866 US (New York)\nMeeting ID: 861 5941 7892\nPasscode: 656994\nFind your local number: https://us02web.zoom.us/u/kc0YUx9UW\n 
URL:https://westcolumbiagorgechamber.com/event/zoom-coffee-chat-with-bailey-lalum-of-cherry-park-plaza-senior-living-community-tentative-3/
LOCATION:OR
CATEGORIES:Chamber Zoom Coffee Chats
END:VEVENT
END:VCALENDAR