BEGIN:VCALENDAR
VERSION:2.0
PRODID:-//West Columbia Gorge Chamber of Commerce - ECPv6.15.20//NONSGML v1.0//EN
CALSCALE:GREGORIAN
METHOD:PUBLISH
X-ORIGINAL-URL:https://westcolumbiagorgechamber.com
X-WR-CALDESC:Events for West Columbia Gorge Chamber of Commerce
REFRESH-INTERVAL;VALUE=DURATION:PT1H
X-Robots-Tag:noindex
X-PUBLISHED-TTL:PT1H
BEGIN:VTIMEZONE
TZID:America/Los_Angeles
BEGIN:DAYLIGHT
TZOFFSETFROM:-0800
TZOFFSETTO:-0700
TZNAME:PDT
DTSTART:20200308T100000
END:DAYLIGHT
BEGIN:STANDARD
TZOFFSETFROM:-0700
TZOFFSETTO:-0800
TZNAME:PST
DTSTART:20201101T090000
END:STANDARD
BEGIN:DAYLIGHT
TZOFFSETFROM:-0800
TZOFFSETTO:-0700
TZNAME:PDT
DTSTART:20210314T100000
END:DAYLIGHT
BEGIN:STANDARD
TZOFFSETFROM:-0700
TZOFFSETTO:-0800
TZNAME:PST
DTSTART:20211107T090000
END:STANDARD
BEGIN:DAYLIGHT
TZOFFSETFROM:-0800
TZOFFSETTO:-0700
TZNAME:PDT
DTSTART:20220313T100000
END:DAYLIGHT
BEGIN:STANDARD
TZOFFSETFROM:-0700
TZOFFSETTO:-0800
TZNAME:PST
DTSTART:20221106T090000
END:STANDARD
END:VTIMEZONE
BEGIN:VEVENT
DTSTART;TZID=America/Los_Angeles:20210407T080000
DTEND;TZID=America/Los_Angeles:20210407T084500
DTSTAMP:20260421T123728
CREATED:20210204T163507Z
LAST-MODIFIED:20210204T163507Z
UID:9425-1617782400-1617785100@westcolumbiagorgechamber.com
SUMMARY:Zoom Coffee Chat with Amy Byers\, Manager of Motel 6
DESCRIPTION:Come listen to Amy Byers\, Manager of Motel 6\, talk about the latest with Motel 6\, updates on the surrounding property near the motel\, the hospitality rebound for 2021\,  and how they are dealing with the COVID guidelines and more. \nChamber Admin is inviting you to a scheduled Zoom meeting.\n \nTopic: Chamber Chat\nTime: Apr 7\, 2021 08:00 AM Pacific Time (US and Canada)\n    Apr 7\, 2021 08:00 AM\n    Apr 14\, 2021 08:00 AM\n    Apr 21\, 2021 08:00 AM\n    Apr 28\, 2021 08:00 AM\nPlease download and import the following iCalendar (.ics) files to your calendar system.\nWeekly: https://us02web.zoom.us/meeting/tZIscuCsrzwiE9ZN_nXXCiRYfJ07TMZnpoDi/ics?icsToken=98tyKuGurz4jHtWSuBCFRpwABY_4XejzmGZHj_pnsiDrOxhwazHPMMgSZYZSKtbA\n \nJoin Zoom Meeting\nhttps://us02web.zoom.us/j/86159417892?pwd=VzlNUXgvRHNoSTd2VHRxWllpTzB2Zz09\n \nMeeting ID: 861 5941 7892\nPasscode: 656994\nOne tap mobile\n+12532158782\,\,86159417892#\,\,\,\,*656994# US (Tacoma)\n+13462487799\,\,86159417892#\,\,\,\,*656994# US (Houston)\n \nDial by your location\n    +1 253 215 8782 US (Tacoma)\n    +1 346 248 7799 US (Houston)\n    +1 669 900 6833 US (San Jose)\n    +1 301 715 8592 US (Washington DC)\n    +1 312 626 6799 US (Chicago)\n    +1 929 436 2866 US (New York)\nMeeting ID: 861 5941 7892\nPasscode: 656994
URL:https://westcolumbiagorgechamber.com/event/zoom-coffee-chat-with-amy-byers-manager-of-motel-6-2/
LOCATION:OR
CATEGORIES:Chamber Zoom Coffee Chats
END:VEVENT
BEGIN:VEVENT
DTSTART;TZID=America/Los_Angeles:20210407T080000
DTEND;TZID=America/Los_Angeles:20210407T084500
DTSTAMP:20260421T123728
CREATED:20210204T163507Z
LAST-MODIFIED:20210204T163507Z
UID:9459-1617782400-1617785100@westcolumbiagorgechamber.com
SUMMARY:Zoom Coffee Chat with Amy Byers\, Manager of Motel 6
DESCRIPTION:Come listen to Amy Byers\, Manager of Motel 6\, talk about the latest with Motel 6\, updates on the surrounding property near the motel\, the hospitality rebound for 2021\,  and how they are dealing with the COVID guidelines and more. \nChamber Admin is inviting you to a scheduled Zoom meeting.\n \nTopic: Chamber Chat\nTime: Apr 7\, 2021 08:00 AM Pacific Time (US and Canada)\n    Apr 7\, 2021 08:00 AM\n    Apr 14\, 2021 08:00 AM\n    Apr 21\, 2021 08:00 AM\n    Apr 28\, 2021 08:00 AM\nPlease download and import the following iCalendar (.ics) files to your calendar system.\nWeekly: https://us02web.zoom.us/meeting/tZIscuCsrzwiE9ZN_nXXCiRYfJ07TMZnpoDi/ics?icsToken=98tyKuGurz4jHtWSuBCFRpwABY_4XejzmGZHj_pnsiDrOxhwazHPMMgSZYZSKtbA\n \nJoin Zoom Meeting\nhttps://us02web.zoom.us/j/86159417892?pwd=VzlNUXgvRHNoSTd2VHRxWllpTzB2Zz09\n \nMeeting ID: 861 5941 7892\nPasscode: 656994\nOne tap mobile\n+12532158782\,\,86159417892#\,\,\,\,*656994# US (Tacoma)\n+13462487799\,\,86159417892#\,\,\,\,*656994# US (Houston)\n \nDial by your location\n    +1 253 215 8782 US (Tacoma)\n    +1 346 248 7799 US (Houston)\n    +1 669 900 6833 US (San Jose)\n    +1 301 715 8592 US (Washington DC)\n    +1 312 626 6799 US (Chicago)\n    +1 929 436 2866 US (New York)\nMeeting ID: 861 5941 7892\nPasscode: 656994
URL:https://westcolumbiagorgechamber.com/event/zoom-coffee-chat-with-amy-byers-manager-of-motel-6-3/
LOCATION:OR
CATEGORIES:Chamber Zoom Coffee Chats
END:VEVENT
BEGIN:VEVENT
DTSTART;TZID=America/Los_Angeles:20210407T080000
DTEND;TZID=America/Los_Angeles:20210407T084500
DTSTAMP:20260421T123728
CREATED:20210204T163507Z
LAST-MODIFIED:20210204T163507Z
UID:9845-1617782400-1617785100@westcolumbiagorgechamber.com
SUMMARY:Zoom Coffee Chat with Amy Byers\, Manager of Motel 6
DESCRIPTION:Come listen to Amy Byers\, Manager of Motel 6\, talk about the latest with Motel 6\, updates on the surrounding property near the motel\, the hospitality rebound for 2021\,  and how they are dealing with the COVID guidelines and more. \nChamber Admin is inviting you to a scheduled Zoom meeting.\n \nTopic: Chamber Chat\nTime: Apr 7\, 2021 08:00 AM Pacific Time (US and Canada)\n    Apr 7\, 2021 08:00 AM\n    Apr 14\, 2021 08:00 AM\n    Apr 21\, 2021 08:00 AM\n    Apr 28\, 2021 08:00 AM\nPlease download and import the following iCalendar (.ics) files to your calendar system.\nWeekly: https://us02web.zoom.us/meeting/tZIscuCsrzwiE9ZN_nXXCiRYfJ07TMZnpoDi/ics?icsToken=98tyKuGurz4jHtWSuBCFRpwABY_4XejzmGZHj_pnsiDrOxhwazHPMMgSZYZSKtbA\n \nJoin Zoom Meeting\nhttps://us02web.zoom.us/j/86159417892?pwd=VzlNUXgvRHNoSTd2VHRxWllpTzB2Zz09\n \nMeeting ID: 861 5941 7892\nPasscode: 656994\nOne tap mobile\n+12532158782\,\,86159417892#\,\,\,\,*656994# US (Tacoma)\n+13462487799\,\,86159417892#\,\,\,\,*656994# US (Houston)\n \nDial by your location\n    +1 253 215 8782 US (Tacoma)\n    +1 346 248 7799 US (Houston)\n    +1 669 900 6833 US (San Jose)\n    +1 301 715 8592 US (Washington DC)\n    +1 312 626 6799 US (Chicago)\n    +1 929 436 2866 US (New York)\nMeeting ID: 861 5941 7892\nPasscode: 656994
URL:https://westcolumbiagorgechamber.com/event/zoom-coffee-chat-with-amy-byers-manager-of-motel-6-4/
LOCATION:OR
CATEGORIES:Chamber Zoom Coffee Chats
END:VEVENT
BEGIN:VEVENT
DTSTART;TZID=America/Los_Angeles:20210407T080000
DTEND;TZID=America/Los_Angeles:20210407T084500
DTSTAMP:20260421T123728
CREATED:20210204T163507Z
LAST-MODIFIED:20210204T163507Z
UID:7608-1617782400-1617785100@westcolumbiagorgechamber.com
SUMMARY:Zoom Coffee Chat with Amy Byers\, Manager of Motel 6
DESCRIPTION:Come listen to Amy Byers\, Manager of Motel 6\, talk about the latest with Motel 6\, updates on the surrounding property near the motel\, the hospitality rebound for 2021\,  and how they are dealing with the COVID guidelines and more. \nChamber Admin is inviting you to a scheduled Zoom meeting.\n \nTopic: Chamber Chat\nTime: Apr 7\, 2021 08:00 AM Pacific Time (US and Canada)\n    Apr 7\, 2021 08:00 AM\n    Apr 14\, 2021 08:00 AM\n    Apr 21\, 2021 08:00 AM\n    Apr 28\, 2021 08:00 AM\nPlease download and import the following iCalendar (.ics) files to your calendar system.\nWeekly: https://us02web.zoom.us/meeting/tZIscuCsrzwiE9ZN_nXXCiRYfJ07TMZnpoDi/ics?icsToken=98tyKuGurz4jHtWSuBCFRpwABY_4XejzmGZHj_pnsiDrOxhwazHPMMgSZYZSKtbA\n \nJoin Zoom Meeting\nhttps://us02web.zoom.us/j/86159417892?pwd=VzlNUXgvRHNoSTd2VHRxWllpTzB2Zz09\n \nMeeting ID: 861 5941 7892\nPasscode: 656994\nOne tap mobile\n+12532158782\,\,86159417892#\,\,\,\,*656994# US (Tacoma)\n+13462487799\,\,86159417892#\,\,\,\,*656994# US (Houston)\n \nDial by your location\n    +1 253 215 8782 US (Tacoma)\n    +1 346 248 7799 US (Houston)\n    +1 669 900 6833 US (San Jose)\n    +1 301 715 8592 US (Washington DC)\n    +1 312 626 6799 US (Chicago)\n    +1 929 436 2866 US (New York)\nMeeting ID: 861 5941 7892\nPasscode: 656994
URL:https://westcolumbiagorgechamber.com/event/zoom-coffee-chat-with-amy-byers-manager-of-motel-6/
LOCATION:OR
CATEGORIES:Chamber Zoom Coffee Chats
END:VEVENT
END:VCALENDAR