BEGIN:VCALENDAR
VERSION:2.0
PRODID:-//West Columbia Gorge Chamber of Commerce - ECPv6.15.20//NONSGML v1.0//EN
CALSCALE:GREGORIAN
METHOD:PUBLISH
X-ORIGINAL-URL:https://westcolumbiagorgechamber.com
X-WR-CALDESC:Events for West Columbia Gorge Chamber of Commerce
REFRESH-INTERVAL;VALUE=DURATION:PT1H
X-Robots-Tag:noindex
X-PUBLISHED-TTL:PT1H
BEGIN:VTIMEZONE
TZID:America/Los_Angeles
BEGIN:DAYLIGHT
TZOFFSETFROM:-0800
TZOFFSETTO:-0700
TZNAME:PDT
DTSTART:20200308T100000
END:DAYLIGHT
BEGIN:STANDARD
TZOFFSETFROM:-0700
TZOFFSETTO:-0800
TZNAME:PST
DTSTART:20201101T090000
END:STANDARD
BEGIN:DAYLIGHT
TZOFFSETFROM:-0800
TZOFFSETTO:-0700
TZNAME:PDT
DTSTART:20210314T100000
END:DAYLIGHT
BEGIN:STANDARD
TZOFFSETFROM:-0700
TZOFFSETTO:-0800
TZNAME:PST
DTSTART:20211107T090000
END:STANDARD
BEGIN:DAYLIGHT
TZOFFSETFROM:-0800
TZOFFSETTO:-0700
TZNAME:PDT
DTSTART:20220313T100000
END:DAYLIGHT
BEGIN:STANDARD
TZOFFSETFROM:-0700
TZOFFSETTO:-0800
TZNAME:PST
DTSTART:20221106T090000
END:STANDARD
END:VTIMEZONE
BEGIN:VEVENT
DTSTART;TZID=America/Los_Angeles:20210217T080000
DTEND;TZID=America/Los_Angeles:20210217T084500
DTSTAMP:20260421T152010
CREATED:20210113T224302Z
LAST-MODIFIED:20210113T224302Z
UID:9401-1613548800-1613551500@westcolumbiagorgechamber.com
SUMMARY:Chamber Coffee Chat with Guy Edwards & Brainjar Media
DESCRIPTION:ABOUT \nBrainjar Media is a digital marketing agency specializing in website SEO services and content marketing for social media. Located in Downtown Gresham\, we have over two decades of experience with a successful track record. Our work has been praised in the Wall Street Journal\, Barrion’s Magazine and the Portland Tribune. We have worked for some of the top brands like Intel\, Microsoft\, NASCAR and Pendleton Woolen Mills. \nSERVICES \nBottom line? We help your website get found through Search engine optimization (SEO) and social media marketing. We help you define your goals\, we can find out what kind of SEO your competition is doing and we can do it better. Everything we do comes with measurable results. If you want more leads\, phone calls\, foot traffic or sales — we can help you. \nChamber Admin is inviting you to a scheduled Zoom meeting.\n \nTopic: Chamber Chat\nTime: Feb 17\, 2021 08:00 AM Pacific Time (US and Canada)\n    Feb 17\, 2021 08:00 AM\n    Feb 24\, 2021 08:00 AM\n    Mar 3\, 2021 08:00 AM\n    Mar 10\, 2021 08:00 AM\n    Mar 17\, 2021 08:00 AM\n    Mar 24\, 2021 08:00 AM\n    Mar 31\, 2021 08:00 AM\n    Apr 7\, 2021 08:00 AM\n    Apr 14\, 2021 08:00 AM\n    Apr 21\, 2021 08:00 AM\n    Apr 28\, 2021 08:00 AM\nPlease download and import the following iCalendar (.ics) files to your calendar system.\nWeekly: https://us02web.zoom.us/meeting/tZIscuCsrzwiE9ZN_nXXCiRYfJ07TMZnpoDi/ics?icsToken=98tyKuGurz4jHtWSuBCFRpwABY_4XejzmGZHj_pnsiDrOxhwazHPMMgSZYZSKtbA\n \nJoin Zoom Meeting\nhttps://us02web.zoom.us/j/86159417892?pwd=VzlNUXgvRHNoSTd2VHRxWllpTzB2Zz09\n \nMeeting ID: 861 5941 7892\nPasscode: 656994\nOne tap mobile\n+12532158782\,\,86159417892#\,\,\,\,*656994# US (Tacoma)\n+13462487799\,\,86159417892#\,\,\,\,*656994# US (Houston)\n \nDial by your location\n    +1 253 215 8782 US (Tacoma)\n    +1 346 248 7799 US (Houston)\n    +1 669 900 6833 US (San Jose)\n    +1 301 715 8592 US (Washington DC)\n    +1 312 626 6799 US (Chicago)\n    +1 929 436 2866 US (New York)\nMeeting ID: 861 5941 7892\nPasscode: 656994\nFind your local number: https://us02web.zoom.us/u/kc0YUx9UW\n 
URL:https://westcolumbiagorgechamber.com/event/chamber-coffee-chat-with-guy-edwards-brainjar-media-2/
LOCATION:OR
CATEGORIES:Chamber Meetings,Chamber Zoom Coffee Chats
END:VEVENT
BEGIN:VEVENT
DTSTART;TZID=America/Los_Angeles:20210217T080000
DTEND;TZID=America/Los_Angeles:20210217T084500
DTSTAMP:20260421T152011
CREATED:20210113T224302Z
LAST-MODIFIED:20210113T224302Z
UID:9435-1613548800-1613551500@westcolumbiagorgechamber.com
SUMMARY:Chamber Coffee Chat with Guy Edwards & Brainjar Media
DESCRIPTION:ABOUT \nBrainjar Media is a digital marketing agency specializing in website SEO services and content marketing for social media. Located in Downtown Gresham\, we have over two decades of experience with a successful track record. Our work has been praised in the Wall Street Journal\, Barrion’s Magazine and the Portland Tribune. We have worked for some of the top brands like Intel\, Microsoft\, NASCAR and Pendleton Woolen Mills. \nSERVICES \nBottom line? We help your website get found through Search engine optimization (SEO) and social media marketing. We help you define your goals\, we can find out what kind of SEO your competition is doing and we can do it better. Everything we do comes with measurable results. If you want more leads\, phone calls\, foot traffic or sales — we can help you. \nChamber Admin is inviting you to a scheduled Zoom meeting.\n \nTopic: Chamber Chat\nTime: Feb 17\, 2021 08:00 AM Pacific Time (US and Canada)\n    Feb 17\, 2021 08:00 AM\n    Feb 24\, 2021 08:00 AM\n    Mar 3\, 2021 08:00 AM\n    Mar 10\, 2021 08:00 AM\n    Mar 17\, 2021 08:00 AM\n    Mar 24\, 2021 08:00 AM\n    Mar 31\, 2021 08:00 AM\n    Apr 7\, 2021 08:00 AM\n    Apr 14\, 2021 08:00 AM\n    Apr 21\, 2021 08:00 AM\n    Apr 28\, 2021 08:00 AM\nPlease download and import the following iCalendar (.ics) files to your calendar system.\nWeekly: https://us02web.zoom.us/meeting/tZIscuCsrzwiE9ZN_nXXCiRYfJ07TMZnpoDi/ics?icsToken=98tyKuGurz4jHtWSuBCFRpwABY_4XejzmGZHj_pnsiDrOxhwazHPMMgSZYZSKtbA\n \nJoin Zoom Meeting\nhttps://us02web.zoom.us/j/86159417892?pwd=VzlNUXgvRHNoSTd2VHRxWllpTzB2Zz09\n \nMeeting ID: 861 5941 7892\nPasscode: 656994\nOne tap mobile\n+12532158782\,\,86159417892#\,\,\,\,*656994# US (Tacoma)\n+13462487799\,\,86159417892#\,\,\,\,*656994# US (Houston)\n \nDial by your location\n    +1 253 215 8782 US (Tacoma)\n    +1 346 248 7799 US (Houston)\n    +1 669 900 6833 US (San Jose)\n    +1 301 715 8592 US (Washington DC)\n    +1 312 626 6799 US (Chicago)\n    +1 929 436 2866 US (New York)\nMeeting ID: 861 5941 7892\nPasscode: 656994\nFind your local number: https://us02web.zoom.us/u/kc0YUx9UW\n 
URL:https://westcolumbiagorgechamber.com/event/chamber-coffee-chat-with-guy-edwards-brainjar-media-3/
LOCATION:OR
CATEGORIES:Chamber Meetings,Chamber Zoom Coffee Chats
END:VEVENT
BEGIN:VEVENT
DTSTART;TZID=America/Los_Angeles:20210217T080000
DTEND;TZID=America/Los_Angeles:20210217T084500
DTSTAMP:20260421T152011
CREATED:20210113T224302Z
LAST-MODIFIED:20210113T224302Z
UID:9837-1613548800-1613551500@westcolumbiagorgechamber.com
SUMMARY:Chamber Coffee Chat with Guy Edwards & Brainjar Media
DESCRIPTION:ABOUT \nBrainjar Media is a digital marketing agency specializing in website SEO services and content marketing for social media. Located in Downtown Gresham\, we have over two decades of experience with a successful track record. Our work has been praised in the Wall Street Journal\, Barrion’s Magazine and the Portland Tribune. We have worked for some of the top brands like Intel\, Microsoft\, NASCAR and Pendleton Woolen Mills. \nSERVICES \nBottom line? We help your website get found through Search engine optimization (SEO) and social media marketing. We help you define your goals\, we can find out what kind of SEO your competition is doing and we can do it better. Everything we do comes with measurable results. If you want more leads\, phone calls\, foot traffic or sales — we can help you. \nChamber Admin is inviting you to a scheduled Zoom meeting.\n \nTopic: Chamber Chat\nTime: Feb 17\, 2021 08:00 AM Pacific Time (US and Canada)\n    Feb 17\, 2021 08:00 AM\n    Feb 24\, 2021 08:00 AM\n    Mar 3\, 2021 08:00 AM\n    Mar 10\, 2021 08:00 AM\n    Mar 17\, 2021 08:00 AM\n    Mar 24\, 2021 08:00 AM\n    Mar 31\, 2021 08:00 AM\n    Apr 7\, 2021 08:00 AM\n    Apr 14\, 2021 08:00 AM\n    Apr 21\, 2021 08:00 AM\n    Apr 28\, 2021 08:00 AM\nPlease download and import the following iCalendar (.ics) files to your calendar system.\nWeekly: https://us02web.zoom.us/meeting/tZIscuCsrzwiE9ZN_nXXCiRYfJ07TMZnpoDi/ics?icsToken=98tyKuGurz4jHtWSuBCFRpwABY_4XejzmGZHj_pnsiDrOxhwazHPMMgSZYZSKtbA\n \nJoin Zoom Meeting\nhttps://us02web.zoom.us/j/86159417892?pwd=VzlNUXgvRHNoSTd2VHRxWllpTzB2Zz09\n \nMeeting ID: 861 5941 7892\nPasscode: 656994\nOne tap mobile\n+12532158782\,\,86159417892#\,\,\,\,*656994# US (Tacoma)\n+13462487799\,\,86159417892#\,\,\,\,*656994# US (Houston)\n \nDial by your location\n    +1 253 215 8782 US (Tacoma)\n    +1 346 248 7799 US (Houston)\n    +1 669 900 6833 US (San Jose)\n    +1 301 715 8592 US (Washington DC)\n    +1 312 626 6799 US (Chicago)\n    +1 929 436 2866 US (New York)\nMeeting ID: 861 5941 7892\nPasscode: 656994\nFind your local number: https://us02web.zoom.us/u/kc0YUx9UW\n 
URL:https://westcolumbiagorgechamber.com/event/chamber-coffee-chat-with-guy-edwards-brainjar-media-4/
LOCATION:OR
CATEGORIES:Chamber Meetings,Chamber Zoom Coffee Chats
END:VEVENT
BEGIN:VEVENT
DTSTART;TZID=America/Los_Angeles:20210217T080000
DTEND;TZID=America/Los_Angeles:20210217T084500
DTSTAMP:20260421T152011
CREATED:20210113T224302Z
LAST-MODIFIED:20210113T224302Z
UID:7522-1613548800-1613551500@westcolumbiagorgechamber.com
SUMMARY:Chamber Coffee Chat with Guy Edwards & Brainjar Media
DESCRIPTION:ABOUT \nBrainjar Media is a digital marketing agency specializing in website SEO services and content marketing for social media. Located in Downtown Gresham\, we have over two decades of experience with a successful track record. Our work has been praised in the Wall Street Journal\, Barrion’s Magazine and the Portland Tribune. We have worked for some of the top brands like Intel\, Microsoft\, NASCAR and Pendleton Woolen Mills. \nSERVICES \nBottom line? We help your website get found through Search engine optimization (SEO) and social media marketing. We help you define your goals\, we can find out what kind of SEO your competition is doing and we can do it better. Everything we do comes with measurable results. If you want more leads\, phone calls\, foot traffic or sales — we can help you. \nChamber Admin is inviting you to a scheduled Zoom meeting.\n \nTopic: Chamber Chat\nTime: Feb 17\, 2021 08:00 AM Pacific Time (US and Canada)\n    Feb 17\, 2021 08:00 AM\n    Feb 24\, 2021 08:00 AM\n    Mar 3\, 2021 08:00 AM\n    Mar 10\, 2021 08:00 AM\n    Mar 17\, 2021 08:00 AM\n    Mar 24\, 2021 08:00 AM\n    Mar 31\, 2021 08:00 AM\n    Apr 7\, 2021 08:00 AM\n    Apr 14\, 2021 08:00 AM\n    Apr 21\, 2021 08:00 AM\n    Apr 28\, 2021 08:00 AM\nPlease download and import the following iCalendar (.ics) files to your calendar system.\nWeekly: https://us02web.zoom.us/meeting/tZIscuCsrzwiE9ZN_nXXCiRYfJ07TMZnpoDi/ics?icsToken=98tyKuGurz4jHtWSuBCFRpwABY_4XejzmGZHj_pnsiDrOxhwazHPMMgSZYZSKtbA\n \nJoin Zoom Meeting\nhttps://us02web.zoom.us/j/86159417892?pwd=VzlNUXgvRHNoSTd2VHRxWllpTzB2Zz09\n \nMeeting ID: 861 5941 7892\nPasscode: 656994\nOne tap mobile\n+12532158782\,\,86159417892#\,\,\,\,*656994# US (Tacoma)\n+13462487799\,\,86159417892#\,\,\,\,*656994# US (Houston)\n \nDial by your location\n    +1 253 215 8782 US (Tacoma)\n    +1 346 248 7799 US (Houston)\n    +1 669 900 6833 US (San Jose)\n    +1 301 715 8592 US (Washington DC)\n    +1 312 626 6799 US (Chicago)\n    +1 929 436 2866 US (New York)\nMeeting ID: 861 5941 7892\nPasscode: 656994\nFind your local number: https://us02web.zoom.us/u/kc0YUx9UW\n 
URL:https://westcolumbiagorgechamber.com/event/chamber-coffee-chat-with-guy-edwards-brainjar-media/
LOCATION:OR
CATEGORIES:Chamber Meetings,Chamber Zoom Coffee Chats
END:VEVENT
END:VCALENDAR