BEGIN:VCALENDAR
VERSION:2.0
PRODID:-//West Columbia Gorge Chamber of Commerce - ECPv6.15.20//NONSGML v1.0//EN
CALSCALE:GREGORIAN
METHOD:PUBLISH
X-WR-CALNAME:West Columbia Gorge Chamber of Commerce
X-ORIGINAL-URL:https://westcolumbiagorgechamber.com
X-WR-CALDESC:Events for West Columbia Gorge Chamber of Commerce
REFRESH-INTERVAL;VALUE=DURATION:PT1H
X-Robots-Tag:noindex
X-PUBLISHED-TTL:PT1H
BEGIN:VTIMEZONE
TZID:America/Los_Angeles
BEGIN:DAYLIGHT
TZOFFSETFROM:-0800
TZOFFSETTO:-0700
TZNAME:PDT
DTSTART:20190310T100000
END:DAYLIGHT
BEGIN:STANDARD
TZOFFSETFROM:-0700
TZOFFSETTO:-0800
TZNAME:PST
DTSTART:20191103T090000
END:STANDARD
BEGIN:DAYLIGHT
TZOFFSETFROM:-0800
TZOFFSETTO:-0700
TZNAME:PDT
DTSTART:20200308T100000
END:DAYLIGHT
BEGIN:STANDARD
TZOFFSETFROM:-0700
TZOFFSETTO:-0800
TZNAME:PST
DTSTART:20201101T090000
END:STANDARD
BEGIN:DAYLIGHT
TZOFFSETFROM:-0800
TZOFFSETTO:-0700
TZNAME:PDT
DTSTART:20210314T100000
END:DAYLIGHT
BEGIN:STANDARD
TZOFFSETFROM:-0700
TZOFFSETTO:-0800
TZNAME:PST
DTSTART:20211107T090000
END:STANDARD
END:VTIMEZONE
BEGIN:VEVENT
DTSTART;TZID=America/Los_Angeles:20201216T080000
DTEND;TZID=America/Los_Angeles:20201216T084500
DTSTAMP:20260421T222436
CREATED:20201123T223408Z
LAST-MODIFIED:20201123T223408Z
UID:7418-1608105600-1608108300@westcolumbiagorgechamber.com
SUMMARY:12-16-2020 Chamber Coffee Chat with Ed Chin\, owner of All About Adventure Excursions
DESCRIPTION:Come and meet\, Ed Chin\, owner of All About Adventure Excursions.  Are you wanting to do something different during Covid19?  Ed will help you plan your adventure to get away from it all. \n\n\n\nAll About Adventure Excursions\n \n\n\n \n\n\n\n\nWe are still open for business during the COVID19 winter months. Trips will be have a limited amount of seating and private to allow safe distancing on the boat for our customers. Equipment is sanitized for your safety. Book your crabbing trips and catch and release sturgeon trips with us soon.
URL:https://westcolumbiagorgechamber.com/event/chamber-coffee-chat-with-all-about-adventure-excursions-with-owner-ed-chin/
LOCATION:OR
CATEGORIES:Chamber Zoom Coffee Chats
END:VEVENT
BEGIN:VEVENT
DTSTART;TZID=America/Los_Angeles:20201216T080000
DTEND;TZID=America/Los_Angeles:20201216T084500
DTSTAMP:20260421T222436
CREATED:20201123T223408Z
LAST-MODIFIED:20201123T223408Z
UID:9381-1608105600-1608108300@westcolumbiagorgechamber.com
SUMMARY:12-16-2020 Chamber Coffee Chat with Ed Chin\, owner of All About Adventure Excursions
DESCRIPTION:Come and meet\, Ed Chin\, owner of All About Adventure Excursions.  Are you wanting to do something different during Covid19?  Ed will help you plan your adventure to get away from it all. \n\n\n\nAll About Adventure Excursions\n \n\n\n \n\n\n\n\nWe are still open for business during the COVID19 winter months. Trips will be have a limited amount of seating and private to allow safe distancing on the boat for our customers. Equipment is sanitized for your safety. Book your crabbing trips and catch and release sturgeon trips with us soon.
URL:https://westcolumbiagorgechamber.com/event/chamber-coffee-chat-with-all-about-adventure-excursions-with-owner-ed-chin-2/
LOCATION:OR
CATEGORIES:Chamber Zoom Coffee Chats
END:VEVENT
BEGIN:VEVENT
DTSTART;TZID=America/Los_Angeles:20201216T080000
DTEND;TZID=America/Los_Angeles:20201216T084500
DTSTAMP:20260421T222436
CREATED:20201123T223408Z
LAST-MODIFIED:20201123T223408Z
UID:9413-1608105600-1608108300@westcolumbiagorgechamber.com
SUMMARY:12-16-2020 Chamber Coffee Chat with Ed Chin\, owner of All About Adventure Excursions
DESCRIPTION:Come and meet\, Ed Chin\, owner of All About Adventure Excursions.  Are you wanting to do something different during Covid19?  Ed will help you plan your adventure to get away from it all. \n\n\n\nAll About Adventure Excursions\n \n\n\n \n\n\n\n\nWe are still open for business during the COVID19 winter months. Trips will be have a limited amount of seating and private to allow safe distancing on the boat for our customers. Equipment is sanitized for your safety. Book your crabbing trips and catch and release sturgeon trips with us soon.
URL:https://westcolumbiagorgechamber.com/event/chamber-coffee-chat-with-all-about-adventure-excursions-with-owner-ed-chin-3/
LOCATION:OR
CATEGORIES:Chamber Zoom Coffee Chats
END:VEVENT
BEGIN:VEVENT
DTSTART;TZID=America/Los_Angeles:20201216T080000
DTEND;TZID=America/Los_Angeles:20201216T084500
DTSTAMP:20260421T222436
CREATED:20201123T223408Z
LAST-MODIFIED:20201123T223408Z
UID:9830-1608105600-1608108300@westcolumbiagorgechamber.com
SUMMARY:12-16-2020 Chamber Coffee Chat with Ed Chin\, owner of All About Adventure Excursions
DESCRIPTION:Come and meet\, Ed Chin\, owner of All About Adventure Excursions.  Are you wanting to do something different during Covid19?  Ed will help you plan your adventure to get away from it all. \n\n\n\nAll About Adventure Excursions\n \n\n\n \n\n\n\n\nWe are still open for business during the COVID19 winter months. Trips will be have a limited amount of seating and private to allow safe distancing on the boat for our customers. Equipment is sanitized for your safety. Book your crabbing trips and catch and release sturgeon trips with us soon.
URL:https://westcolumbiagorgechamber.com/event/chamber-coffee-chat-with-all-about-adventure-excursions-with-owner-ed-chin-4/
LOCATION:OR
CATEGORIES:Chamber Zoom Coffee Chats
END:VEVENT
END:VCALENDAR