BEGIN:VCALENDAR
VERSION:2.0
PRODID:-//West Columbia Gorge Chamber of Commerce - ECPv6.15.20//NONSGML v1.0//EN
CALSCALE:GREGORIAN
METHOD:PUBLISH
X-WR-CALNAME:West Columbia Gorge Chamber of Commerce
X-ORIGINAL-URL:https://westcolumbiagorgechamber.com
X-WR-CALDESC:Events for West Columbia Gorge Chamber of Commerce
REFRESH-INTERVAL;VALUE=DURATION:PT1H
X-Robots-Tag:noindex
X-PUBLISHED-TTL:PT1H
BEGIN:VTIMEZONE
TZID:America/Los_Angeles
BEGIN:DAYLIGHT
TZOFFSETFROM:-0800
TZOFFSETTO:-0700
TZNAME:PDT
DTSTART:20190310T100000
END:DAYLIGHT
BEGIN:STANDARD
TZOFFSETFROM:-0700
TZOFFSETTO:-0800
TZNAME:PST
DTSTART:20191103T090000
END:STANDARD
BEGIN:DAYLIGHT
TZOFFSETFROM:-0800
TZOFFSETTO:-0700
TZNAME:PDT
DTSTART:20200308T100000
END:DAYLIGHT
BEGIN:STANDARD
TZOFFSETFROM:-0700
TZOFFSETTO:-0800
TZNAME:PST
DTSTART:20201101T090000
END:STANDARD
BEGIN:DAYLIGHT
TZOFFSETFROM:-0800
TZOFFSETTO:-0700
TZNAME:PDT
DTSTART:20210314T100000
END:DAYLIGHT
BEGIN:STANDARD
TZOFFSETFROM:-0700
TZOFFSETTO:-0800
TZNAME:PST
DTSTART:20211107T090000
END:STANDARD
END:VTIMEZONE
BEGIN:VEVENT
DTSTART;TZID=America/Los_Angeles:20201209T080000
DTEND;TZID=America/Los_Angeles:20201209T084500
DTSTAMP:20260421T204900
CREATED:20201120T214323Z
LAST-MODIFIED:20201120T214323Z
UID:9828-1607500800-1607503500@westcolumbiagorgechamber.com
SUMMARY:12-9-2020 Chamber Coffee Chat on Zoom with The Byway & Manager Raul Morales
DESCRIPTION:The Byway is a brand-new community located just East of Portland in Wood Village\, Oregon. Comprised of both vibrant retail\, amenities\, and modern apartment homes\, there is something for everyone. The Byway was designed to enhance and embrace the spirit of Wood Village\, where outdoor adventure beckons and everything you need is located within one square mile. \nIn addition to our vibrant retail plaza and expansive public spaces\, The Byway offers our residents exclusive and private amenities aplenty. A resort-style pool for warm summer days. Spacious collaboration and gathering areas for work and play. A fully equipped fitness studio to keep you on your toes and ready for anything. A playground for good measure and outdoor courtyards and lounge areas for friends and fun. \nFrom sunrise to sunset. From the city to the mountains. The Byway was built for the explorer in all of us. Surrounded by Oregon’s most beloved outdoor adventures in every direction\, The Byway is conveniently located just 20 minutes East of Portland at the gateway to the gorge. \nSpacious one\, two\, and three-bedroom floor plans at The Byway are all outfitted with upgraded features and amenities for ultimate PNW living. Our apartments feature air conditioning\, stainless-steel appliances\, quartz countertops and modern wood-style flooring allowing you to enjoy your home fully while getting some well-deserved rest and relaxation before your next adventure. \nChamber Admin is inviting you to a scheduled Zoom meeting. \nTopic: Chamber Chat\nTime: Dec 9\, 2020 08:00 AM Pacific Time (US and Canada)\nEvery week on Wed\, 8 occurrence(s)\nDec 9\, 2020 08:00 AM\nDec 16\, 2020 08:00 AM\nDec 23\, 2020 08:00 AM\nDec 30\, 2020 08:00 AM\nJan 6\, 2021 08:00 AM\nJan 13\, 2021 08:00 AM\nJan 20\, 2021 08:00 AM\nJan 27\, 2021 08:00 AM\nPlease download and import the following iCalendar (.ics) files to your calendar system.\nWeekly: https://us02web.zoom.us/meeting/tZIscuCsrzwiE9ZN_nXXCiRYfJ07TMZnpoDi/ics?icsToken=98tyKuGurz4jHtWSuBCFRpwABY_4XejzmGZHj_pnsiDrOxhwazHPMMgSZYZSKtbA \nJoin Zoom Meeting\nhttps://us02web.zoom.us/j/86159417892?pwd=VzlNUXgvRHNoSTd2VHRxWllpTzB2Zz09 \nMeeting ID: 861 5941 7892\nPasscode: 656994\nOne tap mobile\n+12532158782\,\,86159417892#\,\,\,\,\,\,0#\,\,656994# US (Tacoma)\n+13462487799\,\,86159417892#\,\,\,\,\,\,0#\,\,656994# US (Houston) \nDial by your location\n+1 253 215 8782 US (Tacoma)\n+1 346 248 7799 US (Houston)\n+1 669 900 6833 US (San Jose)\n+1 301 715 8592 US (Washington D.C)\n+1 312 626 6799 US (Chicago)\n+1 929 436 2866 US (New York)\nMeeting ID: 861 5941 7892\nPasscode: 656994\nFind your local number: https://us02web.zoom.us/u/kb3XmefcQE \n  \n  \n  \n  \n  \n  \n  \n 
URL:https://westcolumbiagorgechamber.com/event/the-byway-by-manager-raul-morales-12-9-2020-4/
LOCATION:OR
CATEGORIES:Chamber Zoom Coffee Chats
END:VEVENT
BEGIN:VEVENT
DTSTART;TZID=America/Los_Angeles:20201209T080000
DTEND;TZID=America/Los_Angeles:20201209T084500
DTSTAMP:20260421T204900
CREATED:20201120T214323Z
LAST-MODIFIED:20201120T214323Z
UID:7387-1607500800-1607503500@westcolumbiagorgechamber.com
SUMMARY:12-9-2020 Chamber Coffee Chat on Zoom with The Byway & Manager Raul Morales
DESCRIPTION:The Byway is a brand-new community located just East of Portland in Wood Village\, Oregon. Comprised of both vibrant retail\, amenities\, and modern apartment homes\, there is something for everyone. The Byway was designed to enhance and embrace the spirit of Wood Village\, where outdoor adventure beckons and everything you need is located within one square mile. \nIn addition to our vibrant retail plaza and expansive public spaces\, The Byway offers our residents exclusive and private amenities aplenty. A resort-style pool for warm summer days. Spacious collaboration and gathering areas for work and play. A fully equipped fitness studio to keep you on your toes and ready for anything. A playground for good measure and outdoor courtyards and lounge areas for friends and fun. \nFrom sunrise to sunset. From the city to the mountains. The Byway was built for the explorer in all of us. Surrounded by Oregon’s most beloved outdoor adventures in every direction\, The Byway is conveniently located just 20 minutes East of Portland at the gateway to the gorge. \nSpacious one\, two\, and three-bedroom floor plans at The Byway are all outfitted with upgraded features and amenities for ultimate PNW living. Our apartments feature air conditioning\, stainless-steel appliances\, quartz countertops and modern wood-style flooring allowing you to enjoy your home fully while getting some well-deserved rest and relaxation before your next adventure. \nChamber Admin is inviting you to a scheduled Zoom meeting. \nTopic: Chamber Chat\nTime: Dec 9\, 2020 08:00 AM Pacific Time (US and Canada)\nEvery week on Wed\, 8 occurrence(s)\nDec 9\, 2020 08:00 AM\nDec 16\, 2020 08:00 AM\nDec 23\, 2020 08:00 AM\nDec 30\, 2020 08:00 AM\nJan 6\, 2021 08:00 AM\nJan 13\, 2021 08:00 AM\nJan 20\, 2021 08:00 AM\nJan 27\, 2021 08:00 AM\nPlease download and import the following iCalendar (.ics) files to your calendar system.\nWeekly: https://us02web.zoom.us/meeting/tZIscuCsrzwiE9ZN_nXXCiRYfJ07TMZnpoDi/ics?icsToken=98tyKuGurz4jHtWSuBCFRpwABY_4XejzmGZHj_pnsiDrOxhwazHPMMgSZYZSKtbA \nJoin Zoom Meeting\nhttps://us02web.zoom.us/j/86159417892?pwd=VzlNUXgvRHNoSTd2VHRxWllpTzB2Zz09 \nMeeting ID: 861 5941 7892\nPasscode: 656994\nOne tap mobile\n+12532158782\,\,86159417892#\,\,\,\,\,\,0#\,\,656994# US (Tacoma)\n+13462487799\,\,86159417892#\,\,\,\,\,\,0#\,\,656994# US (Houston) \nDial by your location\n+1 253 215 8782 US (Tacoma)\n+1 346 248 7799 US (Houston)\n+1 669 900 6833 US (San Jose)\n+1 301 715 8592 US (Washington D.C)\n+1 312 626 6799 US (Chicago)\n+1 929 436 2866 US (New York)\nMeeting ID: 861 5941 7892\nPasscode: 656994\nFind your local number: https://us02web.zoom.us/u/kb3XmefcQE \n  \n  \n  \n  \n  \n  \n  \n 
URL:https://westcolumbiagorgechamber.com/event/the-byway-by-manager-raul-morales-12-9-2020/
LOCATION:OR
CATEGORIES:Chamber Zoom Coffee Chats
END:VEVENT
BEGIN:VEVENT
DTSTART;TZID=America/Los_Angeles:20201209T080000
DTEND;TZID=America/Los_Angeles:20201209T084500
DTSTAMP:20260421T204900
CREATED:20201120T214323Z
LAST-MODIFIED:20201120T214323Z
UID:9371-1607500800-1607503500@westcolumbiagorgechamber.com
SUMMARY:12-9-2020 Chamber Coffee Chat on Zoom with The Byway & Manager Raul Morales
DESCRIPTION:The Byway is a brand-new community located just East of Portland in Wood Village\, Oregon. Comprised of both vibrant retail\, amenities\, and modern apartment homes\, there is something for everyone. The Byway was designed to enhance and embrace the spirit of Wood Village\, where outdoor adventure beckons and everything you need is located within one square mile. \nIn addition to our vibrant retail plaza and expansive public spaces\, The Byway offers our residents exclusive and private amenities aplenty. A resort-style pool for warm summer days. Spacious collaboration and gathering areas for work and play. A fully equipped fitness studio to keep you on your toes and ready for anything. A playground for good measure and outdoor courtyards and lounge areas for friends and fun. \nFrom sunrise to sunset. From the city to the mountains. The Byway was built for the explorer in all of us. Surrounded by Oregon’s most beloved outdoor adventures in every direction\, The Byway is conveniently located just 20 minutes East of Portland at the gateway to the gorge. \nSpacious one\, two\, and three-bedroom floor plans at The Byway are all outfitted with upgraded features and amenities for ultimate PNW living. Our apartments feature air conditioning\, stainless-steel appliances\, quartz countertops and modern wood-style flooring allowing you to enjoy your home fully while getting some well-deserved rest and relaxation before your next adventure. \nChamber Admin is inviting you to a scheduled Zoom meeting. \nTopic: Chamber Chat\nTime: Dec 9\, 2020 08:00 AM Pacific Time (US and Canada)\nEvery week on Wed\, 8 occurrence(s)\nDec 9\, 2020 08:00 AM\nDec 16\, 2020 08:00 AM\nDec 23\, 2020 08:00 AM\nDec 30\, 2020 08:00 AM\nJan 6\, 2021 08:00 AM\nJan 13\, 2021 08:00 AM\nJan 20\, 2021 08:00 AM\nJan 27\, 2021 08:00 AM\nPlease download and import the following iCalendar (.ics) files to your calendar system.\nWeekly: https://us02web.zoom.us/meeting/tZIscuCsrzwiE9ZN_nXXCiRYfJ07TMZnpoDi/ics?icsToken=98tyKuGurz4jHtWSuBCFRpwABY_4XejzmGZHj_pnsiDrOxhwazHPMMgSZYZSKtbA \nJoin Zoom Meeting\nhttps://us02web.zoom.us/j/86159417892?pwd=VzlNUXgvRHNoSTd2VHRxWllpTzB2Zz09 \nMeeting ID: 861 5941 7892\nPasscode: 656994\nOne tap mobile\n+12532158782\,\,86159417892#\,\,\,\,\,\,0#\,\,656994# US (Tacoma)\n+13462487799\,\,86159417892#\,\,\,\,\,\,0#\,\,656994# US (Houston) \nDial by your location\n+1 253 215 8782 US (Tacoma)\n+1 346 248 7799 US (Houston)\n+1 669 900 6833 US (San Jose)\n+1 301 715 8592 US (Washington D.C)\n+1 312 626 6799 US (Chicago)\n+1 929 436 2866 US (New York)\nMeeting ID: 861 5941 7892\nPasscode: 656994\nFind your local number: https://us02web.zoom.us/u/kb3XmefcQE \n  \n  \n  \n  \n  \n  \n  \n 
URL:https://westcolumbiagorgechamber.com/event/the-byway-by-manager-raul-morales-12-9-2020-2/
LOCATION:OR
CATEGORIES:Chamber Zoom Coffee Chats
END:VEVENT
BEGIN:VEVENT
DTSTART;TZID=America/Los_Angeles:20201209T080000
DTEND;TZID=America/Los_Angeles:20201209T084500
DTSTAMP:20260421T204900
CREATED:20201120T214323Z
LAST-MODIFIED:20201120T214323Z
UID:9406-1607500800-1607503500@westcolumbiagorgechamber.com
SUMMARY:12-9-2020 Chamber Coffee Chat on Zoom with The Byway & Manager Raul Morales
DESCRIPTION:The Byway is a brand-new community located just East of Portland in Wood Village\, Oregon. Comprised of both vibrant retail\, amenities\, and modern apartment homes\, there is something for everyone. The Byway was designed to enhance and embrace the spirit of Wood Village\, where outdoor adventure beckons and everything you need is located within one square mile. \nIn addition to our vibrant retail plaza and expansive public spaces\, The Byway offers our residents exclusive and private amenities aplenty. A resort-style pool for warm summer days. Spacious collaboration and gathering areas for work and play. A fully equipped fitness studio to keep you on your toes and ready for anything. A playground for good measure and outdoor courtyards and lounge areas for friends and fun. \nFrom sunrise to sunset. From the city to the mountains. The Byway was built for the explorer in all of us. Surrounded by Oregon’s most beloved outdoor adventures in every direction\, The Byway is conveniently located just 20 minutes East of Portland at the gateway to the gorge. \nSpacious one\, two\, and three-bedroom floor plans at The Byway are all outfitted with upgraded features and amenities for ultimate PNW living. Our apartments feature air conditioning\, stainless-steel appliances\, quartz countertops and modern wood-style flooring allowing you to enjoy your home fully while getting some well-deserved rest and relaxation before your next adventure. \nChamber Admin is inviting you to a scheduled Zoom meeting. \nTopic: Chamber Chat\nTime: Dec 9\, 2020 08:00 AM Pacific Time (US and Canada)\nEvery week on Wed\, 8 occurrence(s)\nDec 9\, 2020 08:00 AM\nDec 16\, 2020 08:00 AM\nDec 23\, 2020 08:00 AM\nDec 30\, 2020 08:00 AM\nJan 6\, 2021 08:00 AM\nJan 13\, 2021 08:00 AM\nJan 20\, 2021 08:00 AM\nJan 27\, 2021 08:00 AM\nPlease download and import the following iCalendar (.ics) files to your calendar system.\nWeekly: https://us02web.zoom.us/meeting/tZIscuCsrzwiE9ZN_nXXCiRYfJ07TMZnpoDi/ics?icsToken=98tyKuGurz4jHtWSuBCFRpwABY_4XejzmGZHj_pnsiDrOxhwazHPMMgSZYZSKtbA \nJoin Zoom Meeting\nhttps://us02web.zoom.us/j/86159417892?pwd=VzlNUXgvRHNoSTd2VHRxWllpTzB2Zz09 \nMeeting ID: 861 5941 7892\nPasscode: 656994\nOne tap mobile\n+12532158782\,\,86159417892#\,\,\,\,\,\,0#\,\,656994# US (Tacoma)\n+13462487799\,\,86159417892#\,\,\,\,\,\,0#\,\,656994# US (Houston) \nDial by your location\n+1 253 215 8782 US (Tacoma)\n+1 346 248 7799 US (Houston)\n+1 669 900 6833 US (San Jose)\n+1 301 715 8592 US (Washington D.C)\n+1 312 626 6799 US (Chicago)\n+1 929 436 2866 US (New York)\nMeeting ID: 861 5941 7892\nPasscode: 656994\nFind your local number: https://us02web.zoom.us/u/kb3XmefcQE \n  \n  \n  \n  \n  \n  \n  \n 
URL:https://westcolumbiagorgechamber.com/event/the-byway-by-manager-raul-morales-12-9-2020-3/
LOCATION:OR
CATEGORIES:Chamber Zoom Coffee Chats
END:VEVENT
END:VCALENDAR