BEGIN:VCALENDAR
VERSION:2.0
PRODID:-//West Columbia Gorge Chamber of Commerce - ECPv6.15.20//NONSGML v1.0//EN
CALSCALE:GREGORIAN
METHOD:PUBLISH
X-ORIGINAL-URL:https://westcolumbiagorgechamber.com
X-WR-CALDESC:Events for West Columbia Gorge Chamber of Commerce
REFRESH-INTERVAL;VALUE=DURATION:PT1H
X-Robots-Tag:noindex
X-PUBLISHED-TTL:PT1H
BEGIN:VTIMEZONE
TZID:America/Los_Angeles
BEGIN:DAYLIGHT
TZOFFSETFROM:-0800
TZOFFSETTO:-0700
TZNAME:PDT
DTSTART:20190310T100000
END:DAYLIGHT
BEGIN:STANDARD
TZOFFSETFROM:-0700
TZOFFSETTO:-0800
TZNAME:PST
DTSTART:20191103T090000
END:STANDARD
BEGIN:DAYLIGHT
TZOFFSETFROM:-0800
TZOFFSETTO:-0700
TZNAME:PDT
DTSTART:20200308T100000
END:DAYLIGHT
BEGIN:STANDARD
TZOFFSETFROM:-0700
TZOFFSETTO:-0800
TZNAME:PST
DTSTART:20201101T090000
END:STANDARD
BEGIN:DAYLIGHT
TZOFFSETFROM:-0800
TZOFFSETTO:-0700
TZNAME:PDT
DTSTART:20210314T100000
END:DAYLIGHT
BEGIN:STANDARD
TZOFFSETFROM:-0700
TZOFFSETTO:-0800
TZNAME:PST
DTSTART:20211107T090000
END:STANDARD
END:VTIMEZONE
BEGIN:VEVENT
DTSTART;TZID=America/Los_Angeles:20201202T080000
DTEND;TZID=America/Los_Angeles:20201202T084500
DTSTAMP:20260422T013806
CREATED:20201120T213909Z
LAST-MODIFIED:20201120T213909Z
UID:7384-1606896000-1606898700@westcolumbiagorgechamber.com
SUMMARY:Chamber Coffee Chat 12-2-2020  Tupperware
DESCRIPTION:Debra Sanchez\, a new member of the Chamber\, will be talking about the latest Tupperware products that you will want to purchase for gifts for Christmas.  Are you trying to reorganize your kitchen during Covid?  Deb has the perfect products to help you organize and preserve foods in your kitchen!  She also will be showing the newest products and specials that you might want to take advantage of for that special person this holiday season or even for yourself.  See you at 8 am on this day!!  \n  \nChamber Admin is inviting you to a scheduled Zoom meeting. \nTopic: Chamber Chat\nTime: Dec 2\, 2020 08:00 AM Pacific Time (US and Canada)\nEvery week on Wed\, 9 occurrence(s)\nDec 2\, 2020 08:00 AM\nDec 9\, 2020 08:00 AM\nDec 16\, 2020 08:00 AM\nDec 23\, 2020 08:00 AM\nDec 30\, 2020 08:00 AM\nJan 6\, 2021 08:00 AM\nJan 13\, 2021 08:00 AM\nJan 20\, 2021 08:00 AM\nJan 27\, 2021 08:00 AM\nPlease download and import the following iCalendar (.ics) files to your calendar system.\nWeekly: https://us02web.zoom.us/meeting/tZIscuCsrzwiE9ZN_nXXCiRYfJ07TMZnpoDi/ics?icsToken=98tyKuGurz4jHtWSuBCFRpwABY_4XejzmGZHj_pnsiDrOxhwazHPMMgSZYZSKtbA \nJoin Zoom Meeting\nhttps://us02web.zoom.us/j/86159417892?pwd=VzlNUXgvRHNoSTd2VHRxWllpTzB2Zz09 \nMeeting ID: 861 5941 7892\nPasscode: 656994\nOne tap mobile\n+12532158782\,\,86159417892#\,\,\,\,\,\,0#\,\,656994# US (Tacoma)\n+13462487799\,\,86159417892#\,\,\,\,\,\,0#\,\,656994# US (Houston) \nDial by your location\n+1 253 215 8782 US (Tacoma)\n+1 346 248 7799 US (Houston)\n+1 669 900 6833 US (San Jose)\n+1 301 715 8592 US (Washington D.C)\n+1 312 626 6799 US (Chicago)\n+1 929 436 2866 US (New York)\nMeeting ID: 861 5941 7892\nPasscode: 656994\nFind your local number: https://us02web.zoom.us/u/kb3XmefcQE \n 
URL:https://westcolumbiagorgechamber.com/event/chamber-coffee-chat-12-2-2020/
LOCATION:OR
CATEGORIES:Chamber Zoom Coffee Chats
END:VEVENT
BEGIN:VEVENT
DTSTART;TZID=America/Los_Angeles:20201202T080000
DTEND;TZID=America/Los_Angeles:20201202T084500
DTSTAMP:20260422T013806
CREATED:20201120T213909Z
LAST-MODIFIED:20201120T213909Z
UID:9369-1606896000-1606898700@westcolumbiagorgechamber.com
SUMMARY:Chamber Coffee Chat 12-2-2020  Tupperware
DESCRIPTION:Debra Sanchez\, a new member of the Chamber\, will be talking about the latest Tupperware products that you will want to purchase for gifts for Christmas.  Are you trying to reorganize your kitchen during Covid?  Deb has the perfect products to help you organize and preserve foods in your kitchen!  She also will be showing the newest products and specials that you might want to take advantage of for that special person this holiday season or even for yourself.  See you at 8 am on this day!!  \n  \nChamber Admin is inviting you to a scheduled Zoom meeting. \nTopic: Chamber Chat\nTime: Dec 2\, 2020 08:00 AM Pacific Time (US and Canada)\nEvery week on Wed\, 9 occurrence(s)\nDec 2\, 2020 08:00 AM\nDec 9\, 2020 08:00 AM\nDec 16\, 2020 08:00 AM\nDec 23\, 2020 08:00 AM\nDec 30\, 2020 08:00 AM\nJan 6\, 2021 08:00 AM\nJan 13\, 2021 08:00 AM\nJan 20\, 2021 08:00 AM\nJan 27\, 2021 08:00 AM\nPlease download and import the following iCalendar (.ics) files to your calendar system.\nWeekly: https://us02web.zoom.us/meeting/tZIscuCsrzwiE9ZN_nXXCiRYfJ07TMZnpoDi/ics?icsToken=98tyKuGurz4jHtWSuBCFRpwABY_4XejzmGZHj_pnsiDrOxhwazHPMMgSZYZSKtbA \nJoin Zoom Meeting\nhttps://us02web.zoom.us/j/86159417892?pwd=VzlNUXgvRHNoSTd2VHRxWllpTzB2Zz09 \nMeeting ID: 861 5941 7892\nPasscode: 656994\nOne tap mobile\n+12532158782\,\,86159417892#\,\,\,\,\,\,0#\,\,656994# US (Tacoma)\n+13462487799\,\,86159417892#\,\,\,\,\,\,0#\,\,656994# US (Houston) \nDial by your location\n+1 253 215 8782 US (Tacoma)\n+1 346 248 7799 US (Houston)\n+1 669 900 6833 US (San Jose)\n+1 301 715 8592 US (Washington D.C)\n+1 312 626 6799 US (Chicago)\n+1 929 436 2866 US (New York)\nMeeting ID: 861 5941 7892\nPasscode: 656994\nFind your local number: https://us02web.zoom.us/u/kb3XmefcQE \n 
URL:https://westcolumbiagorgechamber.com/event/chamber-coffee-chat-12-2-2020-2/
LOCATION:OR
CATEGORIES:Chamber Zoom Coffee Chats
END:VEVENT
BEGIN:VEVENT
DTSTART;TZID=America/Los_Angeles:20201202T080000
DTEND;TZID=America/Los_Angeles:20201202T084500
DTSTAMP:20260422T013806
CREATED:20201120T213909Z
LAST-MODIFIED:20201120T213909Z
UID:9403-1606896000-1606898700@westcolumbiagorgechamber.com
SUMMARY:Chamber Coffee Chat 12-2-2020  Tupperware
DESCRIPTION:Debra Sanchez\, a new member of the Chamber\, will be talking about the latest Tupperware products that you will want to purchase for gifts for Christmas.  Are you trying to reorganize your kitchen during Covid?  Deb has the perfect products to help you organize and preserve foods in your kitchen!  She also will be showing the newest products and specials that you might want to take advantage of for that special person this holiday season or even for yourself.  See you at 8 am on this day!!  \n  \nChamber Admin is inviting you to a scheduled Zoom meeting. \nTopic: Chamber Chat\nTime: Dec 2\, 2020 08:00 AM Pacific Time (US and Canada)\nEvery week on Wed\, 9 occurrence(s)\nDec 2\, 2020 08:00 AM\nDec 9\, 2020 08:00 AM\nDec 16\, 2020 08:00 AM\nDec 23\, 2020 08:00 AM\nDec 30\, 2020 08:00 AM\nJan 6\, 2021 08:00 AM\nJan 13\, 2021 08:00 AM\nJan 20\, 2021 08:00 AM\nJan 27\, 2021 08:00 AM\nPlease download and import the following iCalendar (.ics) files to your calendar system.\nWeekly: https://us02web.zoom.us/meeting/tZIscuCsrzwiE9ZN_nXXCiRYfJ07TMZnpoDi/ics?icsToken=98tyKuGurz4jHtWSuBCFRpwABY_4XejzmGZHj_pnsiDrOxhwazHPMMgSZYZSKtbA \nJoin Zoom Meeting\nhttps://us02web.zoom.us/j/86159417892?pwd=VzlNUXgvRHNoSTd2VHRxWllpTzB2Zz09 \nMeeting ID: 861 5941 7892\nPasscode: 656994\nOne tap mobile\n+12532158782\,\,86159417892#\,\,\,\,\,\,0#\,\,656994# US (Tacoma)\n+13462487799\,\,86159417892#\,\,\,\,\,\,0#\,\,656994# US (Houston) \nDial by your location\n+1 253 215 8782 US (Tacoma)\n+1 346 248 7799 US (Houston)\n+1 669 900 6833 US (San Jose)\n+1 301 715 8592 US (Washington D.C)\n+1 312 626 6799 US (Chicago)\n+1 929 436 2866 US (New York)\nMeeting ID: 861 5941 7892\nPasscode: 656994\nFind your local number: https://us02web.zoom.us/u/kb3XmefcQE \n 
URL:https://westcolumbiagorgechamber.com/event/chamber-coffee-chat-12-2-2020-3/
LOCATION:OR
CATEGORIES:Chamber Zoom Coffee Chats
END:VEVENT
BEGIN:VEVENT
DTSTART;TZID=America/Los_Angeles:20201202T080000
DTEND;TZID=America/Los_Angeles:20201202T084500
DTSTAMP:20260422T013806
CREATED:20201120T213909Z
LAST-MODIFIED:20201120T213909Z
UID:9827-1606896000-1606898700@westcolumbiagorgechamber.com
SUMMARY:Chamber Coffee Chat 12-2-2020  Tupperware
DESCRIPTION:Debra Sanchez\, a new member of the Chamber\, will be talking about the latest Tupperware products that you will want to purchase for gifts for Christmas.  Are you trying to reorganize your kitchen during Covid?  Deb has the perfect products to help you organize and preserve foods in your kitchen!  She also will be showing the newest products and specials that you might want to take advantage of for that special person this holiday season or even for yourself.  See you at 8 am on this day!!  \n  \nChamber Admin is inviting you to a scheduled Zoom meeting. \nTopic: Chamber Chat\nTime: Dec 2\, 2020 08:00 AM Pacific Time (US and Canada)\nEvery week on Wed\, 9 occurrence(s)\nDec 2\, 2020 08:00 AM\nDec 9\, 2020 08:00 AM\nDec 16\, 2020 08:00 AM\nDec 23\, 2020 08:00 AM\nDec 30\, 2020 08:00 AM\nJan 6\, 2021 08:00 AM\nJan 13\, 2021 08:00 AM\nJan 20\, 2021 08:00 AM\nJan 27\, 2021 08:00 AM\nPlease download and import the following iCalendar (.ics) files to your calendar system.\nWeekly: https://us02web.zoom.us/meeting/tZIscuCsrzwiE9ZN_nXXCiRYfJ07TMZnpoDi/ics?icsToken=98tyKuGurz4jHtWSuBCFRpwABY_4XejzmGZHj_pnsiDrOxhwazHPMMgSZYZSKtbA \nJoin Zoom Meeting\nhttps://us02web.zoom.us/j/86159417892?pwd=VzlNUXgvRHNoSTd2VHRxWllpTzB2Zz09 \nMeeting ID: 861 5941 7892\nPasscode: 656994\nOne tap mobile\n+12532158782\,\,86159417892#\,\,\,\,\,\,0#\,\,656994# US (Tacoma)\n+13462487799\,\,86159417892#\,\,\,\,\,\,0#\,\,656994# US (Houston) \nDial by your location\n+1 253 215 8782 US (Tacoma)\n+1 346 248 7799 US (Houston)\n+1 669 900 6833 US (San Jose)\n+1 301 715 8592 US (Washington D.C)\n+1 312 626 6799 US (Chicago)\n+1 929 436 2866 US (New York)\nMeeting ID: 861 5941 7892\nPasscode: 656994\nFind your local number: https://us02web.zoom.us/u/kb3XmefcQE \n 
URL:https://westcolumbiagorgechamber.com/event/chamber-coffee-chat-12-2-2020-4/
LOCATION:OR
CATEGORIES:Chamber Zoom Coffee Chats
END:VEVENT
END:VCALENDAR