BEGIN:VCALENDAR
VERSION:2.0
PRODID:-//West Columbia Gorge Chamber of Commerce - ECPv6.15.20//NONSGML v1.0//EN
CALSCALE:GREGORIAN
METHOD:PUBLISH
X-WR-CALNAME:West Columbia Gorge Chamber of Commerce
X-ORIGINAL-URL:https://westcolumbiagorgechamber.com
X-WR-CALDESC:Events for West Columbia Gorge Chamber of Commerce
REFRESH-INTERVAL;VALUE=DURATION:PT1H
X-Robots-Tag:noindex
X-PUBLISHED-TTL:PT1H
BEGIN:VTIMEZONE
TZID:America/Los_Angeles
BEGIN:DAYLIGHT
TZOFFSETFROM:-0800
TZOFFSETTO:-0700
TZNAME:PDT
DTSTART:20190310T100000
END:DAYLIGHT
BEGIN:STANDARD
TZOFFSETFROM:-0700
TZOFFSETTO:-0800
TZNAME:PST
DTSTART:20191103T090000
END:STANDARD
BEGIN:DAYLIGHT
TZOFFSETFROM:-0800
TZOFFSETTO:-0700
TZNAME:PDT
DTSTART:20200308T100000
END:DAYLIGHT
BEGIN:STANDARD
TZOFFSETFROM:-0700
TZOFFSETTO:-0800
TZNAME:PST
DTSTART:20201101T090000
END:STANDARD
BEGIN:DAYLIGHT
TZOFFSETFROM:-0800
TZOFFSETTO:-0700
TZNAME:PDT
DTSTART:20210314T100000
END:DAYLIGHT
BEGIN:STANDARD
TZOFFSETFROM:-0700
TZOFFSETTO:-0800
TZNAME:PST
DTSTART:20211107T090000
END:STANDARD
END:VTIMEZONE
BEGIN:VEVENT
DTSTART;TZID=America/Los_Angeles:20201125T080000
DTEND;TZID=America/Los_Angeles:20201125T084500
DTSTAMP:20260422T032658
CREATED:20201125T033109Z
LAST-MODIFIED:20201125T033109Z
UID:9387-1606291200-1606293900@westcolumbiagorgechamber.com
SUMMARY:No Chamber Coffee Chat on Zoom today -  See you next week!!  Happy Thanksgiving!!
DESCRIPTION:
URL:https://westcolumbiagorgechamber.com/event/no-chamber-coffee-chat-today-happy-thanksgiving-2/
LOCATION:OR
CATEGORIES:Chamber Zoom Coffee Chats
END:VEVENT
BEGIN:VEVENT
DTSTART;TZID=America/Los_Angeles:20201125T080000
DTEND;TZID=America/Los_Angeles:20201125T084500
DTSTAMP:20260422T032658
CREATED:20201125T033109Z
LAST-MODIFIED:20201125T033109Z
UID:9419-1606291200-1606293900@westcolumbiagorgechamber.com
SUMMARY:No Chamber Coffee Chat on Zoom today -  See you next week!!  Happy Thanksgiving!!
DESCRIPTION:
URL:https://westcolumbiagorgechamber.com/event/no-chamber-coffee-chat-today-happy-thanksgiving-3/
LOCATION:OR
CATEGORIES:Chamber Zoom Coffee Chats
END:VEVENT
BEGIN:VEVENT
DTSTART;TZID=America/Los_Angeles:20201125T080000
DTEND;TZID=America/Los_Angeles:20201125T084500
DTSTAMP:20260422T032658
CREATED:20201125T033109Z
LAST-MODIFIED:20201125T033109Z
UID:9832-1606291200-1606293900@westcolumbiagorgechamber.com
SUMMARY:No Chamber Coffee Chat on Zoom today -  See you next week!!  Happy Thanksgiving!!
DESCRIPTION:
URL:https://westcolumbiagorgechamber.com/event/no-chamber-coffee-chat-today-happy-thanksgiving-4/
LOCATION:OR
CATEGORIES:Chamber Zoom Coffee Chats
END:VEVENT
BEGIN:VEVENT
DTSTART;TZID=America/Los_Angeles:20201125T080000
DTEND;TZID=America/Los_Angeles:20201125T084500
DTSTAMP:20260422T032658
CREATED:20201125T033109Z
LAST-MODIFIED:20201125T033109Z
UID:7431-1606291200-1606293900@westcolumbiagorgechamber.com
SUMMARY:No Chamber Coffee Chat on Zoom today -  See you next week!!  Happy Thanksgiving!!
DESCRIPTION:
URL:https://westcolumbiagorgechamber.com/event/no-chamber-coffee-chat-today-happy-thanksgiving/
LOCATION:OR
CATEGORIES:Chamber Zoom Coffee Chats
END:VEVENT
END:VCALENDAR