BEGIN:VCALENDAR
VERSION:2.0
PRODID:-//West Columbia Gorge Chamber of Commerce - ECPv6.15.20//NONSGML v1.0//EN
CALSCALE:GREGORIAN
METHOD:PUBLISH
X-ORIGINAL-URL:https://westcolumbiagorgechamber.com
X-WR-CALDESC:Events for West Columbia Gorge Chamber of Commerce
REFRESH-INTERVAL;VALUE=DURATION:PT1H
X-Robots-Tag:noindex
X-PUBLISHED-TTL:PT1H
BEGIN:VTIMEZONE
TZID:America/Los_Angeles
BEGIN:DAYLIGHT
TZOFFSETFROM:-0800
TZOFFSETTO:-0700
TZNAME:PDT
DTSTART:20200308T100000
END:DAYLIGHT
BEGIN:STANDARD
TZOFFSETFROM:-0700
TZOFFSETTO:-0800
TZNAME:PST
DTSTART:20201101T090000
END:STANDARD
BEGIN:DAYLIGHT
TZOFFSETFROM:-0800
TZOFFSETTO:-0700
TZNAME:PDT
DTSTART:20210314T100000
END:DAYLIGHT
BEGIN:STANDARD
TZOFFSETFROM:-0700
TZOFFSETTO:-0800
TZNAME:PST
DTSTART:20211107T090000
END:STANDARD
BEGIN:DAYLIGHT
TZOFFSETFROM:-0800
TZOFFSETTO:-0700
TZNAME:PDT
DTSTART:20220313T100000
END:DAYLIGHT
BEGIN:STANDARD
TZOFFSETFROM:-0700
TZOFFSETTO:-0800
TZNAME:PST
DTSTART:20221106T090000
END:STANDARD
END:VTIMEZONE
BEGIN:VEVENT
DTSTART;TZID=America/Los_Angeles:20210106T080000
DTEND;TZID=America/Los_Angeles:20210106T084500
DTSTAMP:20260421T163916
CREATED:20201228T210953Z
LAST-MODIFIED:20201228T210953Z
UID:9393-1609920000-1609922700@westcolumbiagorgechamber.com
SUMMARY:Chamber Coffee Chat with Joseph Cole of Exclusive Pet Supply
DESCRIPTION:We specialize in only the best natural pet food brands\, and provide the knowledge on how to best care for your pets. Selections including all Natural\, Holistic and the Fresh Raw Food Diet to ensure your animal is kept healthy. We carry Biologically Appropriate\, and Allergy Free Formulas. \nWe also carry natural flea prevention\, and cat litter. \nSome of the brands we specialize in are Wholesomes SportMix\, Acana\, Orijen\, Natural Balance\, NutriSource\, Fromm\, Evangers\, Merrick\, Precise\, and FirstMate. You may also click on the brand logos in the left column to see more details about each brand. Contact us for special orders\, or if you don’t see the brand you’re looking for. \nIn addition to our large selection of premium pet foods\, we carry Dog Toys\, Cat Toys\, Vitamin Supplements for Pets\, Dog Treats\, Small Animal Foods\, and food for Wild Birds & Squirrels. \nPET FRIENDLY \nFurry friends\, that get along well with others\, are welcome in our store \n  \nChamber Admin is inviting you to a scheduled Zoom meeting.\n \nTopic: Chamber Chat\nTime: Jan 6\, 2021 08:00 AM Pacific Time (US and Canada)\n    Every week on Wed\, 4 occurrence(s)\n    Jan 6\, 2021 08:00 AM\n    Jan 13\, 2021 08:00 AM\n    Jan 20\, 2021 08:00 AM\n    Jan 27\, 2021 08:00 AM\nPlease download and import the following iCalendar (.ics) files to your calendar system.\nWeekly: https://us02web.zoom.us/meeting/tZIscuCsrzwiE9ZN_nXXCiRYfJ07TMZnpoDi/ics?icsToken=98tyKuGurz4jHtWSuBCFRpwABY_4XejzmGZHj_pnsiDrOxhwazHPMMgSZYZSKtbA\n \nJoin Zoom Meeting\nhttps://us02web.zoom.us/j/86159417892?pwd=VzlNUXgvRHNoSTd2VHRxWllpTzB2Zz09\n \nMeeting ID: 861 5941 7892\nPasscode: 656994\nOne tap mobile\n+12532158782\,\,86159417892#\,\,\,\,*656994# US (Tacoma)\n+13462487799\,\,86159417892#\,\,\,\,*656994# US (Houston)\n \nDial by your location\n    +1 253 215 8782 US (Tacoma)\n    +1 346 248 7799 US (Houston)\n    +1 669 900 6833 US (San Jose)\n    +1 301 715 8592 US (Washington D.C)\n    +1 312 626 6799 US (Chicago)\n    +1 929 436 2866 US (New York)\nMeeting ID: 861 5941 7892\nPasscode: 656994\nFind your local number: https://us02web.zoom.us/u/kc0YUx9UW
URL:https://westcolumbiagorgechamber.com/event/coffee-chat-with-joseph-cole-of-exclusive-pet-supply-2/
LOCATION:OR
CATEGORIES:Chamber Zoom Coffee Chats
END:VEVENT
BEGIN:VEVENT
DTSTART;TZID=America/Los_Angeles:20210106T080000
DTEND;TZID=America/Los_Angeles:20210106T084500
DTSTAMP:20260421T163916
CREATED:20201228T210953Z
LAST-MODIFIED:20201228T210953Z
UID:9834-1609920000-1609922700@westcolumbiagorgechamber.com
SUMMARY:Chamber Coffee Chat with Joseph Cole of Exclusive Pet Supply
DESCRIPTION:We specialize in only the best natural pet food brands\, and provide the knowledge on how to best care for your pets. Selections including all Natural\, Holistic and the Fresh Raw Food Diet to ensure your animal is kept healthy. We carry Biologically Appropriate\, and Allergy Free Formulas. \nWe also carry natural flea prevention\, and cat litter. \nSome of the brands we specialize in are Wholesomes SportMix\, Acana\, Orijen\, Natural Balance\, NutriSource\, Fromm\, Evangers\, Merrick\, Precise\, and FirstMate. You may also click on the brand logos in the left column to see more details about each brand. Contact us for special orders\, or if you don’t see the brand you’re looking for. \nIn addition to our large selection of premium pet foods\, we carry Dog Toys\, Cat Toys\, Vitamin Supplements for Pets\, Dog Treats\, Small Animal Foods\, and food for Wild Birds & Squirrels. \nPET FRIENDLY \nFurry friends\, that get along well with others\, are welcome in our store \n  \nChamber Admin is inviting you to a scheduled Zoom meeting.\n \nTopic: Chamber Chat\nTime: Jan 6\, 2021 08:00 AM Pacific Time (US and Canada)\n    Every week on Wed\, 4 occurrence(s)\n    Jan 6\, 2021 08:00 AM\n    Jan 13\, 2021 08:00 AM\n    Jan 20\, 2021 08:00 AM\n    Jan 27\, 2021 08:00 AM\nPlease download and import the following iCalendar (.ics) files to your calendar system.\nWeekly: https://us02web.zoom.us/meeting/tZIscuCsrzwiE9ZN_nXXCiRYfJ07TMZnpoDi/ics?icsToken=98tyKuGurz4jHtWSuBCFRpwABY_4XejzmGZHj_pnsiDrOxhwazHPMMgSZYZSKtbA\n \nJoin Zoom Meeting\nhttps://us02web.zoom.us/j/86159417892?pwd=VzlNUXgvRHNoSTd2VHRxWllpTzB2Zz09\n \nMeeting ID: 861 5941 7892\nPasscode: 656994\nOne tap mobile\n+12532158782\,\,86159417892#\,\,\,\,*656994# US (Tacoma)\n+13462487799\,\,86159417892#\,\,\,\,*656994# US (Houston)\n \nDial by your location\n    +1 253 215 8782 US (Tacoma)\n    +1 346 248 7799 US (Houston)\n    +1 669 900 6833 US (San Jose)\n    +1 301 715 8592 US (Washington D.C)\n    +1 312 626 6799 US (Chicago)\n    +1 929 436 2866 US (New York)\nMeeting ID: 861 5941 7892\nPasscode: 656994\nFind your local number: https://us02web.zoom.us/u/kc0YUx9UW
URL:https://westcolumbiagorgechamber.com/event/coffee-chat-with-joseph-cole-of-exclusive-pet-supply-4/
LOCATION:OR
CATEGORIES:Chamber Zoom Coffee Chats
END:VEVENT
BEGIN:VEVENT
DTSTART;TZID=America/Los_Angeles:20210106T080000
DTEND;TZID=America/Los_Angeles:20210106T084500
DTSTAMP:20260421T163916
CREATED:20201228T210953Z
LAST-MODIFIED:20201228T210953Z
UID:7492-1609920000-1609922700@westcolumbiagorgechamber.com
SUMMARY:Chamber Coffee Chat with Joseph Cole of Exclusive Pet Supply
DESCRIPTION:We specialize in only the best natural pet food brands\, and provide the knowledge on how to best care for your pets. Selections including all Natural\, Holistic and the Fresh Raw Food Diet to ensure your animal is kept healthy. We carry Biologically Appropriate\, and Allergy Free Formulas. \nWe also carry natural flea prevention\, and cat litter. \nSome of the brands we specialize in are Wholesomes SportMix\, Acana\, Orijen\, Natural Balance\, NutriSource\, Fromm\, Evangers\, Merrick\, Precise\, and FirstMate. You may also click on the brand logos in the left column to see more details about each brand. Contact us for special orders\, or if you don’t see the brand you’re looking for. \nIn addition to our large selection of premium pet foods\, we carry Dog Toys\, Cat Toys\, Vitamin Supplements for Pets\, Dog Treats\, Small Animal Foods\, and food for Wild Birds & Squirrels. \nPET FRIENDLY \nFurry friends\, that get along well with others\, are welcome in our store \n  \nChamber Admin is inviting you to a scheduled Zoom meeting.\n \nTopic: Chamber Chat\nTime: Jan 6\, 2021 08:00 AM Pacific Time (US and Canada)\n    Every week on Wed\, 4 occurrence(s)\n    Jan 6\, 2021 08:00 AM\n    Jan 13\, 2021 08:00 AM\n    Jan 20\, 2021 08:00 AM\n    Jan 27\, 2021 08:00 AM\nPlease download and import the following iCalendar (.ics) files to your calendar system.\nWeekly: https://us02web.zoom.us/meeting/tZIscuCsrzwiE9ZN_nXXCiRYfJ07TMZnpoDi/ics?icsToken=98tyKuGurz4jHtWSuBCFRpwABY_4XejzmGZHj_pnsiDrOxhwazHPMMgSZYZSKtbA\n \nJoin Zoom Meeting\nhttps://us02web.zoom.us/j/86159417892?pwd=VzlNUXgvRHNoSTd2VHRxWllpTzB2Zz09\n \nMeeting ID: 861 5941 7892\nPasscode: 656994\nOne tap mobile\n+12532158782\,\,86159417892#\,\,\,\,*656994# US (Tacoma)\n+13462487799\,\,86159417892#\,\,\,\,*656994# US (Houston)\n \nDial by your location\n    +1 253 215 8782 US (Tacoma)\n    +1 346 248 7799 US (Houston)\n    +1 669 900 6833 US (San Jose)\n    +1 301 715 8592 US (Washington D.C)\n    +1 312 626 6799 US (Chicago)\n    +1 929 436 2866 US (New York)\nMeeting ID: 861 5941 7892\nPasscode: 656994\nFind your local number: https://us02web.zoom.us/u/kc0YUx9UW
URL:https://westcolumbiagorgechamber.com/event/coffee-chat-with-joseph-cole-of-exclusive-pet-supply/
LOCATION:OR
CATEGORIES:Chamber Zoom Coffee Chats
END:VEVENT
BEGIN:VEVENT
DTSTART;TZID=America/Los_Angeles:20210106T080000
DTEND;TZID=America/Los_Angeles:20210106T084500
DTSTAMP:20260421T163916
CREATED:20201228T210953Z
LAST-MODIFIED:20201228T210953Z
UID:9426-1609920000-1609922700@westcolumbiagorgechamber.com
SUMMARY:Chamber Coffee Chat with Joseph Cole of Exclusive Pet Supply
DESCRIPTION:We specialize in only the best natural pet food brands\, and provide the knowledge on how to best care for your pets. Selections including all Natural\, Holistic and the Fresh Raw Food Diet to ensure your animal is kept healthy. We carry Biologically Appropriate\, and Allergy Free Formulas. \nWe also carry natural flea prevention\, and cat litter. \nSome of the brands we specialize in are Wholesomes SportMix\, Acana\, Orijen\, Natural Balance\, NutriSource\, Fromm\, Evangers\, Merrick\, Precise\, and FirstMate. You may also click on the brand logos in the left column to see more details about each brand. Contact us for special orders\, or if you don’t see the brand you’re looking for. \nIn addition to our large selection of premium pet foods\, we carry Dog Toys\, Cat Toys\, Vitamin Supplements for Pets\, Dog Treats\, Small Animal Foods\, and food for Wild Birds & Squirrels. \nPET FRIENDLY \nFurry friends\, that get along well with others\, are welcome in our store \n  \nChamber Admin is inviting you to a scheduled Zoom meeting.\n \nTopic: Chamber Chat\nTime: Jan 6\, 2021 08:00 AM Pacific Time (US and Canada)\n    Every week on Wed\, 4 occurrence(s)\n    Jan 6\, 2021 08:00 AM\n    Jan 13\, 2021 08:00 AM\n    Jan 20\, 2021 08:00 AM\n    Jan 27\, 2021 08:00 AM\nPlease download and import the following iCalendar (.ics) files to your calendar system.\nWeekly: https://us02web.zoom.us/meeting/tZIscuCsrzwiE9ZN_nXXCiRYfJ07TMZnpoDi/ics?icsToken=98tyKuGurz4jHtWSuBCFRpwABY_4XejzmGZHj_pnsiDrOxhwazHPMMgSZYZSKtbA\n \nJoin Zoom Meeting\nhttps://us02web.zoom.us/j/86159417892?pwd=VzlNUXgvRHNoSTd2VHRxWllpTzB2Zz09\n \nMeeting ID: 861 5941 7892\nPasscode: 656994\nOne tap mobile\n+12532158782\,\,86159417892#\,\,\,\,*656994# US (Tacoma)\n+13462487799\,\,86159417892#\,\,\,\,*656994# US (Houston)\n \nDial by your location\n    +1 253 215 8782 US (Tacoma)\n    +1 346 248 7799 US (Houston)\n    +1 669 900 6833 US (San Jose)\n    +1 301 715 8592 US (Washington D.C)\n    +1 312 626 6799 US (Chicago)\n    +1 929 436 2866 US (New York)\nMeeting ID: 861 5941 7892\nPasscode: 656994\nFind your local number: https://us02web.zoom.us/u/kc0YUx9UW
URL:https://westcolumbiagorgechamber.com/event/coffee-chat-with-joseph-cole-of-exclusive-pet-supply-3/
LOCATION:OR
CATEGORIES:Chamber Zoom Coffee Chats
END:VEVENT
BEGIN:VEVENT
DTSTART;TZID=America/Los_Angeles:20210120T080000
DTEND;TZID=America/Los_Angeles:20210120T084500
DTSTAMP:20260421T163916
CREATED:20201228T211134Z
LAST-MODIFIED:20201228T211134Z
UID:9396-1611129600-1611132300@westcolumbiagorgechamber.com
SUMMARY:Chamber Coffee Chat with Ed Yunkherr of Black Rock Coffee Bar
DESCRIPTION:BE TOGETHER\n\nEvery day is a new chance to have a good effect on our neighborhood. Our approach to building quality drinks and quality relationships is one and the same… intentionality. \n\nSUBSCRIBE & SAVE\nCOFFEE DELIVERED TO YOUR DOOR\nCan’t live without your favorite Black Rock coffee? Subscribe now for monthly deliveries at a discounted price! \nChamber Admin is inviting you to a scheduled Zoom meeting.\n \nTopic: Chamber Chat\nTime: Jan 20\, 2021 08:00 AM Pacific Time (US and Canada)\n    Every week on Wed\, 2 occurrence(s)\n    Jan 20\, 2021 08:00 AM\n    Jan 27\, 2021 08:00 AM\nPlease download and import the following iCalendar (.ics) files to your calendar system.\nWeekly: https://us02web.zoom.us/meeting/tZIscuCsrzwiE9ZN_nXXCiRYfJ07TMZnpoDi/ics?icsToken=98tyKuGurz4jHtWSuBCFRpwABY_4XejzmGZHj_pnsiDrOxhwazHPMMgSZYZSKtbA\n \nJoin Zoom Meeting\nhttps://us02web.zoom.us/j/86159417892?pwd=VzlNUXgvRHNoSTd2VHRxWllpTzB2Zz09\n \nMeeting ID: 861 5941 7892\nPasscode: 656994\nOne tap mobile\n+12532158782\,\,86159417892#\,\,\,\,*656994# US (Tacoma)\n+13462487799\,\,86159417892#\,\,\,\,*656994# US (Houston)\n \nDial by your location\n    +1 253 215 8782 US (Tacoma)\n    +1 346 248 7799 US (Houston)\n    +1 669 900 6833 US (San Jose)\n    +1 301 715 8592 US (Washington D.C)\n    +1 312 626 6799 US (Chicago)\n    +1 929 436 2866 US (New York)\nMeeting ID: 861 5941 7892\nPasscode: 656994\nFind your local number: https://us02web.zoom.us/u/kc0YUx9UW\n \n \n 
URL:https://westcolumbiagorgechamber.com/event/coffee-chat-with-ed-yunkherr-of-black-rock-coffee-bar-2/
LOCATION:OR
CATEGORIES:Chamber Zoom Coffee Chats
END:VEVENT
BEGIN:VEVENT
DTSTART;TZID=America/Los_Angeles:20210120T080000
DTEND;TZID=America/Los_Angeles:20210120T084500
DTSTAMP:20260421T163916
CREATED:20201228T211134Z
LAST-MODIFIED:20201228T211134Z
UID:9835-1611129600-1611132300@westcolumbiagorgechamber.com
SUMMARY:Chamber Coffee Chat with Ed Yunkherr of Black Rock Coffee Bar
DESCRIPTION:BE TOGETHER\n\nEvery day is a new chance to have a good effect on our neighborhood. Our approach to building quality drinks and quality relationships is one and the same… intentionality. \n\nSUBSCRIBE & SAVE\nCOFFEE DELIVERED TO YOUR DOOR\nCan’t live without your favorite Black Rock coffee? Subscribe now for monthly deliveries at a discounted price! \nChamber Admin is inviting you to a scheduled Zoom meeting.\n \nTopic: Chamber Chat\nTime: Jan 20\, 2021 08:00 AM Pacific Time (US and Canada)\n    Every week on Wed\, 2 occurrence(s)\n    Jan 20\, 2021 08:00 AM\n    Jan 27\, 2021 08:00 AM\nPlease download and import the following iCalendar (.ics) files to your calendar system.\nWeekly: https://us02web.zoom.us/meeting/tZIscuCsrzwiE9ZN_nXXCiRYfJ07TMZnpoDi/ics?icsToken=98tyKuGurz4jHtWSuBCFRpwABY_4XejzmGZHj_pnsiDrOxhwazHPMMgSZYZSKtbA\n \nJoin Zoom Meeting\nhttps://us02web.zoom.us/j/86159417892?pwd=VzlNUXgvRHNoSTd2VHRxWllpTzB2Zz09\n \nMeeting ID: 861 5941 7892\nPasscode: 656994\nOne tap mobile\n+12532158782\,\,86159417892#\,\,\,\,*656994# US (Tacoma)\n+13462487799\,\,86159417892#\,\,\,\,*656994# US (Houston)\n \nDial by your location\n    +1 253 215 8782 US (Tacoma)\n    +1 346 248 7799 US (Houston)\n    +1 669 900 6833 US (San Jose)\n    +1 301 715 8592 US (Washington D.C)\n    +1 312 626 6799 US (Chicago)\n    +1 929 436 2866 US (New York)\nMeeting ID: 861 5941 7892\nPasscode: 656994\nFind your local number: https://us02web.zoom.us/u/kc0YUx9UW\n \n \n 
URL:https://westcolumbiagorgechamber.com/event/coffee-chat-with-ed-yunkherr-of-black-rock-coffee-bar-4/
LOCATION:OR
CATEGORIES:Chamber Zoom Coffee Chats
END:VEVENT
BEGIN:VEVENT
DTSTART;TZID=America/Los_Angeles:20210120T080000
DTEND;TZID=America/Los_Angeles:20210120T084500
DTSTAMP:20260421T163916
CREATED:20201228T211134Z
LAST-MODIFIED:20201228T211134Z
UID:7494-1611129600-1611132300@westcolumbiagorgechamber.com
SUMMARY:Chamber Coffee Chat with Ed Yunkherr of Black Rock Coffee Bar
DESCRIPTION:BE TOGETHER\n\nEvery day is a new chance to have a good effect on our neighborhood. Our approach to building quality drinks and quality relationships is one and the same… intentionality. \n\nSUBSCRIBE & SAVE\nCOFFEE DELIVERED TO YOUR DOOR\nCan’t live without your favorite Black Rock coffee? Subscribe now for monthly deliveries at a discounted price! \nChamber Admin is inviting you to a scheduled Zoom meeting.\n \nTopic: Chamber Chat\nTime: Jan 20\, 2021 08:00 AM Pacific Time (US and Canada)\n    Every week on Wed\, 2 occurrence(s)\n    Jan 20\, 2021 08:00 AM\n    Jan 27\, 2021 08:00 AM\nPlease download and import the following iCalendar (.ics) files to your calendar system.\nWeekly: https://us02web.zoom.us/meeting/tZIscuCsrzwiE9ZN_nXXCiRYfJ07TMZnpoDi/ics?icsToken=98tyKuGurz4jHtWSuBCFRpwABY_4XejzmGZHj_pnsiDrOxhwazHPMMgSZYZSKtbA\n \nJoin Zoom Meeting\nhttps://us02web.zoom.us/j/86159417892?pwd=VzlNUXgvRHNoSTd2VHRxWllpTzB2Zz09\n \nMeeting ID: 861 5941 7892\nPasscode: 656994\nOne tap mobile\n+12532158782\,\,86159417892#\,\,\,\,*656994# US (Tacoma)\n+13462487799\,\,86159417892#\,\,\,\,*656994# US (Houston)\n \nDial by your location\n    +1 253 215 8782 US (Tacoma)\n    +1 346 248 7799 US (Houston)\n    +1 669 900 6833 US (San Jose)\n    +1 301 715 8592 US (Washington D.C)\n    +1 312 626 6799 US (Chicago)\n    +1 929 436 2866 US (New York)\nMeeting ID: 861 5941 7892\nPasscode: 656994\nFind your local number: https://us02web.zoom.us/u/kc0YUx9UW\n \n \n 
URL:https://westcolumbiagorgechamber.com/event/coffee-chat-with-ed-yunkherr-of-black-rock-coffee-bar/
LOCATION:OR
CATEGORIES:Chamber Zoom Coffee Chats
END:VEVENT
BEGIN:VEVENT
DTSTART;TZID=America/Los_Angeles:20210120T080000
DTEND;TZID=America/Los_Angeles:20210120T084500
DTSTAMP:20260421T163916
CREATED:20201228T211134Z
LAST-MODIFIED:20201228T211134Z
UID:9429-1611129600-1611132300@westcolumbiagorgechamber.com
SUMMARY:Chamber Coffee Chat with Ed Yunkherr of Black Rock Coffee Bar
DESCRIPTION:BE TOGETHER\n\nEvery day is a new chance to have a good effect on our neighborhood. Our approach to building quality drinks and quality relationships is one and the same… intentionality. \n\nSUBSCRIBE & SAVE\nCOFFEE DELIVERED TO YOUR DOOR\nCan’t live without your favorite Black Rock coffee? Subscribe now for monthly deliveries at a discounted price! \nChamber Admin is inviting you to a scheduled Zoom meeting.\n \nTopic: Chamber Chat\nTime: Jan 20\, 2021 08:00 AM Pacific Time (US and Canada)\n    Every week on Wed\, 2 occurrence(s)\n    Jan 20\, 2021 08:00 AM\n    Jan 27\, 2021 08:00 AM\nPlease download and import the following iCalendar (.ics) files to your calendar system.\nWeekly: https://us02web.zoom.us/meeting/tZIscuCsrzwiE9ZN_nXXCiRYfJ07TMZnpoDi/ics?icsToken=98tyKuGurz4jHtWSuBCFRpwABY_4XejzmGZHj_pnsiDrOxhwazHPMMgSZYZSKtbA\n \nJoin Zoom Meeting\nhttps://us02web.zoom.us/j/86159417892?pwd=VzlNUXgvRHNoSTd2VHRxWllpTzB2Zz09\n \nMeeting ID: 861 5941 7892\nPasscode: 656994\nOne tap mobile\n+12532158782\,\,86159417892#\,\,\,\,*656994# US (Tacoma)\n+13462487799\,\,86159417892#\,\,\,\,*656994# US (Houston)\n \nDial by your location\n    +1 253 215 8782 US (Tacoma)\n    +1 346 248 7799 US (Houston)\n    +1 669 900 6833 US (San Jose)\n    +1 301 715 8592 US (Washington D.C)\n    +1 312 626 6799 US (Chicago)\n    +1 929 436 2866 US (New York)\nMeeting ID: 861 5941 7892\nPasscode: 656994\nFind your local number: https://us02web.zoom.us/u/kc0YUx9UW\n \n \n 
URL:https://westcolumbiagorgechamber.com/event/coffee-chat-with-ed-yunkherr-of-black-rock-coffee-bar-3/
LOCATION:OR
CATEGORIES:Chamber Zoom Coffee Chats
END:VEVENT
BEGIN:VEVENT
DTSTART;TZID=America/Los_Angeles:20210127T080000
DTEND;TZID=America/Los_Angeles:20210127T084500
DTSTAMP:20260421T163916
CREATED:20210104T223132Z
LAST-MODIFIED:20210104T223132Z
UID:7500-1611734400-1611737100@westcolumbiagorgechamber.com
SUMMARY:Chamber Coffee Chat with MetroEast Community Media and Monica Weitzel\, Director of People and Culture
DESCRIPTION:MetroEast Community Media invigorates civic engagement\, inspires diverse voices\, and strengthens community life through high quality\, low-cost media training to the public and media support to schools\, government\, and non-profit organizations. Come and hear the latest from Monica Weitzel\, Director of People and Culture!    \n  \nChamber Admin is inviting you to a scheduled Zoom meeting. \nTopic: Chamber Chat \nTime: Jan 27\, 2021 08:00 AM Pacific Time (US and Canada) \n        Every week on Wed\, 1 occurrence(s) \n        Jan 27\, 2021 08:00 AM \nPlease download and import the following iCalendar (.ics) files to your calendar system. \nWeekly: https://us02web.zoom.us/meeting/tZIscuCsrzwiE9ZN_nXXCiRYfJ07TMZnpoDi/ics?icsToken=98tyKuGurz4jHtWSuBCFRpwABY_4XejzmGZHj_pnsiDrOxhwazHPMMgSZYZSKtbA \nJoin Zoom Meeting \nhttps://us02web.zoom.us/j/86159417892?pwd=VzlNUXgvRHNoSTd2VHRxWllpTzB2Zz09 \nMeeting ID: 861 5941 7892 \nPasscode: 656994 \nOne tap mobile \n+12532158782\,\,86159417892#\,\,\,\,*656994# US (Tacoma) \n+13462487799\,\,86159417892#\,\,\,\,*656994# US (Houston) \nDial by your location \n        +1 253 215 8782 US (Tacoma) \n        +1 346 248 7799 US (Houston) \n        +1 669 900 6833 US (San Jose) \n        +1 301 715 8592 US (Washington D.C) \n        +1 312 626 6799 US (Chicago) \n        +1 929 436 2866 US (New York) \nMeeting ID: 861 5941 7892 \nPasscode: 656994 \nFind your local number: https://us02web.zoom.us/u/kc0YUx9UW
URL:https://westcolumbiagorgechamber.com/event/metroeast-community-media-and-monica-weitzel-director-of-people-and-culture/
LOCATION:OR
CATEGORIES:Chamber Zoom Coffee Chats
END:VEVENT
BEGIN:VEVENT
DTSTART;TZID=America/Los_Angeles:20210127T080000
DTEND;TZID=America/Los_Angeles:20210127T084500
DTSTAMP:20260421T163916
CREATED:20210104T223132Z
LAST-MODIFIED:20210104T223132Z
UID:9432-1611734400-1611737100@westcolumbiagorgechamber.com
SUMMARY:Chamber Coffee Chat with MetroEast Community Media and Monica Weitzel\, Director of People and Culture
DESCRIPTION:MetroEast Community Media invigorates civic engagement\, inspires diverse voices\, and strengthens community life through high quality\, low-cost media training to the public and media support to schools\, government\, and non-profit organizations. Come and hear the latest from Monica Weitzel\, Director of People and Culture!    \n  \nChamber Admin is inviting you to a scheduled Zoom meeting. \nTopic: Chamber Chat \nTime: Jan 27\, 2021 08:00 AM Pacific Time (US and Canada) \n        Every week on Wed\, 1 occurrence(s) \n        Jan 27\, 2021 08:00 AM \nPlease download and import the following iCalendar (.ics) files to your calendar system. \nWeekly: https://us02web.zoom.us/meeting/tZIscuCsrzwiE9ZN_nXXCiRYfJ07TMZnpoDi/ics?icsToken=98tyKuGurz4jHtWSuBCFRpwABY_4XejzmGZHj_pnsiDrOxhwazHPMMgSZYZSKtbA \nJoin Zoom Meeting \nhttps://us02web.zoom.us/j/86159417892?pwd=VzlNUXgvRHNoSTd2VHRxWllpTzB2Zz09 \nMeeting ID: 861 5941 7892 \nPasscode: 656994 \nOne tap mobile \n+12532158782\,\,86159417892#\,\,\,\,*656994# US (Tacoma) \n+13462487799\,\,86159417892#\,\,\,\,*656994# US (Houston) \nDial by your location \n        +1 253 215 8782 US (Tacoma) \n        +1 346 248 7799 US (Houston) \n        +1 669 900 6833 US (San Jose) \n        +1 301 715 8592 US (Washington D.C) \n        +1 312 626 6799 US (Chicago) \n        +1 929 436 2866 US (New York) \nMeeting ID: 861 5941 7892 \nPasscode: 656994 \nFind your local number: https://us02web.zoom.us/u/kc0YUx9UW
URL:https://westcolumbiagorgechamber.com/event/metroeast-community-media-and-monica-weitzel-director-of-people-and-culture-3/
LOCATION:OR
CATEGORIES:Chamber Zoom Coffee Chats
END:VEVENT
BEGIN:VEVENT
DTSTART;TZID=America/Los_Angeles:20210127T080000
DTEND;TZID=America/Los_Angeles:20210127T084500
DTSTAMP:20260421T163916
CREATED:20210104T223132Z
LAST-MODIFIED:20210104T223132Z
UID:9398-1611734400-1611737100@westcolumbiagorgechamber.com
SUMMARY:Chamber Coffee Chat with MetroEast Community Media and Monica Weitzel\, Director of People and Culture
DESCRIPTION:MetroEast Community Media invigorates civic engagement\, inspires diverse voices\, and strengthens community life through high quality\, low-cost media training to the public and media support to schools\, government\, and non-profit organizations. Come and hear the latest from Monica Weitzel\, Director of People and Culture!    \n  \nChamber Admin is inviting you to a scheduled Zoom meeting. \nTopic: Chamber Chat \nTime: Jan 27\, 2021 08:00 AM Pacific Time (US and Canada) \n        Every week on Wed\, 1 occurrence(s) \n        Jan 27\, 2021 08:00 AM \nPlease download and import the following iCalendar (.ics) files to your calendar system. \nWeekly: https://us02web.zoom.us/meeting/tZIscuCsrzwiE9ZN_nXXCiRYfJ07TMZnpoDi/ics?icsToken=98tyKuGurz4jHtWSuBCFRpwABY_4XejzmGZHj_pnsiDrOxhwazHPMMgSZYZSKtbA \nJoin Zoom Meeting \nhttps://us02web.zoom.us/j/86159417892?pwd=VzlNUXgvRHNoSTd2VHRxWllpTzB2Zz09 \nMeeting ID: 861 5941 7892 \nPasscode: 656994 \nOne tap mobile \n+12532158782\,\,86159417892#\,\,\,\,*656994# US (Tacoma) \n+13462487799\,\,86159417892#\,\,\,\,*656994# US (Houston) \nDial by your location \n        +1 253 215 8782 US (Tacoma) \n        +1 346 248 7799 US (Houston) \n        +1 669 900 6833 US (San Jose) \n        +1 301 715 8592 US (Washington D.C) \n        +1 312 626 6799 US (Chicago) \n        +1 929 436 2866 US (New York) \nMeeting ID: 861 5941 7892 \nPasscode: 656994 \nFind your local number: https://us02web.zoom.us/u/kc0YUx9UW
URL:https://westcolumbiagorgechamber.com/event/metroeast-community-media-and-monica-weitzel-director-of-people-and-culture-2/
LOCATION:OR
CATEGORIES:Chamber Zoom Coffee Chats
END:VEVENT
BEGIN:VEVENT
DTSTART;TZID=America/Los_Angeles:20210127T080000
DTEND;TZID=America/Los_Angeles:20210127T084500
DTSTAMP:20260421T163916
CREATED:20210104T223132Z
LAST-MODIFIED:20210104T223132Z
UID:9836-1611734400-1611737100@westcolumbiagorgechamber.com
SUMMARY:Chamber Coffee Chat with MetroEast Community Media and Monica Weitzel\, Director of People and Culture
DESCRIPTION:MetroEast Community Media invigorates civic engagement\, inspires diverse voices\, and strengthens community life through high quality\, low-cost media training to the public and media support to schools\, government\, and non-profit organizations. Come and hear the latest from Monica Weitzel\, Director of People and Culture!    \n  \nChamber Admin is inviting you to a scheduled Zoom meeting. \nTopic: Chamber Chat \nTime: Jan 27\, 2021 08:00 AM Pacific Time (US and Canada) \n        Every week on Wed\, 1 occurrence(s) \n        Jan 27\, 2021 08:00 AM \nPlease download and import the following iCalendar (.ics) files to your calendar system. \nWeekly: https://us02web.zoom.us/meeting/tZIscuCsrzwiE9ZN_nXXCiRYfJ07TMZnpoDi/ics?icsToken=98tyKuGurz4jHtWSuBCFRpwABY_4XejzmGZHj_pnsiDrOxhwazHPMMgSZYZSKtbA \nJoin Zoom Meeting \nhttps://us02web.zoom.us/j/86159417892?pwd=VzlNUXgvRHNoSTd2VHRxWllpTzB2Zz09 \nMeeting ID: 861 5941 7892 \nPasscode: 656994 \nOne tap mobile \n+12532158782\,\,86159417892#\,\,\,\,*656994# US (Tacoma) \n+13462487799\,\,86159417892#\,\,\,\,*656994# US (Houston) \nDial by your location \n        +1 253 215 8782 US (Tacoma) \n        +1 346 248 7799 US (Houston) \n        +1 669 900 6833 US (San Jose) \n        +1 301 715 8592 US (Washington D.C) \n        +1 312 626 6799 US (Chicago) \n        +1 929 436 2866 US (New York) \nMeeting ID: 861 5941 7892 \nPasscode: 656994 \nFind your local number: https://us02web.zoom.us/u/kc0YUx9UW
URL:https://westcolumbiagorgechamber.com/event/metroeast-community-media-and-monica-weitzel-director-of-people-and-culture-4/
LOCATION:OR
CATEGORIES:Chamber Zoom Coffee Chats
END:VEVENT
END:VCALENDAR