BEGIN:VCALENDAR
VERSION:2.0
PRODID:-//West Columbia Gorge Chamber of Commerce - ECPv6.15.20//NONSGML v1.0//EN
CALSCALE:GREGORIAN
METHOD:PUBLISH
X-ORIGINAL-URL:https://westcolumbiagorgechamber.com
X-WR-CALDESC:Events for West Columbia Gorge Chamber of Commerce
REFRESH-INTERVAL;VALUE=DURATION:PT1H
X-Robots-Tag:noindex
X-PUBLISHED-TTL:PT1H
BEGIN:VTIMEZONE
TZID:America/Los_Angeles
BEGIN:DAYLIGHT
TZOFFSETFROM:-0800
TZOFFSETTO:-0700
TZNAME:PDT
DTSTART:20190310T100000
END:DAYLIGHT
BEGIN:STANDARD
TZOFFSETFROM:-0700
TZOFFSETTO:-0800
TZNAME:PST
DTSTART:20191103T090000
END:STANDARD
BEGIN:DAYLIGHT
TZOFFSETFROM:-0800
TZOFFSETTO:-0700
TZNAME:PDT
DTSTART:20200308T100000
END:DAYLIGHT
BEGIN:STANDARD
TZOFFSETFROM:-0700
TZOFFSETTO:-0800
TZNAME:PST
DTSTART:20201101T090000
END:STANDARD
BEGIN:DAYLIGHT
TZOFFSETFROM:-0800
TZOFFSETTO:-0700
TZNAME:PDT
DTSTART:20210314T100000
END:DAYLIGHT
BEGIN:STANDARD
TZOFFSETFROM:-0700
TZOFFSETTO:-0800
TZNAME:PST
DTSTART:20211107T090000
END:STANDARD
END:VTIMEZONE
BEGIN:VEVENT
DTSTART;TZID=America/Los_Angeles:20201014T080000
DTEND;TZID=America/Los_Angeles:20201014T084500
DTSTAMP:20260422T013632
CREATED:20200826T164629Z
LAST-MODIFIED:20200826T164629Z
UID:9812-1602662400-1602665100@westcolumbiagorgechamber.com
SUMMARY:WCGCC Chamber Coffee Chat with the Port of Portland
DESCRIPTION:Ken Anderton\, Sr. Manager for Real Estate Development with the Port of Portland will be speaking \n  \nChamber Admin is inviting you to a scheduled Zoom meeting. \nTopic: Chamber Chat\nTime: Sep 16\, 2020 08:00 AM Pacific Time (US and Canada)\nEvery week on Wed\, until Oct 21\, 2020\, 6 occurrence(s)\nSep 16\, 2020 08:00 AM\nSep 23\, 2020 08:00 AM\nSep 30\, 2020 08:00 AM\nOct 7\, 2020 08:00 AM\nOct 14\, 2020 08:00 AM\nOct 21\, 2020 08:00 AM\nPlease download and import the following iCalendar (.ics) files to your calendar system.\nWeekly: https://us02web.zoom.us/meeting/tZIscuCsrzwiE9ZN_nXXCiRYfJ07TMZnpoDi/ics?icsToken=98tyKuGurz4jHtWSuBCFRpwABY_4XejzmGZHj_pnsiDrOxhwazHPMMgSZYZSKtbA \nJoin Zoom Meeting\nhttps://us02web.zoom.us/j/86159417892?pwd=VzlNUXgvRHNoSTd2VHRxWllpTzB2Zz09 \nMeeting ID: 861 5941 7892\nPasscode: 656994\nOne tap mobile\n+12532158782\,\,86159417892#\,\,\,\,\,\,0#\,\,656994# US (Tacoma)\n+13462487799\,\,86159417892#\,\,\,\,\,\,0#\,\,656994# US (Houston) \nDial by your location\n+1 253 215 8782 US (Tacoma)\n+1 346 248 7799 US (Houston)\n+1 669 900 6833 US (San Jose)\n+1 301 715 8592 US (Germantown)\n+1 312 626 6799 US (Chicago)\n+1 929 436 2866 US (New York)\nMeeting ID: 861 5941 7892\nPasscode: 656994\nFind your local number: https://us02web.zoom.us/u/kc1s2DETpD \n 
URL:https://westcolumbiagorgechamber.com/event/chamber-chat-with-the-portland-of-portland-4/
LOCATION:OR
CATEGORIES:Chamber Meetings,Chamber Zoom Coffee Chats
END:VEVENT
BEGIN:VEVENT
DTSTART;TZID=America/Los_Angeles:20201014T080000
DTEND;TZID=America/Los_Angeles:20201014T084500
DTSTAMP:20260422T013632
CREATED:20200826T164629Z
LAST-MODIFIED:20200826T164629Z
UID:7026-1602662400-1602665100@westcolumbiagorgechamber.com
SUMMARY:WCGCC Chamber Coffee Chat with the Port of Portland
DESCRIPTION:Ken Anderton\, Sr. Manager for Real Estate Development with the Port of Portland will be speaking \n  \nChamber Admin is inviting you to a scheduled Zoom meeting. \nTopic: Chamber Chat\nTime: Sep 16\, 2020 08:00 AM Pacific Time (US and Canada)\nEvery week on Wed\, until Oct 21\, 2020\, 6 occurrence(s)\nSep 16\, 2020 08:00 AM\nSep 23\, 2020 08:00 AM\nSep 30\, 2020 08:00 AM\nOct 7\, 2020 08:00 AM\nOct 14\, 2020 08:00 AM\nOct 21\, 2020 08:00 AM\nPlease download and import the following iCalendar (.ics) files to your calendar system.\nWeekly: https://us02web.zoom.us/meeting/tZIscuCsrzwiE9ZN_nXXCiRYfJ07TMZnpoDi/ics?icsToken=98tyKuGurz4jHtWSuBCFRpwABY_4XejzmGZHj_pnsiDrOxhwazHPMMgSZYZSKtbA \nJoin Zoom Meeting\nhttps://us02web.zoom.us/j/86159417892?pwd=VzlNUXgvRHNoSTd2VHRxWllpTzB2Zz09 \nMeeting ID: 861 5941 7892\nPasscode: 656994\nOne tap mobile\n+12532158782\,\,86159417892#\,\,\,\,\,\,0#\,\,656994# US (Tacoma)\n+13462487799\,\,86159417892#\,\,\,\,\,\,0#\,\,656994# US (Houston) \nDial by your location\n+1 253 215 8782 US (Tacoma)\n+1 346 248 7799 US (Houston)\n+1 669 900 6833 US (San Jose)\n+1 301 715 8592 US (Germantown)\n+1 312 626 6799 US (Chicago)\n+1 929 436 2866 US (New York)\nMeeting ID: 861 5941 7892\nPasscode: 656994\nFind your local number: https://us02web.zoom.us/u/kc1s2DETpD \n 
URL:https://westcolumbiagorgechamber.com/event/chamber-chat-with-the-portland-of-portland/
LOCATION:OR
CATEGORIES:Chamber Meetings,Chamber Zoom Coffee Chats
END:VEVENT
BEGIN:VEVENT
DTSTART;TZID=America/Los_Angeles:20201014T080000
DTEND;TZID=America/Los_Angeles:20201014T084500
DTSTAMP:20260422T013632
CREATED:20200826T164629Z
LAST-MODIFIED:20200826T164629Z
UID:9360-1602662400-1602665100@westcolumbiagorgechamber.com
SUMMARY:WCGCC Chamber Coffee Chat with the Port of Portland
DESCRIPTION:Ken Anderton\, Sr. Manager for Real Estate Development with the Port of Portland will be speaking \n  \nChamber Admin is inviting you to a scheduled Zoom meeting. \nTopic: Chamber Chat\nTime: Sep 16\, 2020 08:00 AM Pacific Time (US and Canada)\nEvery week on Wed\, until Oct 21\, 2020\, 6 occurrence(s)\nSep 16\, 2020 08:00 AM\nSep 23\, 2020 08:00 AM\nSep 30\, 2020 08:00 AM\nOct 7\, 2020 08:00 AM\nOct 14\, 2020 08:00 AM\nOct 21\, 2020 08:00 AM\nPlease download and import the following iCalendar (.ics) files to your calendar system.\nWeekly: https://us02web.zoom.us/meeting/tZIscuCsrzwiE9ZN_nXXCiRYfJ07TMZnpoDi/ics?icsToken=98tyKuGurz4jHtWSuBCFRpwABY_4XejzmGZHj_pnsiDrOxhwazHPMMgSZYZSKtbA \nJoin Zoom Meeting\nhttps://us02web.zoom.us/j/86159417892?pwd=VzlNUXgvRHNoSTd2VHRxWllpTzB2Zz09 \nMeeting ID: 861 5941 7892\nPasscode: 656994\nOne tap mobile\n+12532158782\,\,86159417892#\,\,\,\,\,\,0#\,\,656994# US (Tacoma)\n+13462487799\,\,86159417892#\,\,\,\,\,\,0#\,\,656994# US (Houston) \nDial by your location\n+1 253 215 8782 US (Tacoma)\n+1 346 248 7799 US (Houston)\n+1 669 900 6833 US (San Jose)\n+1 301 715 8592 US (Germantown)\n+1 312 626 6799 US (Chicago)\n+1 929 436 2866 US (New York)\nMeeting ID: 861 5941 7892\nPasscode: 656994\nFind your local number: https://us02web.zoom.us/u/kc1s2DETpD \n 
URL:https://westcolumbiagorgechamber.com/event/chamber-chat-with-the-portland-of-portland-3/
LOCATION:OR
CATEGORIES:Chamber Meetings,Chamber Zoom Coffee Chats
END:VEVENT
BEGIN:VEVENT
DTSTART;TZID=America/Los_Angeles:20201014T080000
DTEND;TZID=America/Los_Angeles:20201014T084500
DTSTAMP:20260422T013632
CREATED:20200826T164629Z
LAST-MODIFIED:20200826T164629Z
UID:9324-1602662400-1602665100@westcolumbiagorgechamber.com
SUMMARY:WCGCC Chamber Coffee Chat with the Port of Portland
DESCRIPTION:Ken Anderton\, Sr. Manager for Real Estate Development with the Port of Portland will be speaking \n  \nChamber Admin is inviting you to a scheduled Zoom meeting. \nTopic: Chamber Chat\nTime: Sep 16\, 2020 08:00 AM Pacific Time (US and Canada)\nEvery week on Wed\, until Oct 21\, 2020\, 6 occurrence(s)\nSep 16\, 2020 08:00 AM\nSep 23\, 2020 08:00 AM\nSep 30\, 2020 08:00 AM\nOct 7\, 2020 08:00 AM\nOct 14\, 2020 08:00 AM\nOct 21\, 2020 08:00 AM\nPlease download and import the following iCalendar (.ics) files to your calendar system.\nWeekly: https://us02web.zoom.us/meeting/tZIscuCsrzwiE9ZN_nXXCiRYfJ07TMZnpoDi/ics?icsToken=98tyKuGurz4jHtWSuBCFRpwABY_4XejzmGZHj_pnsiDrOxhwazHPMMgSZYZSKtbA \nJoin Zoom Meeting\nhttps://us02web.zoom.us/j/86159417892?pwd=VzlNUXgvRHNoSTd2VHRxWllpTzB2Zz09 \nMeeting ID: 861 5941 7892\nPasscode: 656994\nOne tap mobile\n+12532158782\,\,86159417892#\,\,\,\,\,\,0#\,\,656994# US (Tacoma)\n+13462487799\,\,86159417892#\,\,\,\,\,\,0#\,\,656994# US (Houston) \nDial by your location\n+1 253 215 8782 US (Tacoma)\n+1 346 248 7799 US (Houston)\n+1 669 900 6833 US (San Jose)\n+1 301 715 8592 US (Germantown)\n+1 312 626 6799 US (Chicago)\n+1 929 436 2866 US (New York)\nMeeting ID: 861 5941 7892\nPasscode: 656994\nFind your local number: https://us02web.zoom.us/u/kc1s2DETpD \n 
URL:https://westcolumbiagorgechamber.com/event/chamber-chat-with-the-portland-of-portland-2/
LOCATION:OR
CATEGORIES:Chamber Meetings,Chamber Zoom Coffee Chats
END:VEVENT
BEGIN:VEVENT
DTSTART;TZID=America/Los_Angeles:20201021T080000
DTEND;TZID=America/Los_Angeles:20201021T084500
DTSTAMP:20260422T013632
CREATED:20200826T185256Z
LAST-MODIFIED:20200826T185256Z
UID:9327-1603267200-1603269900@westcolumbiagorgechamber.com
SUMMARY:WCGCC Chamber Coffee Chat via Zoom with All About Automotive
DESCRIPTION:  \n  \nChamber Admin is inviting you to a scheduled Zoom meeting.\nTopic: Chamber Chat\nTime: Oct 21\, 2020 08:00 AM Pacific Time (US and Canada)\nEvery week on Wed\, 15 occurrence(s)\nOct 21\, 2020 08:00 AM\nOct 28\, 2020 08:00 AM\nNov 4\, 2020 08:00 AM\nNov 11\, 2020 08:00 AM\nNov 18\, 2020 08:00 AM\nNov 25\, 2020 08:00 AM\nDec 2\, 2020 08:00 AM\nDec 9\, 2020 08:00 AM\nDec 16\, 2020 08:00 AM\nDec 23\, 2020 08:00 AM\nDec 30\, 2020 08:00 AM\nJan 6\, 2021 08:00 AM\nJan 13\, 2021 08:00 AM\nJan 20\, 2021 08:00 AM\nJan 27\, 2021 08:00 AM\nPlease download and import the following iCalendar (.ics) files to your calendar\nsystem.\nWeekly:\nhttps://us02web.zoom.us/meeting/tZIscuCsrzwiE9ZN_nXXCiRYfJ07TMZnpoDi/ics?\nicsToken=98tyKuGurz4jHtWSuBCFRpwABY_4XejzmGZHj_pnsiDrOxhwazHPMMg\nSZYZSKtbA\nJoin Zoom Meeting\nhttps://us02web.zoom.us/j/86159417892?\npwd=VzlNUXgvRHNoSTd2VHRxWllpTzB2Zz09\nMeeting ID: 861 5941 7892\nPasscode: 656994\nOne tap mobile\n+12532158782\,\,86159417892#\,\,\,\,\,\,0#\,\,656994# US (Tacoma)\n+13462487799\,\,86159417892#\,\,\,\,\,\,0#\,\,656994# US (Houston)\nDial by your location\n+1 253 215 8782 US (Tacoma)\n+1 346 248 7799 US (Houston)\n+1 669 900 6833 US (San Jose)\n+1 301 715 8592 US (Germantown)\n+1 312 626 6799 US (Chicago)\n+1 929 436 2866 US (New York)\nMeeting ID: 861 5941 7892\nPasscode: 656994\nFind your local number: https://us02web.zoom.us/u/kc1s2DETpD
URL:https://westcolumbiagorgechamber.com/event/chamber-chat-with-rains-2/
LOCATION:OR
CATEGORIES:Chamber Meetings,Chamber Zoom Coffee Chats
END:VEVENT
BEGIN:VEVENT
DTSTART;TZID=America/Los_Angeles:20201021T080000
DTEND;TZID=America/Los_Angeles:20201021T084500
DTSTAMP:20260422T013632
CREATED:20200826T185256Z
LAST-MODIFIED:20200826T185256Z
UID:9813-1603267200-1603269900@westcolumbiagorgechamber.com
SUMMARY:WCGCC Chamber Coffee Chat via Zoom with All About Automotive
DESCRIPTION:  \n  \nChamber Admin is inviting you to a scheduled Zoom meeting.\nTopic: Chamber Chat\nTime: Oct 21\, 2020 08:00 AM Pacific Time (US and Canada)\nEvery week on Wed\, 15 occurrence(s)\nOct 21\, 2020 08:00 AM\nOct 28\, 2020 08:00 AM\nNov 4\, 2020 08:00 AM\nNov 11\, 2020 08:00 AM\nNov 18\, 2020 08:00 AM\nNov 25\, 2020 08:00 AM\nDec 2\, 2020 08:00 AM\nDec 9\, 2020 08:00 AM\nDec 16\, 2020 08:00 AM\nDec 23\, 2020 08:00 AM\nDec 30\, 2020 08:00 AM\nJan 6\, 2021 08:00 AM\nJan 13\, 2021 08:00 AM\nJan 20\, 2021 08:00 AM\nJan 27\, 2021 08:00 AM\nPlease download and import the following iCalendar (.ics) files to your calendar\nsystem.\nWeekly:\nhttps://us02web.zoom.us/meeting/tZIscuCsrzwiE9ZN_nXXCiRYfJ07TMZnpoDi/ics?\nicsToken=98tyKuGurz4jHtWSuBCFRpwABY_4XejzmGZHj_pnsiDrOxhwazHPMMg\nSZYZSKtbA\nJoin Zoom Meeting\nhttps://us02web.zoom.us/j/86159417892?\npwd=VzlNUXgvRHNoSTd2VHRxWllpTzB2Zz09\nMeeting ID: 861 5941 7892\nPasscode: 656994\nOne tap mobile\n+12532158782\,\,86159417892#\,\,\,\,\,\,0#\,\,656994# US (Tacoma)\n+13462487799\,\,86159417892#\,\,\,\,\,\,0#\,\,656994# US (Houston)\nDial by your location\n+1 253 215 8782 US (Tacoma)\n+1 346 248 7799 US (Houston)\n+1 669 900 6833 US (San Jose)\n+1 301 715 8592 US (Germantown)\n+1 312 626 6799 US (Chicago)\n+1 929 436 2866 US (New York)\nMeeting ID: 861 5941 7892\nPasscode: 656994\nFind your local number: https://us02web.zoom.us/u/kc1s2DETpD
URL:https://westcolumbiagorgechamber.com/event/chamber-chat-with-rains-4/
LOCATION:OR
CATEGORIES:Chamber Meetings,Chamber Zoom Coffee Chats
END:VEVENT
BEGIN:VEVENT
DTSTART;TZID=America/Los_Angeles:20201021T080000
DTEND;TZID=America/Los_Angeles:20201021T084500
DTSTAMP:20260422T013632
CREATED:20200826T185256Z
LAST-MODIFIED:20200826T185256Z
UID:7029-1603267200-1603269900@westcolumbiagorgechamber.com
SUMMARY:WCGCC Chamber Coffee Chat via Zoom with All About Automotive
DESCRIPTION:  \n  \nChamber Admin is inviting you to a scheduled Zoom meeting.\nTopic: Chamber Chat\nTime: Oct 21\, 2020 08:00 AM Pacific Time (US and Canada)\nEvery week on Wed\, 15 occurrence(s)\nOct 21\, 2020 08:00 AM\nOct 28\, 2020 08:00 AM\nNov 4\, 2020 08:00 AM\nNov 11\, 2020 08:00 AM\nNov 18\, 2020 08:00 AM\nNov 25\, 2020 08:00 AM\nDec 2\, 2020 08:00 AM\nDec 9\, 2020 08:00 AM\nDec 16\, 2020 08:00 AM\nDec 23\, 2020 08:00 AM\nDec 30\, 2020 08:00 AM\nJan 6\, 2021 08:00 AM\nJan 13\, 2021 08:00 AM\nJan 20\, 2021 08:00 AM\nJan 27\, 2021 08:00 AM\nPlease download and import the following iCalendar (.ics) files to your calendar\nsystem.\nWeekly:\nhttps://us02web.zoom.us/meeting/tZIscuCsrzwiE9ZN_nXXCiRYfJ07TMZnpoDi/ics?\nicsToken=98tyKuGurz4jHtWSuBCFRpwABY_4XejzmGZHj_pnsiDrOxhwazHPMMg\nSZYZSKtbA\nJoin Zoom Meeting\nhttps://us02web.zoom.us/j/86159417892?\npwd=VzlNUXgvRHNoSTd2VHRxWllpTzB2Zz09\nMeeting ID: 861 5941 7892\nPasscode: 656994\nOne tap mobile\n+12532158782\,\,86159417892#\,\,\,\,\,\,0#\,\,656994# US (Tacoma)\n+13462487799\,\,86159417892#\,\,\,\,\,\,0#\,\,656994# US (Houston)\nDial by your location\n+1 253 215 8782 US (Tacoma)\n+1 346 248 7799 US (Houston)\n+1 669 900 6833 US (San Jose)\n+1 301 715 8592 US (Germantown)\n+1 312 626 6799 US (Chicago)\n+1 929 436 2866 US (New York)\nMeeting ID: 861 5941 7892\nPasscode: 656994\nFind your local number: https://us02web.zoom.us/u/kc1s2DETpD
URL:https://westcolumbiagorgechamber.com/event/chamber-chat-with-rains/
LOCATION:OR
CATEGORIES:Chamber Meetings,Chamber Zoom Coffee Chats
END:VEVENT
BEGIN:VEVENT
DTSTART;TZID=America/Los_Angeles:20201021T080000
DTEND;TZID=America/Los_Angeles:20201021T084500
DTSTAMP:20260422T013632
CREATED:20200826T185256Z
LAST-MODIFIED:20200826T185256Z
UID:9362-1603267200-1603269900@westcolumbiagorgechamber.com
SUMMARY:WCGCC Chamber Coffee Chat via Zoom with All About Automotive
DESCRIPTION:  \n  \nChamber Admin is inviting you to a scheduled Zoom meeting.\nTopic: Chamber Chat\nTime: Oct 21\, 2020 08:00 AM Pacific Time (US and Canada)\nEvery week on Wed\, 15 occurrence(s)\nOct 21\, 2020 08:00 AM\nOct 28\, 2020 08:00 AM\nNov 4\, 2020 08:00 AM\nNov 11\, 2020 08:00 AM\nNov 18\, 2020 08:00 AM\nNov 25\, 2020 08:00 AM\nDec 2\, 2020 08:00 AM\nDec 9\, 2020 08:00 AM\nDec 16\, 2020 08:00 AM\nDec 23\, 2020 08:00 AM\nDec 30\, 2020 08:00 AM\nJan 6\, 2021 08:00 AM\nJan 13\, 2021 08:00 AM\nJan 20\, 2021 08:00 AM\nJan 27\, 2021 08:00 AM\nPlease download and import the following iCalendar (.ics) files to your calendar\nsystem.\nWeekly:\nhttps://us02web.zoom.us/meeting/tZIscuCsrzwiE9ZN_nXXCiRYfJ07TMZnpoDi/ics?\nicsToken=98tyKuGurz4jHtWSuBCFRpwABY_4XejzmGZHj_pnsiDrOxhwazHPMMg\nSZYZSKtbA\nJoin Zoom Meeting\nhttps://us02web.zoom.us/j/86159417892?\npwd=VzlNUXgvRHNoSTd2VHRxWllpTzB2Zz09\nMeeting ID: 861 5941 7892\nPasscode: 656994\nOne tap mobile\n+12532158782\,\,86159417892#\,\,\,\,\,\,0#\,\,656994# US (Tacoma)\n+13462487799\,\,86159417892#\,\,\,\,\,\,0#\,\,656994# US (Houston)\nDial by your location\n+1 253 215 8782 US (Tacoma)\n+1 346 248 7799 US (Houston)\n+1 669 900 6833 US (San Jose)\n+1 301 715 8592 US (Germantown)\n+1 312 626 6799 US (Chicago)\n+1 929 436 2866 US (New York)\nMeeting ID: 861 5941 7892\nPasscode: 656994\nFind your local number: https://us02web.zoom.us/u/kc1s2DETpD
URL:https://westcolumbiagorgechamber.com/event/chamber-chat-with-rains-3/
LOCATION:OR
CATEGORIES:Chamber Meetings,Chamber Zoom Coffee Chats
END:VEVENT
BEGIN:VEVENT
DTSTART;TZID=America/Los_Angeles:20201028T080000
DTEND;TZID=America/Los_Angeles:20201028T084500
DTSTAMP:20260422T013632
CREATED:20200902T185836Z
LAST-MODIFIED:20200902T185836Z
UID:9336-1603872000-1603874700@westcolumbiagorgechamber.com
SUMMARY:Chamber Coffee Chat- Sugarpine Drive In
DESCRIPTION:Our speaker for this Chamber Chat will be Ryan Domingo from Sugarpine Drive-In our newest member who is rejoining.  Come and listen to the exciting developments that are happening with this wonderful restaurant/drive-in since Covid19. \nChamber Admin is inviting you to a scheduled Zoom meeting.\n \nTopic: Chamber Chat\nTime: Oct 28\, 2020 08:00 AM Pacific Time (US and Canada)\n    Every week on Wed\, 14 occurrence(s)\n    Oct 28\, 2020 08:00 AM\n    Nov 4\, 2020 08:00 AM\n    Nov 11\, 2020 08:00 AM\n    Nov 18\, 2020 08:00 AM\n    Nov 25\, 2020 08:00 AM\n    Dec 2\, 2020 08:00 AM\n    Dec 9\, 2020 08:00 AM\n    Dec 16\, 2020 08:00 AM\n    Dec 23\, 2020 08:00 AM\n    Dec 30\, 2020 08:00 AM\n    Jan 6\, 2021 08:00 AM\n    Jan 13\, 2021 08:00 AM\n    Jan 20\, 2021 08:00 AM\n    Jan 27\, 2021 08:00 AM\nPlease download and import the following iCalendar (.ics) files to your calendar system.\nWeekly: https://us02web.zoom.us/meeting/tZIscuCsrzwiE9ZN_nXXCiRYfJ07TMZnpoDi/ics?icsToken=98tyKuGurz4jHtWSuBCFRpwABY_4XejzmGZHj_pnsiDrOxhwazHPMMgSZYZSKtbA\n \nJoin Zoom Meeting\nhttps://us02web.zoom.us/j/86159417892?pwd=VzlNUXgvRHNoSTd2VHRxWllpTzB2Zz09\n \nMeeting ID: 861 5941 7892\nPasscode: 656994\nOne tap mobile\n+12532158782\,\,86159417892#\,\,\,\,\,\,0#\,\,656994# US (Tacoma)\n+13462487799\,\,86159417892#\,\,\,\,\,\,0#\,\,656994# US (Houston)\n \nDial by your location\n    +1 253 215 8782 US (Tacoma)\n    +1 346 248 7799 US (Houston)\n    +1 669 900 6833 US (San Jose)\n    +1 301 715 8592 US (Germantown)\n    +1 312 626 6799 US (Chicago)\n    +1 929 436 2866 US (New York)\nMeeting ID: 861 5941 7892\nPasscode: 656994\nFind your local number: https://us02web.zoom.us/u/kc1s2DETpD\n 
URL:https://westcolumbiagorgechamber.com/event/chamber-coffee-chat-sugarpine-drive-in-2/
LOCATION:OR
CATEGORIES:Chamber Meetings,Chamber Zoom Coffee Chats
END:VEVENT
BEGIN:VEVENT
DTSTART;TZID=America/Los_Angeles:20201028T080000
DTEND;TZID=America/Los_Angeles:20201028T084500
DTSTAMP:20260422T013632
CREATED:20200902T185836Z
LAST-MODIFIED:20200902T185836Z
UID:9816-1603872000-1603874700@westcolumbiagorgechamber.com
SUMMARY:Chamber Coffee Chat- Sugarpine Drive In
DESCRIPTION:Our speaker for this Chamber Chat will be Ryan Domingo from Sugarpine Drive-In our newest member who is rejoining.  Come and listen to the exciting developments that are happening with this wonderful restaurant/drive-in since Covid19. \nChamber Admin is inviting you to a scheduled Zoom meeting.\n \nTopic: Chamber Chat\nTime: Oct 28\, 2020 08:00 AM Pacific Time (US and Canada)\n    Every week on Wed\, 14 occurrence(s)\n    Oct 28\, 2020 08:00 AM\n    Nov 4\, 2020 08:00 AM\n    Nov 11\, 2020 08:00 AM\n    Nov 18\, 2020 08:00 AM\n    Nov 25\, 2020 08:00 AM\n    Dec 2\, 2020 08:00 AM\n    Dec 9\, 2020 08:00 AM\n    Dec 16\, 2020 08:00 AM\n    Dec 23\, 2020 08:00 AM\n    Dec 30\, 2020 08:00 AM\n    Jan 6\, 2021 08:00 AM\n    Jan 13\, 2021 08:00 AM\n    Jan 20\, 2021 08:00 AM\n    Jan 27\, 2021 08:00 AM\nPlease download and import the following iCalendar (.ics) files to your calendar system.\nWeekly: https://us02web.zoom.us/meeting/tZIscuCsrzwiE9ZN_nXXCiRYfJ07TMZnpoDi/ics?icsToken=98tyKuGurz4jHtWSuBCFRpwABY_4XejzmGZHj_pnsiDrOxhwazHPMMgSZYZSKtbA\n \nJoin Zoom Meeting\nhttps://us02web.zoom.us/j/86159417892?pwd=VzlNUXgvRHNoSTd2VHRxWllpTzB2Zz09\n \nMeeting ID: 861 5941 7892\nPasscode: 656994\nOne tap mobile\n+12532158782\,\,86159417892#\,\,\,\,\,\,0#\,\,656994# US (Tacoma)\n+13462487799\,\,86159417892#\,\,\,\,\,\,0#\,\,656994# US (Houston)\n \nDial by your location\n    +1 253 215 8782 US (Tacoma)\n    +1 346 248 7799 US (Houston)\n    +1 669 900 6833 US (San Jose)\n    +1 301 715 8592 US (Germantown)\n    +1 312 626 6799 US (Chicago)\n    +1 929 436 2866 US (New York)\nMeeting ID: 861 5941 7892\nPasscode: 656994\nFind your local number: https://us02web.zoom.us/u/kc1s2DETpD\n 
URL:https://westcolumbiagorgechamber.com/event/chamber-coffee-chat-sugarpine-drive-in-4/
LOCATION:OR
CATEGORIES:Chamber Meetings,Chamber Zoom Coffee Chats
END:VEVENT
BEGIN:VEVENT
DTSTART;TZID=America/Los_Angeles:20201028T080000
DTEND;TZID=America/Los_Angeles:20201028T084500
DTSTAMP:20260422T013632
CREATED:20200902T185836Z
LAST-MODIFIED:20200902T185836Z
UID:7060-1603872000-1603874700@westcolumbiagorgechamber.com
SUMMARY:Chamber Coffee Chat- Sugarpine Drive In
DESCRIPTION:Our speaker for this Chamber Chat will be Ryan Domingo from Sugarpine Drive-In our newest member who is rejoining.  Come and listen to the exciting developments that are happening with this wonderful restaurant/drive-in since Covid19. \nChamber Admin is inviting you to a scheduled Zoom meeting.\n \nTopic: Chamber Chat\nTime: Oct 28\, 2020 08:00 AM Pacific Time (US and Canada)\n    Every week on Wed\, 14 occurrence(s)\n    Oct 28\, 2020 08:00 AM\n    Nov 4\, 2020 08:00 AM\n    Nov 11\, 2020 08:00 AM\n    Nov 18\, 2020 08:00 AM\n    Nov 25\, 2020 08:00 AM\n    Dec 2\, 2020 08:00 AM\n    Dec 9\, 2020 08:00 AM\n    Dec 16\, 2020 08:00 AM\n    Dec 23\, 2020 08:00 AM\n    Dec 30\, 2020 08:00 AM\n    Jan 6\, 2021 08:00 AM\n    Jan 13\, 2021 08:00 AM\n    Jan 20\, 2021 08:00 AM\n    Jan 27\, 2021 08:00 AM\nPlease download and import the following iCalendar (.ics) files to your calendar system.\nWeekly: https://us02web.zoom.us/meeting/tZIscuCsrzwiE9ZN_nXXCiRYfJ07TMZnpoDi/ics?icsToken=98tyKuGurz4jHtWSuBCFRpwABY_4XejzmGZHj_pnsiDrOxhwazHPMMgSZYZSKtbA\n \nJoin Zoom Meeting\nhttps://us02web.zoom.us/j/86159417892?pwd=VzlNUXgvRHNoSTd2VHRxWllpTzB2Zz09\n \nMeeting ID: 861 5941 7892\nPasscode: 656994\nOne tap mobile\n+12532158782\,\,86159417892#\,\,\,\,\,\,0#\,\,656994# US (Tacoma)\n+13462487799\,\,86159417892#\,\,\,\,\,\,0#\,\,656994# US (Houston)\n \nDial by your location\n    +1 253 215 8782 US (Tacoma)\n    +1 346 248 7799 US (Houston)\n    +1 669 900 6833 US (San Jose)\n    +1 301 715 8592 US (Germantown)\n    +1 312 626 6799 US (Chicago)\n    +1 929 436 2866 US (New York)\nMeeting ID: 861 5941 7892\nPasscode: 656994\nFind your local number: https://us02web.zoom.us/u/kc1s2DETpD\n 
URL:https://westcolumbiagorgechamber.com/event/chamber-coffee-chat-sugarpine-drive-in/
LOCATION:OR
CATEGORIES:Chamber Meetings,Chamber Zoom Coffee Chats
END:VEVENT
BEGIN:VEVENT
DTSTART;TZID=America/Los_Angeles:20201028T080000
DTEND;TZID=America/Los_Angeles:20201028T084500
DTSTAMP:20260422T013632
CREATED:20200902T185836Z
LAST-MODIFIED:20200902T185836Z
UID:9372-1603872000-1603874700@westcolumbiagorgechamber.com
SUMMARY:Chamber Coffee Chat- Sugarpine Drive In
DESCRIPTION:Our speaker for this Chamber Chat will be Ryan Domingo from Sugarpine Drive-In our newest member who is rejoining.  Come and listen to the exciting developments that are happening with this wonderful restaurant/drive-in since Covid19. \nChamber Admin is inviting you to a scheduled Zoom meeting.\n \nTopic: Chamber Chat\nTime: Oct 28\, 2020 08:00 AM Pacific Time (US and Canada)\n    Every week on Wed\, 14 occurrence(s)\n    Oct 28\, 2020 08:00 AM\n    Nov 4\, 2020 08:00 AM\n    Nov 11\, 2020 08:00 AM\n    Nov 18\, 2020 08:00 AM\n    Nov 25\, 2020 08:00 AM\n    Dec 2\, 2020 08:00 AM\n    Dec 9\, 2020 08:00 AM\n    Dec 16\, 2020 08:00 AM\n    Dec 23\, 2020 08:00 AM\n    Dec 30\, 2020 08:00 AM\n    Jan 6\, 2021 08:00 AM\n    Jan 13\, 2021 08:00 AM\n    Jan 20\, 2021 08:00 AM\n    Jan 27\, 2021 08:00 AM\nPlease download and import the following iCalendar (.ics) files to your calendar system.\nWeekly: https://us02web.zoom.us/meeting/tZIscuCsrzwiE9ZN_nXXCiRYfJ07TMZnpoDi/ics?icsToken=98tyKuGurz4jHtWSuBCFRpwABY_4XejzmGZHj_pnsiDrOxhwazHPMMgSZYZSKtbA\n \nJoin Zoom Meeting\nhttps://us02web.zoom.us/j/86159417892?pwd=VzlNUXgvRHNoSTd2VHRxWllpTzB2Zz09\n \nMeeting ID: 861 5941 7892\nPasscode: 656994\nOne tap mobile\n+12532158782\,\,86159417892#\,\,\,\,\,\,0#\,\,656994# US (Tacoma)\n+13462487799\,\,86159417892#\,\,\,\,\,\,0#\,\,656994# US (Houston)\n \nDial by your location\n    +1 253 215 8782 US (Tacoma)\n    +1 346 248 7799 US (Houston)\n    +1 669 900 6833 US (San Jose)\n    +1 301 715 8592 US (Germantown)\n    +1 312 626 6799 US (Chicago)\n    +1 929 436 2866 US (New York)\nMeeting ID: 861 5941 7892\nPasscode: 656994\nFind your local number: https://us02web.zoom.us/u/kc1s2DETpD\n 
URL:https://westcolumbiagorgechamber.com/event/chamber-coffee-chat-sugarpine-drive-in-3/
LOCATION:OR
CATEGORIES:Chamber Meetings,Chamber Zoom Coffee Chats
END:VEVENT
END:VCALENDAR