BEGIN:VCALENDAR
VERSION:2.0
PRODID:-//West Columbia Gorge Chamber of Commerce - ECPv6.15.20//NONSGML v1.0//EN
CALSCALE:GREGORIAN
METHOD:PUBLISH
X-ORIGINAL-URL:https://westcolumbiagorgechamber.com
X-WR-CALDESC:Events for West Columbia Gorge Chamber of Commerce
REFRESH-INTERVAL;VALUE=DURATION:PT1H
X-Robots-Tag:noindex
X-PUBLISHED-TTL:PT1H
BEGIN:VTIMEZONE
TZID:America/Los_Angeles
BEGIN:DAYLIGHT
TZOFFSETFROM:-0800
TZOFFSETTO:-0700
TZNAME:PDT
DTSTART:20250309T100000
END:DAYLIGHT
BEGIN:STANDARD
TZOFFSETFROM:-0700
TZOFFSETTO:-0800
TZNAME:PST
DTSTART:20251102T090000
END:STANDARD
BEGIN:DAYLIGHT
TZOFFSETFROM:-0800
TZOFFSETTO:-0700
TZNAME:PDT
DTSTART:20260308T100000
END:DAYLIGHT
BEGIN:STANDARD
TZOFFSETFROM:-0700
TZOFFSETTO:-0800
TZNAME:PST
DTSTART:20261101T090000
END:STANDARD
BEGIN:DAYLIGHT
TZOFFSETFROM:-0800
TZOFFSETTO:-0700
TZNAME:PDT
DTSTART:20270314T100000
END:DAYLIGHT
BEGIN:STANDARD
TZOFFSETFROM:-0700
TZOFFSETTO:-0800
TZNAME:PST
DTSTART:20271107T090000
END:STANDARD
END:VTIMEZONE
BEGIN:VEVENT
DTSTART;TZID=America/Los_Angeles:20260311T073000
DTEND;TZID=America/Los_Angeles:20260311T090000
DTSTAMP:20260422T090436
CREATED:20260210T001228Z
LAST-MODIFIED:20260210T021651Z
UID:13676-1773214200-1773219600@westcolumbiagorgechamber.com
SUMMARY:Chamber Chat at Smith Memorial Presbyterian Church
DESCRIPTION:Chamber Chat is a casual morning gathering where business professionals connect\, share what they do\, and learn about one another. \nThe West Columbia Gorge Chamber of Commerce invites you to join this friendly business networking event designed to build relationships and strengthen our local business community. \nWe proudly serve the cities and communities of:• Cascade Locks• Fairview• Wood Village• Troutdale• And surrounding communities \nWhether you’re new to the Chamber\, new to the area\, or simply looking to grow your network\, this is a great place to start. Guests are always welcome.
URL:https://westcolumbiagorgechamber.com/event/chamber-chat-at-smith-memorial-presbyterian-church/
LOCATION:Smith Memorial Prsbytarian Church\, 2420 NE Fairview Ave\, Fairview Ave\, Fairview\, OR\, 97024
CATEGORIES:Chamber Chat
END:VEVENT
END:VCALENDAR