BEGIN:VCALENDAR
VERSION:2.0
PRODID:-//West Columbia Gorge Chamber of Commerce - ECPv6.15.20//NONSGML v1.0//EN
CALSCALE:GREGORIAN
METHOD:PUBLISH
X-WR-CALNAME:West Columbia Gorge Chamber of Commerce
X-ORIGINAL-URL:https://westcolumbiagorgechamber.com
X-WR-CALDESC:Events for West Columbia Gorge Chamber of Commerce
REFRESH-INTERVAL;VALUE=DURATION:PT1H
X-Robots-Tag:noindex
X-PUBLISHED-TTL:PT1H
BEGIN:VTIMEZONE
TZID:America/Los_Angeles
BEGIN:DAYLIGHT
TZOFFSETFROM:-0800
TZOFFSETTO:-0700
TZNAME:PDT
DTSTART:20230312T100000
END:DAYLIGHT
BEGIN:STANDARD
TZOFFSETFROM:-0700
TZOFFSETTO:-0800
TZNAME:PST
DTSTART:20231105T090000
END:STANDARD
BEGIN:DAYLIGHT
TZOFFSETFROM:-0800
TZOFFSETTO:-0700
TZNAME:PDT
DTSTART:20240310T100000
END:DAYLIGHT
BEGIN:STANDARD
TZOFFSETFROM:-0700
TZOFFSETTO:-0800
TZNAME:PST
DTSTART:20241103T090000
END:STANDARD
BEGIN:DAYLIGHT
TZOFFSETFROM:-0800
TZOFFSETTO:-0700
TZNAME:PDT
DTSTART:20250309T100000
END:DAYLIGHT
BEGIN:STANDARD
TZOFFSETFROM:-0700
TZOFFSETTO:-0800
TZNAME:PST
DTSTART:20251102T090000
END:STANDARD
BEGIN:DAYLIGHT
TZOFFSETFROM:-0800
TZOFFSETTO:-0700
TZNAME:PDT
DTSTART:20260308T100000
END:DAYLIGHT
BEGIN:STANDARD
TZOFFSETFROM:-0700
TZOFFSETTO:-0800
TZNAME:PST
DTSTART:20261101T090000
END:STANDARD
BEGIN:DAYLIGHT
TZOFFSETFROM:-0800
TZOFFSETTO:-0700
TZNAME:PDT
DTSTART:20270314T100000
END:DAYLIGHT
BEGIN:STANDARD
TZOFFSETFROM:-0700
TZOFFSETTO:-0800
TZNAME:PST
DTSTART:20271107T090000
END:STANDARD
END:VTIMEZONE
BEGIN:VEVENT
DTSTART;TZID=America/Los_Angeles:20240117T190000
DTEND;TZID=America/Los_Angeles:20240117T200000
DTSTAMP:20260421T124820
CREATED:20240107T033918Z
LAST-MODIFIED:20240113T180950Z
UID:12661-1705518000-1705521600@westcolumbiagorgechamber.com
SUMMARY:January Board Meeting January 17th
DESCRIPTION:Monthly board meeting will be held at Bateman Carroll Funeral Home in Gresham. This meeting is open to the public. \nIf you would like to attend by zoom\, please click the link \n  \nGeoff Kenway is inviting you to a scheduled Zoom meeting. \nTopic: January Board meeting\nTime: Jan 17\, 2024 06:00 PM Pacific Time (US and Canada) \nJoin Zoom Meeting\nhttps://us02web.zoom.us/j/83155965823?pwd=cmV6aU9ZMUtPVitIOFVDcWpSNzIvdz09 \nMeeting ID: 831 5596 5823\nPasscode: 991151 \n— \nOne tap mobile\n+17193594580\,\,83155965823#\,\,\,\,*991151# US\n+12532050468\,\,83155965823#\,\,\,\,*991151# US \n— \nDial by your location\n• +1 719 359 4580 US\n• +1 253 205 0468 US\n• +1 253 215 8782 US (Tacoma)\n• +1 346 248 7799 US (Houston)\n• +1 669 444 9171 US\n• +1 669 900 6833 US (San Jose)\n• +1 360 209 5623 US\n• +1 386 347 5053 US\n• +1 507 473 4847 US\n• +1 564 217 2000 US\n• +1 646 931 3860 US\n• +1 689 278 1000 US\n• +1 929 436 2866 US (New York)\n• +1 301 715 8592 US (Washington DC)\n• +1 305 224 1968 US\n• +1 309 205 3325 US\n• +1 312 626 6799 US (Chicago) \nMeeting ID: 831 5596 5823\nPasscode: 991151 \nFind your local number: https://us02web.zoom.us/u/ked2odjzpt \n 
URL:https://westcolumbiagorgechamber.com/event/january-board-meeting-january-17th/
LOCATION:Bateman and  Carroll Funeral  Home
CATEGORIES:Board of Directors Meetings
END:VEVENT
BEGIN:VEVENT
DTSTART;TZID=America/Los_Angeles:20240320T190000
DTEND;TZID=America/Los_Angeles:20240320T203000
DTSTAMP:20260421T124820
CREATED:20240304T175231Z
LAST-MODIFIED:20240304T175231Z
UID:12726-1710961200-1710966600@westcolumbiagorgechamber.com
SUMMARY:March Board meeting at Bateman Carroll Funeral Home
DESCRIPTION:Monthly Board meeting will be held at Bateman Carroll Funeral Home located at 520 W Powell Blvd Gresham\, Or 97030
URL:https://westcolumbiagorgechamber.com/event/march-board-meeting-at-bateman-carroll-funeral-home/
LOCATION:Bateman and  Carroll Funeral  Home
CATEGORIES:Board of Directors Meetings
END:VEVENT
BEGIN:VEVENT
DTSTART;TZID=America/Los_Angeles:20240417T190000
DTEND;TZID=America/Los_Angeles:20240417T203000
DTSTAMP:20260421T124820
CREATED:20240330T230739Z
LAST-MODIFIED:20240330T230739Z
UID:12745-1713380400-1713385800@westcolumbiagorgechamber.com
SUMMARY:Monthly Board meeting at Bateman Carroll Funeral Home
DESCRIPTION:
URL:https://westcolumbiagorgechamber.com/event/monthly-board-meeting-at-bateman-carroll-funeral-home-2/
LOCATION:Bateman and  Carroll Funeral  Home
CATEGORIES:Board of Directors Meetings
END:VEVENT
BEGIN:VEVENT
DTSTART;TZID=America/Los_Angeles:20240619T190000
DTEND;TZID=America/Los_Angeles:20240619T200000
DTSTAMP:20260421T124820
CREATED:20240612T141232Z
LAST-MODIFIED:20240612T141232Z
UID:12837-1718823600-1718827200@westcolumbiagorgechamber.com
SUMMARY:Monthly Board meeting is June 19th at Bateman Carroll Funeral Home
DESCRIPTION:This months board meeting will be held at Bateman Carroll Funeral Home.  This is open for members to attend.
URL:https://westcolumbiagorgechamber.com/event/monthly-board-meeting-is-june-19th-at-bateman-carroll-funeral-home/
LOCATION:Bateman and  Carroll Funeral  Home
CATEGORIES:Board of Directors Meetings
ORGANIZER;CN="West Columbia Gorge Chamber of Commerce":MAILTO:info@westcolumbiagorgechamber.com
END:VEVENT
BEGIN:VEVENT
DTSTART;TZID=America/Los_Angeles:20240717T190000
DTEND;TZID=America/Los_Angeles:20240717T200000
DTSTAMP:20260421T124820
CREATED:20240712T200452Z
LAST-MODIFIED:20240712T200508Z
UID:12858-1721242800-1721246400@westcolumbiagorgechamber.com
SUMMARY:Monthly Board meeting at Bateman Carroll Funeral Home!
DESCRIPTION:Our monthly Board meeting will be held at Bateman Carroll Funeral home at 6pm  If you want to be more involved in your Chambers\, come to the board meeting.\nWe also have openings for new board members as well. \nSee you there.
URL:https://westcolumbiagorgechamber.com/event/monthly-board-meeting-at-bateman-carroll-funeral-home-3/
LOCATION:Bateman Carroll Funeral Home\, 520 W Powell Blvd\, Gresham\, OR\, 97030
CATEGORIES:Board of Directors Meetings
END:VEVENT
BEGIN:VEVENT
DTSTART;TZID=America/Los_Angeles:20241016T180000
DTEND;TZID=America/Los_Angeles:20241016T193000
DTSTAMP:20260421T124820
CREATED:20240925T201229Z
LAST-MODIFIED:20240925T201229Z
UID:13051-1729101600-1729107000@westcolumbiagorgechamber.com
SUMMARY:Monthly board meeting is Oct 16th and will be held at Bateman Carroll Funeral home in Gresham.
DESCRIPTION:Monthly board meeting is Oct 16th. All are welcome to attend. We have a new board member\, Diana Moreno from the SBDC Mt Hood Community College \nIf your are interested please contact the Chamber 503-669-7473 for instructions on how to attend.
URL:https://westcolumbiagorgechamber.com/event/monthly-board-meeting-is-oct-16th-and-will-be-held-at-bateman-carroll-funeral-home-in-gresham/
LOCATION:Bateman and  Carroll Funeral  Home
CATEGORIES:Board of Directors Meetings
END:VEVENT
BEGIN:VEVENT
DTSTART;TZID=America/Los_Angeles:20241120T180000
DTEND;TZID=America/Los_Angeles:20241120T193000
DTSTAMP:20260421T124820
CREATED:20241116T175154Z
LAST-MODIFIED:20241116T175154Z
UID:13139-1732125600-1732131000@westcolumbiagorgechamber.com
SUMMARY:Monthly Board meeting will be held at Bateman Carrol Funeral Home at 6pm
DESCRIPTION:Our Board meeting will be held at Bateman Carroll Funeral Home. If you are interested in being a board member or want to have more say in what your Chamber is doing\, come and join us.
URL:https://westcolumbiagorgechamber.com/event/monthly-board-meeting-will-be-held-at-bateman-carrol-funeral-home-at-6pm/
LOCATION:Bateman Carroll Funeral Home\, 520 W Powell Blvd\, Gresham\, OR\, 97030
CATEGORIES:Board of Directors Meetings
END:VEVENT
BEGIN:VEVENT
DTSTART;TZID=America/Los_Angeles:20250115T180000
DTEND;TZID=America/Los_Angeles:20250115T193000
DTSTAMP:20260421T124820
CREATED:20241231T203326Z
LAST-MODIFIED:20241231T203326Z
UID:13199-1736964000-1736969400@westcolumbiagorgechamber.com
SUMMARY:January Board Meeting at Bateman Carroll Funeral Home in Gresham 6pm
DESCRIPTION:Monthly Board meeting of the Chamber. Open to our members and we may have a zoom option depending on the Chamber needs
URL:https://westcolumbiagorgechamber.com/event/january-board-meeting-at-bateman-carroll-funeral-home-in-gresham-6pm/
LOCATION:Bateman and  Carroll Funeral  Home
CATEGORIES:Board of Directors Meetings
ORGANIZER;CN="West Columbia Gorge Chamber of Commerce":MAILTO:info@westcolumbiagorgechamber.com
END:VEVENT
BEGIN:VEVENT
DTSTART;TZID=America/Los_Angeles:20250319T180000
DTEND;TZID=America/Los_Angeles:20250319T190000
DTSTAMP:20260421T124820
CREATED:20250305T025154Z
LAST-MODIFIED:20250305T025154Z
UID:13280-1742407200-1742410800@westcolumbiagorgechamber.com
SUMMARY:Monthly Board meeting will be at Bateman Carroll Funeral Home at 6pm
DESCRIPTION:
URL:https://westcolumbiagorgechamber.com/event/monthly-board-meeting-will-be-at-bateman-carroll-funeral-home-at-6pm/
LOCATION:Bateman and  Carroll Funeral  Home
CATEGORIES:Board of Directors Meetings
ORGANIZER;CN="West Columbia Gorge Chamber of Commerce":MAILTO:info@westcolumbiagorgechamber.com
END:VEVENT
BEGIN:VEVENT
DTSTART;TZID=America/Los_Angeles:20250416T180000
DTEND;TZID=America/Los_Angeles:20250416T190000
DTSTAMP:20260421T124820
CREATED:20250409T203436Z
LAST-MODIFIED:20250409T203436Z
UID:13322-1744826400-1744830000@westcolumbiagorgechamber.com
SUMMARY:April Board meeting at Bateman and Carroll Funeral Home of Gresham
DESCRIPTION:Monthly board meeting will be held at Bateman and Carrol funeral Home in Gresham at 6pm
URL:https://westcolumbiagorgechamber.com/event/april-board-meeting-at-bateman-and-carroll-funeral-home-of-gresham/
LOCATION:Bateman and  Carroll Funeral  Home
CATEGORIES:Board of Directors Meetings
END:VEVENT
BEGIN:VEVENT
DTSTART;TZID=America/Los_Angeles:20250521T180000
DTEND;TZID=America/Los_Angeles:20250521T193000
DTSTAMP:20260421T124820
CREATED:20250508T224219Z
LAST-MODIFIED:20250508T224219Z
UID:13368-1747850400-1747855800@westcolumbiagorgechamber.com
SUMMARY:Monthly Board Meeting at Bateman Carroll Funeral Home
DESCRIPTION:Monthly Board meeting at Bateman Carroll Funeral Home.
URL:https://westcolumbiagorgechamber.com/event/monthly-board-meeting-at-bateman-carroll-funeral-home-4/
LOCATION:Bateman and  Carroll Funeral  Home
CATEGORIES:Board of Directors Meetings
ORGANIZER;CN="West Columbia Gorge Chamber of Commerce":MAILTO:info@westcolumbiagorgechamber.com
END:VEVENT
BEGIN:VEVENT
DTSTART;TZID=America/Los_Angeles:20251015T180000
DTEND;TZID=America/Los_Angeles:20251015T180000
DTSTAMP:20260421T124820
CREATED:20251013T170517Z
LAST-MODIFIED:20251013T170559Z
UID:13591-1760551200-1760551200@westcolumbiagorgechamber.com
SUMMARY:Monthly Board Meeting for October.
DESCRIPTION:Our Monthly Board meeting will be at 6pm at Bateman Carroll funeral Home in Gresham. There is also a zoom link if you want to participate that wasy \nhttps://us02web.zoom.us/j/85060557024?pwd=33z4Ng5g9PnEaaBzDvdTAwrKwNpWp8.1  Highlight and ask to attend. \nGeoff Kenway\nPresident\nWCGCCC
URL:https://westcolumbiagorgechamber.com/event/monthly-board-meeting-for-october/
LOCATION:Bateman and  Carroll Funeral  Home
CATEGORIES:Board of Directors Meetings
END:VEVENT
BEGIN:VEVENT
DTSTART;TZID=America/Los_Angeles:20251119T180000
DTEND;TZID=America/Los_Angeles:20251119T193000
DTSTAMP:20260421T124820
CREATED:20251104T233529Z
LAST-MODIFIED:20251113T002927Z
UID:13599-1763575200-1763580600@westcolumbiagorgechamber.com
SUMMARY:Board meeting for November is November 19th at Bateman Carroll Funeral Home
DESCRIPTION:This month’s board meeting is at Bateman Carroll Funeral Home in Gresham. Our board meetings are open to members. \nZoom meeting \nhttps://us02web.zoom.us/j/86140869067?pwd=EKZxWql9mk4CtjvAsw67a0IdEPmQiE.1 \ncopy and paste in your browser.
URL:https://westcolumbiagorgechamber.com/event/board-meeting-for-november-is-november-19th-at-bateman-carroll-funeral-home/
LOCATION:Bateman and  Carroll Funeral  Home
CATEGORIES:Board of Directors Meetings
ORGANIZER;CN="West Columbia Gorge Chamber of Commerce":MAILTO:info@westcolumbiagorgechamber.com
END:VEVENT
BEGIN:VEVENT
DTSTART;TZID=America/Los_Angeles:20251222T100000
DTEND;TZID=America/Los_Angeles:20251222T113000
DTSTAMP:20260421T124820
CREATED:20251104T234031Z
LAST-MODIFIED:20251205T220826Z
UID:13601-1766397600-1766403000@westcolumbiagorgechamber.com
SUMMARY:December Board meeting will be on zoom
DESCRIPTION:December Board meeting will be at Bateman Carroll Funeral Home and is open to members to attend.
URL:https://westcolumbiagorgechamber.com/event/december-board-meeting-will-be-at-bateman-carroll-funeral-home/
LOCATION:Bateman and  Carroll Funeral  Home
CATEGORIES:Board of Directors Meetings
ORGANIZER;CN="West Columbia Gorge Chamber of Commerce":MAILTO:info@westcolumbiagorgechamber.com
END:VEVENT
BEGIN:VEVENT
DTSTART;TZID=America/Los_Angeles:20260121T180000
DTEND;TZID=America/Los_Angeles:20260121T193000
DTSTAMP:20260421T124820
CREATED:20260113T003631Z
LAST-MODIFIED:20260113T003631Z
UID:13665-1769018400-1769023800@westcolumbiagorgechamber.com
SUMMARY:Board Meeting
DESCRIPTION:West Columbia Gorge Chamber of Commerce board meetings are open to all who would like to attend.
URL:https://westcolumbiagorgechamber.com/event/board-meeting/
LOCATION:Bateman Carroll Funeral Home\, 520 W Powell Blvd\, Gresham\, OR\, 97030
CATEGORIES:Board of Directors Meetings
END:VEVENT
BEGIN:VEVENT
DTSTART;TZID=America/Los_Angeles:20260218T180000
DTEND;TZID=America/Los_Angeles:20260218T193000
DTSTAMP:20260421T124820
CREATED:20260113T003728Z
LAST-MODIFIED:20260113T003728Z
UID:13667-1771437600-1771443000@westcolumbiagorgechamber.com
SUMMARY:Board Meeting
DESCRIPTION:West Columbia Gorge Chamber of Commerce board meetings are open to all who would like to attend.
URL:https://westcolumbiagorgechamber.com/event/board-meeting-2/
LOCATION:Bateman Carroll Funeral Home\, 520 W Powell Blvd\, Gresham\, OR\, 97030
CATEGORIES:Board of Directors Meetings
END:VEVENT
END:VCALENDAR