BEGIN:VCALENDAR
VERSION:2.0
PRODID:-//West Columbia Gorge Chamber of Commerce - ECPv6.15.20//NONSGML v1.0//EN
CALSCALE:GREGORIAN
METHOD:PUBLISH
X-ORIGINAL-URL:https://westcolumbiagorgechamber.com
X-WR-CALDESC:Events for West Columbia Gorge Chamber of Commerce
REFRESH-INTERVAL;VALUE=DURATION:PT1H
X-Robots-Tag:noindex
X-PUBLISHED-TTL:PT1H
BEGIN:VTIMEZONE
TZID:America/Los_Angeles
BEGIN:DAYLIGHT
TZOFFSETFROM:-0800
TZOFFSETTO:-0700
TZNAME:PDT
DTSTART:20170312T100000
END:DAYLIGHT
BEGIN:STANDARD
TZOFFSETFROM:-0700
TZOFFSETTO:-0800
TZNAME:PST
DTSTART:20171105T090000
END:STANDARD
BEGIN:DAYLIGHT
TZOFFSETFROM:-0800
TZOFFSETTO:-0700
TZNAME:PDT
DTSTART:20180311T100000
END:DAYLIGHT
BEGIN:STANDARD
TZOFFSETFROM:-0700
TZOFFSETTO:-0800
TZNAME:PST
DTSTART:20181104T090000
END:STANDARD
BEGIN:DAYLIGHT
TZOFFSETFROM:-0800
TZOFFSETTO:-0700
TZNAME:PDT
DTSTART:20190310T100000
END:DAYLIGHT
BEGIN:STANDARD
TZOFFSETFROM:-0700
TZOFFSETTO:-0800
TZNAME:PST
DTSTART:20191103T090000
END:STANDARD
END:VTIMEZONE
BEGIN:VEVENT
DTSTART;TZID=America/Los_Angeles:20180510T190000
DTEND;TZID=America/Los_Angeles:20180510T210000
DTSTAMP:20260425T051137
CREATED:20180515T193622Z
LAST-MODIFIED:20180515T193622Z
UID:5607-1525978800-1525986000@westcolumbiagorgechamber.com
SUMMARY:Board of Directors Meeting
DESCRIPTION:The Board of Directors will be meeting at 7pm in the Kellogg Room at the Troutdale Policing Community Center.
URL:https://westcolumbiagorgechamber.com/event/board-of-directors-meeting-15/
LOCATION:The Kellogg Room at Troutdale Policing Community Center\, 234 SW Kendall Ave\, Troutdale\, OR\, 97060\, United States
CATEGORIES:Board of Directors Meetings,Chamber Meetings
END:VEVENT
BEGIN:VEVENT
DTSTART;TZID=America/Los_Angeles:20180510T190000
DTEND;TZID=America/Los_Angeles:20180510T210000
DTSTAMP:20260425T051137
CREATED:20180515T193622Z
LAST-MODIFIED:20180515T193622Z
UID:8855-1525978800-1525986000@westcolumbiagorgechamber.com
SUMMARY:Board of Directors Meeting
DESCRIPTION:The Board of Directors will be meeting at 7pm in the Kellogg Room at the Troutdale Policing Community Center.
URL:https://westcolumbiagorgechamber.com/event/board-of-directors-meeting-15-2/
LOCATION:The Kellogg Room at Troutdale Policing Community Center\, 234 SW Kendall Ave\, Troutdale\, OR\, 97060\, United States
CATEGORIES:Board of Directors Meetings,Chamber Meetings
END:VEVENT
BEGIN:VEVENT
DTSTART;TZID=America/Los_Angeles:20180510T190000
DTEND;TZID=America/Los_Angeles:20180510T210000
DTSTAMP:20260425T051137
CREATED:20180515T193622Z
LAST-MODIFIED:20180515T193622Z
UID:9655-1525978800-1525986000@westcolumbiagorgechamber.com
SUMMARY:Board of Directors Meeting
DESCRIPTION:The Board of Directors will be meeting at 7pm in the Kellogg Room at the Troutdale Policing Community Center.
URL:https://westcolumbiagorgechamber.com/event/board-of-directors-meeting-15-4/
LOCATION:The Kellogg Room at Troutdale Policing Community Center\, 234 SW Kendall Ave\, Troutdale\, OR\, 97060\, United States
CATEGORIES:Board of Directors Meetings,Chamber Meetings
END:VEVENT
BEGIN:VEVENT
DTSTART;TZID=America/Los_Angeles:20180510T190000
DTEND;TZID=America/Los_Angeles:20180510T210000
DTSTAMP:20260425T051137
CREATED:20180515T193622Z
LAST-MODIFIED:20180515T193622Z
UID:8894-1525978800-1525986000@westcolumbiagorgechamber.com
SUMMARY:Board of Directors Meeting
DESCRIPTION:The Board of Directors will be meeting at 7pm in the Kellogg Room at the Troutdale Policing Community Center.
URL:https://westcolumbiagorgechamber.com/event/board-of-directors-meeting-15-3/
LOCATION:The Kellogg Room at Troutdale Policing Community Center\, 234 SW Kendall Ave\, Troutdale\, OR\, 97060\, United States
CATEGORIES:Board of Directors Meetings,Chamber Meetings
END:VEVENT
BEGIN:VEVENT
DTSTART;TZID=America/Los_Angeles:20180517T190000
DTEND;TZID=America/Los_Angeles:20180517T200000
DTSTAMP:20260425T051137
CREATED:20180517T011257Z
LAST-MODIFIED:20180517T011257Z
UID:8916-1526583600-1526587200@westcolumbiagorgechamber.com
SUMMARY:Board of Directors Special Meeting
DESCRIPTION:Board of Directors Special Meeting \nTo be held in the WCGCC office conference room.
URL:https://westcolumbiagorgechamber.com/event/board-of-directors-special-meeting-3/
LOCATION:West Columbia Gorge Chamber of Commerce\, P. O Box 245\, Troutdale\, 97060\, United States
CATEGORIES:Board of Directors Meetings
END:VEVENT
BEGIN:VEVENT
DTSTART;TZID=America/Los_Angeles:20180517T190000
DTEND;TZID=America/Los_Angeles:20180517T200000
DTSTAMP:20260425T051137
CREATED:20180517T011257Z
LAST-MODIFIED:20180517T011257Z
UID:5624-1526583600-1526587200@westcolumbiagorgechamber.com
SUMMARY:Board of Directors Special Meeting
DESCRIPTION:Board of Directors Special Meeting \nTo be held in the WCGCC office conference room.
URL:https://westcolumbiagorgechamber.com/event/board-of-directors-special-meeting/
LOCATION:West Columbia Gorge Chamber of Commerce\, P. O Box 245\, Troutdale\, 97060\, United States
CATEGORIES:Board of Directors Meetings
END:VEVENT
BEGIN:VEVENT
DTSTART;TZID=America/Los_Angeles:20180517T190000
DTEND;TZID=America/Los_Angeles:20180517T200000
DTSTAMP:20260425T051137
CREATED:20180517T011257Z
LAST-MODIFIED:20180517T011257Z
UID:8876-1526583600-1526587200@westcolumbiagorgechamber.com
SUMMARY:Board of Directors Special Meeting
DESCRIPTION:Board of Directors Special Meeting \nTo be held in the WCGCC office conference room.
URL:https://westcolumbiagorgechamber.com/event/board-of-directors-special-meeting-2/
LOCATION:West Columbia Gorge Chamber of Commerce\, P. O Box 245\, Troutdale\, 97060\, United States
CATEGORIES:Board of Directors Meetings
END:VEVENT
BEGIN:VEVENT
DTSTART;TZID=America/Los_Angeles:20180517T190000
DTEND;TZID=America/Los_Angeles:20180517T200000
DTSTAMP:20260425T051137
CREATED:20180517T011257Z
LAST-MODIFIED:20180517T011257Z
UID:9662-1526583600-1526587200@westcolumbiagorgechamber.com
SUMMARY:Board of Directors Special Meeting
DESCRIPTION:Board of Directors Special Meeting \nTo be held in the WCGCC office conference room.
URL:https://westcolumbiagorgechamber.com/event/board-of-directors-special-meeting-4/
LOCATION:West Columbia Gorge Chamber of Commerce\, P. O Box 245\, Troutdale\, 97060\, United States
CATEGORIES:Board of Directors Meetings
END:VEVENT
BEGIN:VEVENT
DTSTART;TZID=America/Los_Angeles:20180712T190000
DTEND;TZID=America/Los_Angeles:20180712T210000
DTSTAMP:20260425T051137
CREATED:20180515T194152Z
LAST-MODIFIED:20180515T194152Z
UID:8897-1531422000-1531429200@westcolumbiagorgechamber.com
SUMMARY:Board of Directors Meeting-this meeting has been cancelled
DESCRIPTION:The Board of Directors will be meeting at 7pm in the Kellogg Room at the Troutdale Policing Community Center. \nThis meeting has been cancelled. 
URL:https://westcolumbiagorgechamber.com/event/board-of-directors-meeting-17-3/
LOCATION:The Kellogg Room at Troutdale Policing Community Center\, 234 SW Kendall Ave\, Troutdale\, OR\, 97060\, United States
CATEGORIES:Board of Directors Meetings,Chamber Meetings
END:VEVENT
BEGIN:VEVENT
DTSTART;TZID=America/Los_Angeles:20180712T190000
DTEND;TZID=America/Los_Angeles:20180712T210000
DTSTAMP:20260425T051137
CREATED:20180515T194152Z
LAST-MODIFIED:20180515T194152Z
UID:5611-1531422000-1531429200@westcolumbiagorgechamber.com
SUMMARY:Board of Directors Meeting-this meeting has been cancelled
DESCRIPTION:The Board of Directors will be meeting at 7pm in the Kellogg Room at the Troutdale Policing Community Center. \nThis meeting has been cancelled. 
URL:https://westcolumbiagorgechamber.com/event/board-of-directors-meeting-17/
LOCATION:The Kellogg Room at Troutdale Policing Community Center\, 234 SW Kendall Ave\, Troutdale\, OR\, 97060\, United States
CATEGORIES:Board of Directors Meetings,Chamber Meetings
END:VEVENT
BEGIN:VEVENT
DTSTART;TZID=America/Los_Angeles:20180712T190000
DTEND;TZID=America/Los_Angeles:20180712T210000
DTSTAMP:20260425T051137
CREATED:20180515T194152Z
LAST-MODIFIED:20180515T194152Z
UID:8858-1531422000-1531429200@westcolumbiagorgechamber.com
SUMMARY:Board of Directors Meeting-this meeting has been cancelled
DESCRIPTION:The Board of Directors will be meeting at 7pm in the Kellogg Room at the Troutdale Policing Community Center. \nThis meeting has been cancelled. 
URL:https://westcolumbiagorgechamber.com/event/board-of-directors-meeting-17-2/
LOCATION:The Kellogg Room at Troutdale Policing Community Center\, 234 SW Kendall Ave\, Troutdale\, OR\, 97060\, United States
CATEGORIES:Board of Directors Meetings,Chamber Meetings
END:VEVENT
BEGIN:VEVENT
DTSTART;TZID=America/Los_Angeles:20180712T190000
DTEND;TZID=America/Los_Angeles:20180712T210000
DTSTAMP:20260425T051137
CREATED:20180515T194152Z
LAST-MODIFIED:20180515T194152Z
UID:9656-1531422000-1531429200@westcolumbiagorgechamber.com
SUMMARY:Board of Directors Meeting-this meeting has been cancelled
DESCRIPTION:The Board of Directors will be meeting at 7pm in the Kellogg Room at the Troutdale Policing Community Center. \nThis meeting has been cancelled. 
URL:https://westcolumbiagorgechamber.com/event/board-of-directors-meeting-17-4/
LOCATION:The Kellogg Room at Troutdale Policing Community Center\, 234 SW Kendall Ave\, Troutdale\, OR\, 97060\, United States
CATEGORIES:Board of Directors Meetings,Chamber Meetings
END:VEVENT
BEGIN:VEVENT
DTSTART;TZID=America/Los_Angeles:20180809T190000
DTEND;TZID=America/Los_Angeles:20180809T210000
DTSTAMP:20260425T051137
CREATED:20180515T194316Z
LAST-MODIFIED:20180515T194316Z
UID:8900-1533841200-1533848400@westcolumbiagorgechamber.com
SUMMARY:Board of Directors Meeting
DESCRIPTION:The Board of Directors will be meeting at 7pm in the Kellogg Room at the Troutdale Policing Community Center.
URL:https://westcolumbiagorgechamber.com/event/board-of-directors-meeting-18-3/
LOCATION:The Kellogg Room at Troutdale Policing Community Center\, 234 SW Kendall Ave\, Troutdale\, OR\, 97060\, United States
CATEGORIES:Board of Directors Meetings,Chamber Meetings
END:VEVENT
BEGIN:VEVENT
DTSTART;TZID=America/Los_Angeles:20180809T190000
DTEND;TZID=America/Los_Angeles:20180809T210000
DTSTAMP:20260425T051137
CREATED:20180515T194316Z
LAST-MODIFIED:20180515T194316Z
UID:5613-1533841200-1533848400@westcolumbiagorgechamber.com
SUMMARY:Board of Directors Meeting
DESCRIPTION:The Board of Directors will be meeting at 7pm in the Kellogg Room at the Troutdale Policing Community Center.
URL:https://westcolumbiagorgechamber.com/event/board-of-directors-meeting-18/
LOCATION:The Kellogg Room at Troutdale Policing Community Center\, 234 SW Kendall Ave\, Troutdale\, OR\, 97060\, United States
CATEGORIES:Board of Directors Meetings,Chamber Meetings
END:VEVENT
BEGIN:VEVENT
DTSTART;TZID=America/Los_Angeles:20180809T190000
DTEND;TZID=America/Los_Angeles:20180809T210000
DTSTAMP:20260425T051137
CREATED:20180515T194316Z
LAST-MODIFIED:20180515T194316Z
UID:8860-1533841200-1533848400@westcolumbiagorgechamber.com
SUMMARY:Board of Directors Meeting
DESCRIPTION:The Board of Directors will be meeting at 7pm in the Kellogg Room at the Troutdale Policing Community Center.
URL:https://westcolumbiagorgechamber.com/event/board-of-directors-meeting-18-2/
LOCATION:The Kellogg Room at Troutdale Policing Community Center\, 234 SW Kendall Ave\, Troutdale\, OR\, 97060\, United States
CATEGORIES:Board of Directors Meetings,Chamber Meetings
END:VEVENT
BEGIN:VEVENT
DTSTART;TZID=America/Los_Angeles:20180809T190000
DTEND;TZID=America/Los_Angeles:20180809T210000
DTSTAMP:20260425T051137
CREATED:20180515T194316Z
LAST-MODIFIED:20180515T194316Z
UID:9657-1533841200-1533848400@westcolumbiagorgechamber.com
SUMMARY:Board of Directors Meeting
DESCRIPTION:The Board of Directors will be meeting at 7pm in the Kellogg Room at the Troutdale Policing Community Center.
URL:https://westcolumbiagorgechamber.com/event/board-of-directors-meeting-18-4/
LOCATION:The Kellogg Room at Troutdale Policing Community Center\, 234 SW Kendall Ave\, Troutdale\, OR\, 97060\, United States
CATEGORIES:Board of Directors Meetings,Chamber Meetings
END:VEVENT
BEGIN:VEVENT
DTSTART;TZID=America/Los_Angeles:20180913T180000
DTEND;TZID=America/Los_Angeles:20180913T200000
DTSTAMP:20260425T051137
CREATED:20180515T194540Z
LAST-MODIFIED:20180515T194540Z
UID:8903-1536861600-1536868800@westcolumbiagorgechamber.com
SUMMARY:Board of Directors Meeting
DESCRIPTION:The Board of Directors will be meeting at 6pm in the Kellogg Room at the Troutdale Policing Community Center.
URL:https://westcolumbiagorgechamber.com/event/board-of-directors-meeting-19-3/
LOCATION:The Kellogg Room at Troutdale Policing Community Center\, 234 SW Kendall Ave\, Troutdale\, OR\, 97060\, United States
CATEGORIES:Board of Directors Meetings,Chamber Meetings
END:VEVENT
BEGIN:VEVENT
DTSTART;TZID=America/Los_Angeles:20180913T180000
DTEND;TZID=America/Los_Angeles:20180913T200000
DTSTAMP:20260425T051137
CREATED:20180515T194540Z
LAST-MODIFIED:20180515T194540Z
UID:5615-1536861600-1536868800@westcolumbiagorgechamber.com
SUMMARY:Board of Directors Meeting
DESCRIPTION:The Board of Directors will be meeting at 6pm in the Kellogg Room at the Troutdale Policing Community Center.
URL:https://westcolumbiagorgechamber.com/event/board-of-directors-meeting-19/
LOCATION:The Kellogg Room at Troutdale Policing Community Center\, 234 SW Kendall Ave\, Troutdale\, OR\, 97060\, United States
CATEGORIES:Board of Directors Meetings,Chamber Meetings
END:VEVENT
BEGIN:VEVENT
DTSTART;TZID=America/Los_Angeles:20180913T180000
DTEND;TZID=America/Los_Angeles:20180913T200000
DTSTAMP:20260425T051137
CREATED:20180515T194540Z
LAST-MODIFIED:20180515T194540Z
UID:8864-1536861600-1536868800@westcolumbiagorgechamber.com
SUMMARY:Board of Directors Meeting
DESCRIPTION:The Board of Directors will be meeting at 6pm in the Kellogg Room at the Troutdale Policing Community Center.
URL:https://westcolumbiagorgechamber.com/event/board-of-directors-meeting-19-2/
LOCATION:The Kellogg Room at Troutdale Policing Community Center\, 234 SW Kendall Ave\, Troutdale\, OR\, 97060\, United States
CATEGORIES:Board of Directors Meetings,Chamber Meetings
END:VEVENT
BEGIN:VEVENT
DTSTART;TZID=America/Los_Angeles:20180913T180000
DTEND;TZID=America/Los_Angeles:20180913T200000
DTSTAMP:20260425T051137
CREATED:20180515T194540Z
LAST-MODIFIED:20180515T194540Z
UID:9658-1536861600-1536868800@westcolumbiagorgechamber.com
SUMMARY:Board of Directors Meeting
DESCRIPTION:The Board of Directors will be meeting at 6pm in the Kellogg Room at the Troutdale Policing Community Center.
URL:https://westcolumbiagorgechamber.com/event/board-of-directors-meeting-19-4/
LOCATION:The Kellogg Room at Troutdale Policing Community Center\, 234 SW Kendall Ave\, Troutdale\, OR\, 97060\, United States
CATEGORIES:Board of Directors Meetings,Chamber Meetings
END:VEVENT
BEGIN:VEVENT
DTSTART;TZID=America/Los_Angeles:20181011T180000
DTEND;TZID=America/Los_Angeles:20181011T200000
DTSTAMP:20260425T051137
CREATED:20180515T194726Z
LAST-MODIFIED:20180515T194726Z
UID:8867-1539280800-1539288000@westcolumbiagorgechamber.com
SUMMARY:Board of Directors Meeting
DESCRIPTION:The Board of Directors will be meeting at 6pm in the Kellogg Room at the Troutdale Policing Community Center.
URL:https://westcolumbiagorgechamber.com/event/board-of-directors-meeting-20-2/
LOCATION:The Kellogg Room at Troutdale Policing Community Center\, 234 SW Kendall Ave\, Troutdale\, OR\, 97060\, United States
CATEGORIES:Board of Directors Meetings,Chamber Meetings
END:VEVENT
BEGIN:VEVENT
DTSTART;TZID=America/Los_Angeles:20181011T180000
DTEND;TZID=America/Los_Angeles:20181011T200000
DTSTAMP:20260425T051137
CREATED:20180515T194726Z
LAST-MODIFIED:20180515T194726Z
UID:9659-1539280800-1539288000@westcolumbiagorgechamber.com
SUMMARY:Board of Directors Meeting
DESCRIPTION:The Board of Directors will be meeting at 6pm in the Kellogg Room at the Troutdale Policing Community Center.
URL:https://westcolumbiagorgechamber.com/event/board-of-directors-meeting-20-4/
LOCATION:The Kellogg Room at Troutdale Policing Community Center\, 234 SW Kendall Ave\, Troutdale\, OR\, 97060\, United States
CATEGORIES:Board of Directors Meetings,Chamber Meetings
END:VEVENT
BEGIN:VEVENT
DTSTART;TZID=America/Los_Angeles:20181011T180000
DTEND;TZID=America/Los_Angeles:20181011T200000
DTSTAMP:20260425T051137
CREATED:20180515T194726Z
LAST-MODIFIED:20180515T194726Z
UID:8906-1539280800-1539288000@westcolumbiagorgechamber.com
SUMMARY:Board of Directors Meeting
DESCRIPTION:The Board of Directors will be meeting at 6pm in the Kellogg Room at the Troutdale Policing Community Center.
URL:https://westcolumbiagorgechamber.com/event/board-of-directors-meeting-20-3/
LOCATION:The Kellogg Room at Troutdale Policing Community Center\, 234 SW Kendall Ave\, Troutdale\, OR\, 97060\, United States
CATEGORIES:Board of Directors Meetings,Chamber Meetings
END:VEVENT
BEGIN:VEVENT
DTSTART;TZID=America/Los_Angeles:20181011T180000
DTEND;TZID=America/Los_Angeles:20181011T200000
DTSTAMP:20260425T051137
CREATED:20180515T194726Z
LAST-MODIFIED:20180515T194726Z
UID:5617-1539280800-1539288000@westcolumbiagorgechamber.com
SUMMARY:Board of Directors Meeting
DESCRIPTION:The Board of Directors will be meeting at 6pm in the Kellogg Room at the Troutdale Policing Community Center.
URL:https://westcolumbiagorgechamber.com/event/board-of-directors-meeting-20/
LOCATION:The Kellogg Room at Troutdale Policing Community Center\, 234 SW Kendall Ave\, Troutdale\, OR\, 97060\, United States
CATEGORIES:Board of Directors Meetings,Chamber Meetings
END:VEVENT
BEGIN:VEVENT
DTSTART;TZID=America/Los_Angeles:20181108T180000
DTEND;TZID=America/Los_Angeles:20181108T200000
DTSTAMP:20260425T051137
CREATED:20180515T200016Z
LAST-MODIFIED:20180515T200016Z
UID:5619-1541700000-1541707200@westcolumbiagorgechamber.com
SUMMARY:Board of Directors Meeting
DESCRIPTION:The Board of Directors will be meeting at 6pm in the Kellogg Room at the Troutdale Policing Community Center.
URL:https://westcolumbiagorgechamber.com/event/board-of-directors-meeting-21/
LOCATION:The Kellogg Room at Troutdale Policing Community Center\, 234 SW Kendall Ave\, Troutdale\, OR\, 97060\, United States
CATEGORIES:Board of Directors Meetings,Chamber Meetings
END:VEVENT
BEGIN:VEVENT
DTSTART;TZID=America/Los_Angeles:20181108T180000
DTEND;TZID=America/Los_Angeles:20181108T200000
DTSTAMP:20260425T051137
CREATED:20180515T200016Z
LAST-MODIFIED:20180515T200016Z
UID:8870-1541700000-1541707200@westcolumbiagorgechamber.com
SUMMARY:Board of Directors Meeting
DESCRIPTION:The Board of Directors will be meeting at 6pm in the Kellogg Room at the Troutdale Policing Community Center.
URL:https://westcolumbiagorgechamber.com/event/board-of-directors-meeting-21-2/
LOCATION:The Kellogg Room at Troutdale Policing Community Center\, 234 SW Kendall Ave\, Troutdale\, OR\, 97060\, United States
CATEGORIES:Board of Directors Meetings,Chamber Meetings
END:VEVENT
BEGIN:VEVENT
DTSTART;TZID=America/Los_Angeles:20181108T180000
DTEND;TZID=America/Los_Angeles:20181108T200000
DTSTAMP:20260425T051137
CREATED:20180515T200016Z
LAST-MODIFIED:20180515T200016Z
UID:9660-1541700000-1541707200@westcolumbiagorgechamber.com
SUMMARY:Board of Directors Meeting
DESCRIPTION:The Board of Directors will be meeting at 6pm in the Kellogg Room at the Troutdale Policing Community Center.
URL:https://westcolumbiagorgechamber.com/event/board-of-directors-meeting-21-4/
LOCATION:The Kellogg Room at Troutdale Policing Community Center\, 234 SW Kendall Ave\, Troutdale\, OR\, 97060\, United States
CATEGORIES:Board of Directors Meetings,Chamber Meetings
END:VEVENT
BEGIN:VEVENT
DTSTART;TZID=America/Los_Angeles:20181108T180000
DTEND;TZID=America/Los_Angeles:20181108T200000
DTSTAMP:20260425T051137
CREATED:20180515T200016Z
LAST-MODIFIED:20180515T200016Z
UID:8909-1541700000-1541707200@westcolumbiagorgechamber.com
SUMMARY:Board of Directors Meeting
DESCRIPTION:The Board of Directors will be meeting at 6pm in the Kellogg Room at the Troutdale Policing Community Center.
URL:https://westcolumbiagorgechamber.com/event/board-of-directors-meeting-21-3/
LOCATION:The Kellogg Room at Troutdale Policing Community Center\, 234 SW Kendall Ave\, Troutdale\, OR\, 97060\, United States
CATEGORIES:Board of Directors Meetings,Chamber Meetings
END:VEVENT
BEGIN:VEVENT
DTSTART;TZID=America/Los_Angeles:20181213T180000
DTEND;TZID=America/Los_Angeles:20181213T200000
DTSTAMP:20260425T051137
CREATED:20180515T200128Z
LAST-MODIFIED:20180515T200128Z
UID:5621-1544724000-1544731200@westcolumbiagorgechamber.com
SUMMARY:Board of Directors Meeting
DESCRIPTION:The Board of Directors will be meeting at 6pm in the Kellogg Room at the Troutdale Policing Community Center.
URL:https://westcolumbiagorgechamber.com/event/board-of-directors-meeting-22/
LOCATION:The Kellogg Room at Troutdale Policing Community Center\, 234 SW Kendall Ave\, Troutdale\, OR\, 97060\, United States
CATEGORIES:Board of Directors Meetings,Chamber Meetings
END:VEVENT
BEGIN:VEVENT
DTSTART;TZID=America/Los_Angeles:20181213T180000
DTEND;TZID=America/Los_Angeles:20181213T200000
DTSTAMP:20260425T051137
CREATED:20180515T200128Z
LAST-MODIFIED:20180515T200128Z
UID:8873-1544724000-1544731200@westcolumbiagorgechamber.com
SUMMARY:Board of Directors Meeting
DESCRIPTION:The Board of Directors will be meeting at 6pm in the Kellogg Room at the Troutdale Policing Community Center.
URL:https://westcolumbiagorgechamber.com/event/board-of-directors-meeting-22-2/
LOCATION:The Kellogg Room at Troutdale Policing Community Center\, 234 SW Kendall Ave\, Troutdale\, OR\, 97060\, United States
CATEGORIES:Board of Directors Meetings,Chamber Meetings
END:VEVENT
END:VCALENDAR