BEGIN:VCALENDAR
VERSION:2.0
PRODID:-//West Columbia Gorge Chamber of Commerce - ECPv6.15.20//NONSGML v1.0//EN
CALSCALE:GREGORIAN
METHOD:PUBLISH
X-WR-CALNAME:West Columbia Gorge Chamber of Commerce
X-ORIGINAL-URL:https://westcolumbiagorgechamber.com
X-WR-CALDESC:Events for West Columbia Gorge Chamber of Commerce
REFRESH-INTERVAL;VALUE=DURATION:PT1H
X-Robots-Tag:noindex
X-PUBLISHED-TTL:PT1H
BEGIN:VTIMEZONE
TZID:America/Los_Angeles
BEGIN:DAYLIGHT
TZOFFSETFROM:-0800
TZOFFSETTO:-0700
TZNAME:PDT
DTSTART:20210314T100000
END:DAYLIGHT
BEGIN:STANDARD
TZOFFSETFROM:-0700
TZOFFSETTO:-0800
TZNAME:PST
DTSTART:20211107T090000
END:STANDARD
BEGIN:DAYLIGHT
TZOFFSETFROM:-0800
TZOFFSETTO:-0700
TZNAME:PDT
DTSTART:20220313T100000
END:DAYLIGHT
BEGIN:STANDARD
TZOFFSETFROM:-0700
TZOFFSETTO:-0800
TZNAME:PST
DTSTART:20221106T090000
END:STANDARD
BEGIN:DAYLIGHT
TZOFFSETFROM:-0800
TZOFFSETTO:-0700
TZNAME:PDT
DTSTART:20230312T100000
END:DAYLIGHT
BEGIN:STANDARD
TZOFFSETFROM:-0700
TZOFFSETTO:-0800
TZNAME:PST
DTSTART:20231105T090000
END:STANDARD
END:VTIMEZONE
BEGIN:VEVENT
DTSTART;TZID=America/Los_Angeles:20220921T110000
DTEND;TZID=America/Los_Angeles:20220921T123000
DTSTAMP:20260420T120947
CREATED:20220908T050957Z
LAST-MODIFIED:20220908T050957Z
UID:10101-1663758000-1663763400@westcolumbiagorgechamber.com
SUMMARY:Board meeting September 21st
DESCRIPTION:The monthly board meeting of the West Columbia Gorge Chamber of Commerce has been scheduled for September 21st from 6 to 7:30pm at the Bateman Carroll Funeral Home conference room.  Address is 520 W Powell Blvd Gresham\, OR 97030 \n  \nZoom link for people who cannot attend in person: \nhttps://us02web.zoom.us/meeting/81681213465#:~:text=https%3A//us02web.zoom.us/j/81681213465%3Fpwd%3DVlBuYTJiNC9La21MRzkzY0tHYVBUdz09
URL:https://westcolumbiagorgechamber.com/event/board-meeting-september-21st/
LOCATION:West Columbia Gorge Chamber of Commerce\, P. O Box 245\, Troutdale\, 97060\, United States
CATEGORIES:Board of Directors Meetings
END:VEVENT
END:VCALENDAR