BEGIN:VCALENDAR
VERSION:2.0
PRODID:-//West Columbia Gorge Chamber of Commerce - ECPv6.15.20//NONSGML v1.0//EN
CALSCALE:GREGORIAN
METHOD:PUBLISH
X-ORIGINAL-URL:https://westcolumbiagorgechamber.com
X-WR-CALDESC:Events for West Columbia Gorge Chamber of Commerce
REFRESH-INTERVAL;VALUE=DURATION:PT1H
X-Robots-Tag:noindex
X-PUBLISHED-TTL:PT1H
BEGIN:VTIMEZONE
TZID:America/Los_Angeles
BEGIN:DAYLIGHT
TZOFFSETFROM:-0800
TZOFFSETTO:-0700
TZNAME:PDT
DTSTART:20220313T100000
END:DAYLIGHT
BEGIN:STANDARD
TZOFFSETFROM:-0700
TZOFFSETTO:-0800
TZNAME:PST
DTSTART:20221106T090000
END:STANDARD
BEGIN:DAYLIGHT
TZOFFSETFROM:-0800
TZOFFSETTO:-0700
TZNAME:PDT
DTSTART:20230312T100000
END:DAYLIGHT
BEGIN:STANDARD
TZOFFSETFROM:-0700
TZOFFSETTO:-0800
TZNAME:PST
DTSTART:20231105T090000
END:STANDARD
BEGIN:DAYLIGHT
TZOFFSETFROM:-0800
TZOFFSETTO:-0700
TZNAME:PDT
DTSTART:20240310T100000
END:DAYLIGHT
BEGIN:STANDARD
TZOFFSETFROM:-0700
TZOFFSETTO:-0800
TZNAME:PST
DTSTART:20241103T090000
END:STANDARD
END:VTIMEZONE
BEGIN:VEVENT
DTSTART;TZID=America/Los_Angeles:20230522T110000
DTEND;TZID=America/Los_Angeles:20230522T123000
DTSTAMP:20260419T233545
CREATED:20230518T082917Z
LAST-MODIFIED:20230518T082917Z
UID:10245-1684753200-1684758600@westcolumbiagorgechamber.com
SUMMARY:Monthly board meeting rescheduled on zoom
DESCRIPTION:Hello members and board members. This month’s board meeting was rescheduled to Monday May 22nd at 6pm \nPlease note this and the zoom link \n  \nGeoff Kenway is inviting you to a scheduled Zoom meeting. \nTopic: Board meeting\nTime: May 22\, 2023 06:00 PM Pacific Time (US and Canada) \nJoin Zoom Meeting\nhttps://us02web.zoom.us/j/81278972461?pwd=Q3lSS2tQSXU1T3hZVkI1UDdhMmJmZz09 \nMeeting ID: 812 7897 2461\nPasscode: 981882\nOne tap mobile\n+17193594580\,\,81278972461#\,\,\,\,*981882# US\n+12532050468\,\,81278972461#\,\,\,\,*981882# US \nDial by your location\n+1 719 359 4580 US\n+1 253 205 0468 US\n+1 253 215 8782 US (Tacoma)\n+1 346 248 7799 US (Houston)\n+1 669 444 9171 US\n+1 669 900 6833 US (San Jose)\n+1 507 473 4847 US\n+1 564 217 2000 US\n+1 646 931 3860 US\n+1 689 278 1000 US\n+1 929 436 2866 US (New York)\n+1 301 715 8592 US (Washington DC)\n+1 305 224 1968 US\n+1 309 205 3325 US\n+1 312 626 6799 US (Chicago)\n+1 360 209 5623 US\n+1 386 347 5053 US\nMeeting ID: 812 7897 2461\nPasscode: 981882\nFind your local number: https://us02web.zoom.us/u/kjeehZ686 \n 
URL:https://westcolumbiagorgechamber.com/event/monthly-board-meeting-rescheduled-on-zoom/
LOCATION:West Columbia Gorge Chamber of Commerce\, P. O Box 245\, Troutdale\, 97060\, United States
CATEGORIES:Board of Directors Meetings
ORGANIZER;CN="West Columbia Gorge Chamber of Commerce":MAILTO:info@westcolumbiagorgechamber.com
END:VEVENT
END:VCALENDAR